BEGIN:VCALENDAR
VERSION:2.0
PRODID:-//Masthope Mountain Community - ECPv6.15.20//NONSGML v1.0//EN
CALSCALE:GREGORIAN
METHOD:PUBLISH
X-WR-CALNAME:Masthope Mountain Community
X-ORIGINAL-URL:https://masthope.org
X-WR-CALDESC:Events for Masthope Mountain Community
REFRESH-INTERVAL;VALUE=DURATION:PT1H
X-Robots-Tag:noindex
X-PUBLISHED-TTL:PT1H
BEGIN:VTIMEZONE
TZID:America/New_York
BEGIN:DAYLIGHT
TZOFFSETFROM:-0500
TZOFFSETTO:-0400
TZNAME:EDT
DTSTART:20250309T070000
END:DAYLIGHT
BEGIN:STANDARD
TZOFFSETFROM:-0400
TZOFFSETTO:-0500
TZNAME:EST
DTSTART:20251102T060000
END:STANDARD
BEGIN:DAYLIGHT
TZOFFSETFROM:-0500
TZOFFSETTO:-0400
TZNAME:EDT
DTSTART:20260308T070000
END:DAYLIGHT
BEGIN:STANDARD
TZOFFSETFROM:-0400
TZOFFSETTO:-0500
TZNAME:EST
DTSTART:20261101T060000
END:STANDARD
BEGIN:DAYLIGHT
TZOFFSETFROM:-0500
TZOFFSETTO:-0400
TZNAME:EDT
DTSTART:20270314T070000
END:DAYLIGHT
BEGIN:STANDARD
TZOFFSETFROM:-0400
TZOFFSETTO:-0500
TZNAME:EST
DTSTART:20271107T060000
END:STANDARD
END:VTIMEZONE
BEGIN:VEVENT
DTSTART;TZID=America/New_York:20260620T083000
DTEND;TZID=America/New_York:20260620T113000
DTSTAMP:20260420T021450
CREATED:20250729T184454Z
LAST-MODIFIED:20250818T163719Z
UID:10008148-1781944200-1781955000@masthope.org
SUMMARY:Board of Directors Meeting
DESCRIPTION:Meeting information and call in credentials can be found within your Property Owner account under Documents & FAQs > Documents > Board Meetings.
URL:https://masthope.org/event/board-of-directors-meeting-41/2026-06-20/
LOCATION:Property Owners Lounge\, 196 Karl Hope Blvd\, Lackawaxen\, PA\, 18435\, United States
CATEGORIES:Meetings
ATTACH;FMTTYPE=image/jpeg:https://masthope.org/wp-content/uploads/sites/1856/2022/03/Picture18.jpg
END:VEVENT
BEGIN:VEVENT
DTSTART;TZID=America/New_York:20260620T100000
DTEND;TZID=America/New_York:20260620T110000
DTSTAMP:20260420T021450
CREATED:20260418T211531Z
LAST-MODIFIED:20260418T211531Z
UID:10009158-1781949600-1781953200@masthope.org
SUMMARY:Skip's Fishing Derby
DESCRIPTION:Children 12 years and younger can join us for Skip’s Fishing Derby at Remembrance Pond! Pre-registration is required. Please log into Frontsteps under “Forms.”
URL:https://masthope.org/event/skips-fishing-derby-4/
LOCATION:Remembrance Pond\, Lackawaxen\, PA\, 18435\, United States
CATEGORIES:Activities & Traditions
ATTACH;FMTTYPE=image/jpeg:https://masthope.org/wp-content/uploads/sites/1856/2022/04/Slide1.jpg
END:VEVENT
BEGIN:VEVENT
DTSTART;TZID=America/New_York:20260620T180000
DTEND;TZID=America/New_York:20260620T220000
DTSTAMP:20260420T021450
CREATED:20260415T194314Z
LAST-MODIFIED:20260415T194314Z
UID:10009146-1781978400-1781992800@masthope.org
SUMMARY:Live Music - Cold Sweat
DESCRIPTION:Enjoy live music on the Tiki Bar Patio! If rain\, in The Summit Restaurant. (Live music performances are subject to change.)
URL:https://masthope.org/event/live-music-cold-sweat-27/
LOCATION:The Tiki Bar at Masthope\, 196 Karl Hope Boulevard\, Lackawaxen\, PA\, 18435
CATEGORIES:Live Music,Summit Restaurant
ATTACH;FMTTYPE=image/png:https://masthope.org/wp-content/uploads/sites/1856/2022/05/Picture2.png
END:VEVENT
END:VCALENDAR