BEGIN:VCALENDAR
VERSION:2.0
PRODID:-//Masthope Mountain Community - ECPv6.15.20//NONSGML v1.0//EN
CALSCALE:GREGORIAN
METHOD:PUBLISH
X-WR-CALNAME:Masthope Mountain Community
X-ORIGINAL-URL:https://masthope.org
X-WR-CALDESC:Events for Masthope Mountain Community
REFRESH-INTERVAL;VALUE=DURATION:PT1H
X-Robots-Tag:noindex
X-PUBLISHED-TTL:PT1H
BEGIN:VTIMEZONE
TZID:America/New_York
BEGIN:DAYLIGHT
TZOFFSETFROM:-0500
TZOFFSETTO:-0400
TZNAME:EDT
DTSTART:20240310T070000
END:DAYLIGHT
BEGIN:STANDARD
TZOFFSETFROM:-0400
TZOFFSETTO:-0500
TZNAME:EST
DTSTART:20241103T060000
END:STANDARD
BEGIN:DAYLIGHT
TZOFFSETFROM:-0500
TZOFFSETTO:-0400
TZNAME:EDT
DTSTART:20250309T070000
END:DAYLIGHT
BEGIN:STANDARD
TZOFFSETFROM:-0400
TZOFFSETTO:-0500
TZNAME:EST
DTSTART:20251102T060000
END:STANDARD
BEGIN:DAYLIGHT
TZOFFSETFROM:-0500
TZOFFSETTO:-0400
TZNAME:EDT
DTSTART:20260308T070000
END:DAYLIGHT
BEGIN:STANDARD
TZOFFSETFROM:-0400
TZOFFSETTO:-0500
TZNAME:EST
DTSTART:20261101T060000
END:STANDARD
END:VTIMEZONE
BEGIN:VEVENT
DTSTART;TZID=America/New_York:20250614T100000
DTEND;TZID=America/New_York:20250614T140000
DTSTAMP:20260423T155013
CREATED:20250504T230907Z
LAST-MODIFIED:20250504T230907Z
UID:10007623-1749895200-1749909600@masthope.org
SUMMARY:Farmers' Market
DESCRIPTION:Located at the summit of Masthope Mountain outside the lodge. Setup weekly on Saturdays through Labor Day Weekend. Enjoy fresh fruits and vegetables\, produce\, local homemade crafts\, jams\, jellies\, candles\, honey and maple products.
URL:https://masthope.org/event/farmers-market-28/2025-06-14/
LOCATION:Mountain Top\, 196 Karl Hope Blvd\, Lackawaxen\, PA\, 18435\, United States
CATEGORIES:Activities & Traditions,Local
ATTACH;FMTTYPE=image/jpeg:https://masthope.org/wp-content/uploads/sites/1856/2022/04/anne-preble-SAPvKo12dQE-unsplash-scaled-1.jpg
END:VEVENT
BEGIN:VEVENT
DTSTART;TZID=America/New_York:20250614T190000
DTEND;TZID=America/New_York:20250614T213000
DTSTAMP:20260423T155013
CREATED:20250527T145231Z
LAST-MODIFIED:20250527T145343Z
UID:10007707-1749927600-1749936600@masthope.org
SUMMARY:Bingo
DESCRIPTION:Join us for our traditional Bingo nights! Bingo cards go on sale at 7:00pm.
URL:https://masthope.org/event/bingo-40/2025-06-14/
LOCATION:The Lodge at Masthope\, 196 Karl Hope Blvd\, Lackawaxen\, PA\, 18435\, United States
CATEGORIES:Activities & Traditions
ATTACH;FMTTYPE=image/jpeg:https://masthope.org/wp-content/uploads/sites/1856/2022/04/120-1202522_bingo-free.jpg
END:VEVENT
END:VCALENDAR