BEGIN:VCALENDAR
VERSION:2.0
PRODID:-//Masthope Mountain Community - ECPv6.15.20//NONSGML v1.0//EN
CALSCALE:GREGORIAN
METHOD:PUBLISH
X-ORIGINAL-URL:https://masthope.org
X-WR-CALDESC:Events for Masthope Mountain Community
REFRESH-INTERVAL;VALUE=DURATION:PT1H
X-Robots-Tag:noindex
X-PUBLISHED-TTL:PT1H
BEGIN:VTIMEZONE
TZID:America/New_York
BEGIN:DAYLIGHT
TZOFFSETFROM:-0500
TZOFFSETTO:-0400
TZNAME:EDT
DTSTART:20250309T070000
END:DAYLIGHT
BEGIN:STANDARD
TZOFFSETFROM:-0400
TZOFFSETTO:-0500
TZNAME:EST
DTSTART:20251102T060000
END:STANDARD
BEGIN:DAYLIGHT
TZOFFSETFROM:-0500
TZOFFSETTO:-0400
TZNAME:EDT
DTSTART:20260308T070000
END:DAYLIGHT
BEGIN:STANDARD
TZOFFSETFROM:-0400
TZOFFSETTO:-0500
TZNAME:EST
DTSTART:20261101T060000
END:STANDARD
BEGIN:DAYLIGHT
TZOFFSETFROM:-0500
TZOFFSETTO:-0400
TZNAME:EDT
DTSTART:20270314T070000
END:DAYLIGHT
BEGIN:STANDARD
TZOFFSETFROM:-0400
TZOFFSETTO:-0500
TZNAME:EST
DTSTART:20271107T060000
END:STANDARD
END:VTIMEZONE
BEGIN:VEVENT
DTSTART;TZID=America/New_York:20260822T190000
DTEND;TZID=America/New_York:20260823T090000
DTSTAMP:20260421T080130
CREATED:20260415T183123Z
LAST-MODIFIED:20260415T183123Z
UID:10009101-1787425200-1787475600@masthope.org
SUMMARY:Mountain Campout
DESCRIPTION:We’re back on the mountaintop! Our annual Mountain Campout is fun for all ages – bring your tent and get ready for a night of fun and s’mores. Tent setup at 7pm Saturday and tent breakdown by 9am Sunday. \nSignups will be available soon. \n 
URL:https://masthope.org/event/mountain-campout-4/
LOCATION:Mountain Top\, 196 Karl Hope Blvd\, Lackawaxen\, PA\, 18435\, United States
CATEGORIES:Activities & Traditions,Social
ATTACH;FMTTYPE=image/jpeg:https://masthope.org/wp-content/uploads/sites/1856/2022/07/8CFA37D4-B2B0-6E48-8D390D513C5E2394-large.jpg
END:VEVENT
BEGIN:VEVENT
DTSTART;TZID=America/New_York:20260823T100000
DTEND;TZID=America/New_York:20260823T140000
DTSTAMP:20260421T080130
CREATED:20260323T173538Z
LAST-MODIFIED:20260323T173538Z
UID:10009068-1787479200-1787493600@masthope.org
SUMMARY:Farmers' Market
DESCRIPTION:Located at the summit of Masthope Mountain outside the lodge. Setup weekly on Sundays through Labor Day Weekend. Enjoy fresh fruits and vegetables\, produce\, local homemade crafts\, jams\, jellies\, candles\, honey and maple products.
URL:https://masthope.org/event/farmers-market-29/2026-08-23/
LOCATION:Mountain Top\, 196 Karl Hope Blvd\, Lackawaxen\, PA\, 18435\, United States
CATEGORIES:Activities & Traditions,Local
ATTACH;FMTTYPE=image/jpeg:https://masthope.org/wp-content/uploads/sites/1856/2022/04/anne-preble-SAPvKo12dQE-unsplash-scaled-1.jpg
END:VEVENT
END:VCALENDAR