BEGIN:VCALENDAR
VERSION:2.0
PRODID:-//Masthope Mountain Community - ECPv6.15.20//NONSGML v1.0//EN
CALSCALE:GREGORIAN
METHOD:PUBLISH
X-WR-CALNAME:Masthope Mountain Community
X-ORIGINAL-URL:https://masthope.org
X-WR-CALDESC:Events for Masthope Mountain Community
REFRESH-INTERVAL;VALUE=DURATION:PT1H
X-Robots-Tag:noindex
X-PUBLISHED-TTL:PT1H
BEGIN:VTIMEZONE
TZID:America/New_York
BEGIN:DAYLIGHT
TZOFFSETFROM:-0500
TZOFFSETTO:-0400
TZNAME:EDT
DTSTART:20250309T070000
END:DAYLIGHT
BEGIN:STANDARD
TZOFFSETFROM:-0400
TZOFFSETTO:-0500
TZNAME:EST
DTSTART:20251102T060000
END:STANDARD
BEGIN:DAYLIGHT
TZOFFSETFROM:-0500
TZOFFSETTO:-0400
TZNAME:EDT
DTSTART:20260308T070000
END:DAYLIGHT
BEGIN:STANDARD
TZOFFSETFROM:-0400
TZOFFSETTO:-0500
TZNAME:EST
DTSTART:20261101T060000
END:STANDARD
BEGIN:DAYLIGHT
TZOFFSETFROM:-0500
TZOFFSETTO:-0400
TZNAME:EDT
DTSTART:20270314T070000
END:DAYLIGHT
BEGIN:STANDARD
TZOFFSETFROM:-0400
TZOFFSETTO:-0500
TZNAME:EST
DTSTART:20271107T060000
END:STANDARD
END:VTIMEZONE
BEGIN:VEVENT
DTSTART;VALUE=DATE:20260926
DTEND;VALUE=DATE:20260927
DTSTAMP:20260420T014606
CREATED:20260415T190705Z
LAST-MODIFIED:20260415T190705Z
UID:10009111-1790380800-1790467199@masthope.org
SUMMARY:Murder Mystery Dinner
DESCRIPTION:An unforgettable night of mystery\, suspense\, and intrigue awaits! Join us for a Murder Mystery Dinner where nothing is as it seems and everyone is a suspect. Enjoy a delicious meal while unraveling clues\, uncovering secrets\, and working together to solve the crime before the night is over. \nLimited seating is available. Tables of 10. Buffet style dinner. Time: TBA \nSignup: https://masthope.square.site \n 
URL:https://masthope.org/event/murder-mystery-dinner-4/
LOCATION:The Summit Restaurant\, 196 Karl Hope Blvd\, Lackawaxen\, PA\, 18435
CATEGORIES:Activities & Traditions,Social,Summit Restaurant
ATTACH;FMTTYPE=image/jpeg:https://masthope.org/wp-content/uploads/sites/1856/2023/04/Picture2-1-scaled.jpg
END:VEVENT
BEGIN:VEVENT
DTSTART;VALUE=DATE:20260927
DTEND;VALUE=DATE:20260928
DTSTAMP:20260420T014606
CREATED:20260415T191304Z
LAST-MODIFIED:20260415T191304Z
UID:10009113-1790467200-1790553599@masthope.org
SUMMARY:Apple Picking Trip
DESCRIPTION:Let us handle the driving while you relax and enjoy a perfect afternoon in the orchard with friends and family. \nSave the date. Timing will be announced closer to the event. \nSignup: https://masthope.square.site
URL:https://masthope.org/event/apple-picking-trip/
LOCATION:Mountain Top\, 196 Karl Hope Blvd\, Lackawaxen\, PA\, 18435\, United States
CATEGORIES:Activities & Traditions,Local,Social
ATTACH;FMTTYPE=image/jpeg:https://masthope.org/wp-content/uploads/sites/1856/2026/04/Apples-1-scaled-1.jpeg
END:VEVENT
BEGIN:VEVENT
DTSTART;TZID=America/New_York:20261011T110000
DTEND;TZID=America/New_York:20261011T160000
DTSTAMP:20260420T014606
CREATED:20260323T172912Z
LAST-MODIFIED:20260419T231539Z
UID:10009159-1791716400-1791734400@masthope.org
SUMMARY:Craft Show
DESCRIPTION:Join us for a craft show featuring local vendors! (Open to the Public) – Vendors interested in participating can sign up online: \nVendor Sign Up
URL:https://masthope.org/event/craft-show-11/2026-10-11/
LOCATION:The Lodge at Masthope\, 196 Karl Hope Blvd\, Lackawaxen\, PA\, 18435\, United States
CATEGORIES:Activities & Traditions,Local
ATTACH;FMTTYPE=image/jpeg:https://masthope.org/wp-content/uploads/sites/1856/2022/04/Slide2.jpg
END:VEVENT
BEGIN:VEVENT
DTSTART;TZID=America/New_York:20261011T130000
DTEND;TZID=America/New_York:20261011T170000
DTSTAMP:20260420T014606
CREATED:20260415T191836Z
LAST-MODIFIED:20260415T191836Z
UID:10009115-1791723600-1791738000@masthope.org
SUMMARY:Fall Harvest Festival
DESCRIPTION:Come enjoy an afternoon filled with all of your favorite fall foods and sweets… baked goods\, caramel apples\, popcorn\, cider more! Children receive a complimentary small pumpkin from our pumpkin patch. Stay for arts and crafts and the hayride wagon!
URL:https://masthope.org/event/fall-harvest-festival-2/
LOCATION:The Lodge at Masthope\, 196 Karl Hope Blvd\, Lackawaxen\, PA\, 18435\, United States
CATEGORIES:Activities & Traditions
ATTACH;FMTTYPE=image/png:https://masthope.org/wp-content/uploads/sites/1856/2022/09/Picture3.png
END:VEVENT
BEGIN:VEVENT
DTSTART;TZID=America/New_York:20261030T170000
DTEND;TZID=America/New_York:20261030T210000
DTSTAMP:20260420T014606
CREATED:20260415T192036Z
LAST-MODIFIED:20260415T192036Z
UID:10009118-1793379600-1793394000@masthope.org
SUMMARY:Haunted Trail Walk
DESCRIPTION:It’s Spooky Season! Do you have what it takes to join us on our Haunted Walk? – $5 donation per person. The witches are waiting for you! Meet outside the lodge.
URL:https://masthope.org/event/haunted-trail-walk-6/2026-10-30/
LOCATION:Mountain Top\, 196 Karl Hope Blvd\, Lackawaxen\, PA\, 18435\, United States
CATEGORIES:Activities & Traditions,Social
ATTACH;FMTTYPE=image/jpeg:https://masthope.org/wp-content/uploads/sites/1856/2022/09/Picture4-scaled.jpg
END:VEVENT
BEGIN:VEVENT
DTSTART;TZID=America/New_York:20261031T130000
DTEND;TZID=America/New_York:20261031T150000
DTSTAMP:20260420T014606
CREATED:20260415T190939Z
LAST-MODIFIED:20260415T190939Z
UID:10009112-1793451600-1793458800@masthope.org
SUMMARY:Trunk or Treat
DESCRIPTION:Join us for our annual Trunk or Treat on the mountain. Decorate your vehicle and be sure to bring plenty of candy for our trick or treaters! – Trunk set up at 12pm – Treating begins at 1pm until candy runs out.
URL:https://masthope.org/event/trunk-or-treat-5/
LOCATION:Mountain Top\, 196 Karl Hope Blvd\, Lackawaxen\, PA\, 18435\, United States
CATEGORIES:Activities & Traditions,Social
ATTACH;FMTTYPE=image/jpeg:https://masthope.org/wp-content/uploads/sites/1856/2022/09/Picture6.jpg
END:VEVENT
BEGIN:VEVENT
DTSTART;TZID=America/New_York:20261031T170000
DTEND;TZID=America/New_York:20261031T210000
DTSTAMP:20260420T014606
CREATED:20260415T192036Z
LAST-MODIFIED:20260415T192036Z
UID:10009119-1793466000-1793480400@masthope.org
SUMMARY:Haunted Trail Walk
DESCRIPTION:It’s Spooky Season! Do you have what it takes to join us on our Haunted Walk? – $5 donation per person. The witches are waiting for you! Meet outside the lodge.
URL:https://masthope.org/event/haunted-trail-walk-6/2026-10-31/
LOCATION:Mountain Top\, 196 Karl Hope Blvd\, Lackawaxen\, PA\, 18435\, United States
CATEGORIES:Activities & Traditions,Social
ATTACH;FMTTYPE=image/jpeg:https://masthope.org/wp-content/uploads/sites/1856/2022/09/Picture4-scaled.jpg
END:VEVENT
BEGIN:VEVENT
DTSTART;TZID=America/New_York:20261031T180000
DTEND;TZID=America/New_York:20261101T000000
DTSTAMP:20260420T014606
CREATED:20260415T191714Z
LAST-MODIFIED:20260415T191714Z
UID:10009114-1793469600-1793491200@masthope.org
SUMMARY:Halloween and Costume Parties
DESCRIPTION:Step into our haunted lodge for a night of frightful fun! Prizes for best theme\, scariest\, & most creative/original costumes. \nFamily Halloween Party: 6pm-9pm / Adult Halloween Party: 9pm-12am \nFeaturing music from DJ Flow\, Halloween treats\, and more!
URL:https://masthope.org/event/halloween-and-costume-parties-4/
LOCATION:The Lodge at Masthope\, 196 Karl Hope Blvd\, Lackawaxen\, PA\, 18435\, United States
CATEGORIES:Activities & Traditions,Social,Summit Restaurant
ATTACH;FMTTYPE=image/jpeg:https://masthope.org/wp-content/uploads/sites/1856/2022/09/Presentation1-3.jpg
END:VEVENT
BEGIN:VEVENT
DTSTART;TZID=America/New_York:20261107T120000
DTEND;TZID=America/New_York:20261107T150000
DTSTAMP:20260420T014606
CREATED:20260415T185423Z
LAST-MODIFIED:20260415T185423Z
UID:10009108-1794052800-1794063600@masthope.org
SUMMARY:Annual Chili Cookoff
DESCRIPTION:Bring the heat to our Chili Cook-Off! Think your recipe has what it takes? All chili must be pre-cooked and ready to serve – just bring your best pot\, your setup\, and your secret ingredients. Contestants should arrive by 12:20pm\, and don’t forget – you’re in charge of your own utensils and keeping your chili hot. Feel free to decorate your table and bring the flair! \nDoors open to the public at 1pm – come hungry and cast your vote for People’s Choice\, while our judges decide the “Best Chili” at 2:45pm. \nNo admission fee – please bring a non-perishable food item to support our local food pantry. Get ready for a day full of flavor\, fun\, and friendly competition! \n(Participant sign ups will begin in the fall.)
URL:https://masthope.org/event/annual-chili-cookoff-5/
LOCATION:The Lodge at Masthope\, 196 Karl Hope Blvd\, Lackawaxen\, PA\, 18435\, United States
CATEGORIES:Activities & Traditions,Social
ATTACH;FMTTYPE=image/jpeg:https://masthope.org/wp-content/uploads/sites/1856/2022/09/Presentation1-5.jpg
END:VEVENT
END:VCALENDAR