BEGIN:VCALENDAR
VERSION:2.0
PRODID:-//Masthope Mountain Community - ECPv6.15.20//NONSGML v1.0//EN
CALSCALE:GREGORIAN
METHOD:PUBLISH
X-ORIGINAL-URL:https://masthope.org
X-WR-CALDESC:Events for Masthope Mountain Community
REFRESH-INTERVAL;VALUE=DURATION:PT1H
X-Robots-Tag:noindex
X-PUBLISHED-TTL:PT1H
BEGIN:VTIMEZONE
TZID:America/New_York
BEGIN:DAYLIGHT
TZOFFSETFROM:-0500
TZOFFSETTO:-0400
TZNAME:EDT
DTSTART:20240310T070000
END:DAYLIGHT
BEGIN:STANDARD
TZOFFSETFROM:-0400
TZOFFSETTO:-0500
TZNAME:EST
DTSTART:20241103T060000
END:STANDARD
BEGIN:DAYLIGHT
TZOFFSETFROM:-0500
TZOFFSETTO:-0400
TZNAME:EDT
DTSTART:20250309T070000
END:DAYLIGHT
BEGIN:STANDARD
TZOFFSETFROM:-0400
TZOFFSETTO:-0500
TZNAME:EST
DTSTART:20251102T060000
END:STANDARD
BEGIN:DAYLIGHT
TZOFFSETFROM:-0500
TZOFFSETTO:-0400
TZNAME:EDT
DTSTART:20260308T070000
END:DAYLIGHT
BEGIN:STANDARD
TZOFFSETFROM:-0400
TZOFFSETTO:-0500
TZNAME:EST
DTSTART:20261101T060000
END:STANDARD
END:VTIMEZONE
BEGIN:VEVENT
DTSTART;TZID=America/New_York:20250706T190000
DTEND;TZID=America/New_York:20250706T213000
DTSTAMP:20260420T005428
CREATED:20250527T145231Z
LAST-MODIFIED:20250527T145343Z
UID:10007709-1751828400-1751837400@masthope.org
SUMMARY:Bingo
DESCRIPTION:Join us for our traditional Bingo nights! Bingo cards go on sale at 7:00pm.
URL:https://masthope.org/event/bingo-40/2025-07-06/
LOCATION:The Lodge at Masthope\, 196 Karl Hope Blvd\, Lackawaxen\, PA\, 18435\, United States
CATEGORIES:Activities & Traditions
ATTACH;FMTTYPE=image/jpeg:https://masthope.org/wp-content/uploads/sites/1856/2022/04/120-1202522_bingo-free.jpg
END:VEVENT
BEGIN:VEVENT
DTSTART;TZID=America/New_York:20250707T120000
DTEND;TZID=America/New_York:20250707T163000
DTSTAMP:20260420T005428
CREATED:20250630T184644Z
LAST-MODIFIED:20250630T184644Z
UID:10007770-1751889600-1751905800@masthope.org
SUMMARY:Children’s Activities
DESCRIPTION:Join us for scheduled activities (For ages 6 and up) – Activities are subject to change and some are weather permitting. Meet at the Upper Pool at 12pm. \nActivities are subject to change due to weather
URL:https://masthope.org/event/childrens-activities-4/2025-07-07/
LOCATION:Mountain Top\, 196 Karl Hope Blvd\, Lackawaxen\, PA\, 18435\, United States
CATEGORIES:Activities & Traditions
ATTACH;FMTTYPE=image/jpeg:https://masthope.org/wp-content/uploads/sites/1856/2022/06/200507102104-chalklead.jpg
END:VEVENT
BEGIN:VEVENT
DTSTART;TZID=America/New_York:20250710T120000
DTEND;TZID=America/New_York:20250710T163000
DTSTAMP:20260420T005428
CREATED:20250630T184644Z
LAST-MODIFIED:20250630T184644Z
UID:10007771-1752148800-1752165000@masthope.org
SUMMARY:Children’s Activities
DESCRIPTION:Join us for scheduled activities (For ages 6 and up) – Activities are subject to change and some are weather permitting. Meet at the Upper Pool at 12pm. \nActivities are subject to change due to weather
URL:https://masthope.org/event/childrens-activities-4/2025-07-10/
LOCATION:Mountain Top\, 196 Karl Hope Blvd\, Lackawaxen\, PA\, 18435\, United States
CATEGORIES:Activities & Traditions
ATTACH;FMTTYPE=image/jpeg:https://masthope.org/wp-content/uploads/sites/1856/2022/06/200507102104-chalklead.jpg
END:VEVENT
BEGIN:VEVENT
DTSTART;TZID=America/New_York:20250711T120000
DTEND;TZID=America/New_York:20250711T163000
DTSTAMP:20260420T005428
CREATED:20250630T184644Z
LAST-MODIFIED:20250630T184644Z
UID:10007772-1752235200-1752251400@masthope.org
SUMMARY:Children’s Activities
DESCRIPTION:Join us for scheduled activities (For ages 6 and up) – Activities are subject to change and some are weather permitting. Meet at the Upper Pool at 12pm. \nActivities are subject to change due to weather
URL:https://masthope.org/event/childrens-activities-4/2025-07-11/
LOCATION:Mountain Top\, 196 Karl Hope Blvd\, Lackawaxen\, PA\, 18435\, United States
CATEGORIES:Activities & Traditions
ATTACH;FMTTYPE=image/jpeg:https://masthope.org/wp-content/uploads/sites/1856/2022/06/200507102104-chalklead.jpg
END:VEVENT
BEGIN:VEVENT
DTSTART;TZID=America/New_York:20250712T100000
DTEND;TZID=America/New_York:20250712T140000
DTSTAMP:20260420T005428
CREATED:20250504T230907Z
LAST-MODIFIED:20250504T230907Z
UID:10007627-1752314400-1752328800@masthope.org
SUMMARY:Farmers' Market
DESCRIPTION:Located at the summit of Masthope Mountain outside the lodge. Setup weekly on Saturdays through Labor Day Weekend. Enjoy fresh fruits and vegetables\, produce\, local homemade crafts\, jams\, jellies\, candles\, honey and maple products.
URL:https://masthope.org/event/farmers-market-28/2025-07-12/
LOCATION:Mountain Top\, 196 Karl Hope Blvd\, Lackawaxen\, PA\, 18435\, United States
CATEGORIES:Activities & Traditions,Local
ATTACH;FMTTYPE=image/jpeg:https://masthope.org/wp-content/uploads/sites/1856/2022/04/anne-preble-SAPvKo12dQE-unsplash-scaled-1.jpg
END:VEVENT
BEGIN:VEVENT
DTSTART;TZID=America/New_York:20250712T120000
DTEND;TZID=America/New_York:20250712T163000
DTSTAMP:20260420T005428
CREATED:20250630T184644Z
LAST-MODIFIED:20250630T184644Z
UID:10007773-1752321600-1752337800@masthope.org
SUMMARY:Children’s Activities
DESCRIPTION:Join us for scheduled activities (For ages 6 and up) – Activities are subject to change and some are weather permitting. Meet at the Upper Pool at 12pm. \nActivities are subject to change due to weather
URL:https://masthope.org/event/childrens-activities-4/2025-07-12/
LOCATION:Mountain Top\, 196 Karl Hope Blvd\, Lackawaxen\, PA\, 18435\, United States
CATEGORIES:Activities & Traditions
ATTACH;FMTTYPE=image/jpeg:https://masthope.org/wp-content/uploads/sites/1856/2022/06/200507102104-chalklead.jpg
END:VEVENT
BEGIN:VEVENT
DTSTART;TZID=America/New_York:20250712T200000
DTEND;TZID=America/New_York:20250713T090000
DTSTAMP:20260420T005428
CREATED:20250623T142231Z
LAST-MODIFIED:20250623T142231Z
UID:10007714-1752350400-1752397200@masthope.org
SUMMARY:Beach Campout
DESCRIPTION:Join us for our annual Beach Campout! Setup 8pm on Saturday / Breakdown by 9am Sunday. \nClick here to sign up online.
URL:https://masthope.org/event/beach-campout-4/
LOCATION:Westcolang Lake Waterfront\, 349 Falling Waters Boulevard\, Lackawaxen\, PA\, 18435\, United States
CATEGORIES:Activities & Traditions,Social
ATTACH;FMTTYPE=image/jpeg:https://masthope.org/wp-content/uploads/sites/1856/2022/07/8CFA37D4-B2B0-6E48-8D390D513C5E2394-large.jpg
END:VEVENT
BEGIN:VEVENT
DTSTART;TZID=America/New_York:20250713T120000
DTEND;TZID=America/New_York:20250713T163000
DTSTAMP:20260420T005428
CREATED:20250630T184644Z
LAST-MODIFIED:20250630T184644Z
UID:10007774-1752408000-1752424200@masthope.org
SUMMARY:Children’s Activities
DESCRIPTION:Join us for scheduled activities (For ages 6 and up) – Activities are subject to change and some are weather permitting. Meet at the Upper Pool at 12pm. \nActivities are subject to change due to weather
URL:https://masthope.org/event/childrens-activities-4/2025-07-13/
LOCATION:Mountain Top\, 196 Karl Hope Blvd\, Lackawaxen\, PA\, 18435\, United States
CATEGORIES:Activities & Traditions
ATTACH;FMTTYPE=image/jpeg:https://masthope.org/wp-content/uploads/sites/1856/2022/06/200507102104-chalklead.jpg
END:VEVENT
BEGIN:VEVENT
DTSTART;TZID=America/New_York:20250714T120000
DTEND;TZID=America/New_York:20250714T163000
DTSTAMP:20260420T005428
CREATED:20250630T184644Z
LAST-MODIFIED:20250630T184644Z
UID:10007775-1752494400-1752510600@masthope.org
SUMMARY:Children’s Activities
DESCRIPTION:Join us for scheduled activities (For ages 6 and up) – Activities are subject to change and some are weather permitting. Meet at the Upper Pool at 12pm. \nActivities are subject to change due to weather
URL:https://masthope.org/event/childrens-activities-4/2025-07-14/
LOCATION:Mountain Top\, 196 Karl Hope Blvd\, Lackawaxen\, PA\, 18435\, United States
CATEGORIES:Activities & Traditions
ATTACH;FMTTYPE=image/jpeg:https://masthope.org/wp-content/uploads/sites/1856/2022/06/200507102104-chalklead.jpg
END:VEVENT
BEGIN:VEVENT
DTSTART;TZID=America/New_York:20250717T120000
DTEND;TZID=America/New_York:20250717T163000
DTSTAMP:20260420T005428
CREATED:20250630T184644Z
LAST-MODIFIED:20250630T184644Z
UID:10007776-1752753600-1752769800@masthope.org
SUMMARY:Children’s Activities
DESCRIPTION:Join us for scheduled activities (For ages 6 and up) – Activities are subject to change and some are weather permitting. Meet at the Upper Pool at 12pm. \nActivities are subject to change due to weather
URL:https://masthope.org/event/childrens-activities-4/2025-07-17/
LOCATION:Mountain Top\, 196 Karl Hope Blvd\, Lackawaxen\, PA\, 18435\, United States
CATEGORIES:Activities & Traditions
ATTACH;FMTTYPE=image/jpeg:https://masthope.org/wp-content/uploads/sites/1856/2022/06/200507102104-chalklead.jpg
END:VEVENT
BEGIN:VEVENT
DTSTART;TZID=America/New_York:20250718T120000
DTEND;TZID=America/New_York:20250718T163000
DTSTAMP:20260420T005428
CREATED:20250630T184644Z
LAST-MODIFIED:20250630T184644Z
UID:10007777-1752840000-1752856200@masthope.org
SUMMARY:Children’s Activities
DESCRIPTION:Join us for scheduled activities (For ages 6 and up) – Activities are subject to change and some are weather permitting. Meet at the Upper Pool at 12pm. \nActivities are subject to change due to weather
URL:https://masthope.org/event/childrens-activities-4/2025-07-18/
LOCATION:Mountain Top\, 196 Karl Hope Blvd\, Lackawaxen\, PA\, 18435\, United States
CATEGORIES:Activities & Traditions
ATTACH;FMTTYPE=image/jpeg:https://masthope.org/wp-content/uploads/sites/1856/2022/06/200507102104-chalklead.jpg
END:VEVENT
BEGIN:VEVENT
DTSTART;TZID=America/New_York:20250719T100000
DTEND;TZID=America/New_York:20250719T140000
DTSTAMP:20260420T005428
CREATED:20250504T230907Z
LAST-MODIFIED:20250504T230907Z
UID:10007628-1752919200-1752933600@masthope.org
SUMMARY:Farmers' Market
DESCRIPTION:Located at the summit of Masthope Mountain outside the lodge. Setup weekly on Saturdays through Labor Day Weekend. Enjoy fresh fruits and vegetables\, produce\, local homemade crafts\, jams\, jellies\, candles\, honey and maple products.
URL:https://masthope.org/event/farmers-market-28/2025-07-19/
LOCATION:Mountain Top\, 196 Karl Hope Blvd\, Lackawaxen\, PA\, 18435\, United States
CATEGORIES:Activities & Traditions,Local
ATTACH;FMTTYPE=image/jpeg:https://masthope.org/wp-content/uploads/sites/1856/2022/04/anne-preble-SAPvKo12dQE-unsplash-scaled-1.jpg
END:VEVENT
BEGIN:VEVENT
DTSTART;TZID=America/New_York:20250719T120000
DTEND;TZID=America/New_York:20250719T163000
DTSTAMP:20260420T005428
CREATED:20250630T184644Z
LAST-MODIFIED:20250630T184644Z
UID:10007778-1752926400-1752942600@masthope.org
SUMMARY:Children’s Activities
DESCRIPTION:Join us for scheduled activities (For ages 6 and up) – Activities are subject to change and some are weather permitting. Meet at the Upper Pool at 12pm. \nActivities are subject to change due to weather
URL:https://masthope.org/event/childrens-activities-4/2025-07-19/
LOCATION:Mountain Top\, 196 Karl Hope Blvd\, Lackawaxen\, PA\, 18435\, United States
CATEGORIES:Activities & Traditions
ATTACH;FMTTYPE=image/jpeg:https://masthope.org/wp-content/uploads/sites/1856/2022/06/200507102104-chalklead.jpg
END:VEVENT
BEGIN:VEVENT
DTSTART;TZID=America/New_York:20250720T120000
DTEND;TZID=America/New_York:20250720T163000
DTSTAMP:20260420T005428
CREATED:20250630T184644Z
LAST-MODIFIED:20250630T184644Z
UID:10007779-1753012800-1753029000@masthope.org
SUMMARY:Children’s Activities
DESCRIPTION:Join us for scheduled activities (For ages 6 and up) – Activities are subject to change and some are weather permitting. Meet at the Upper Pool at 12pm. \nActivities are subject to change due to weather
URL:https://masthope.org/event/childrens-activities-4/2025-07-20/
LOCATION:Mountain Top\, 196 Karl Hope Blvd\, Lackawaxen\, PA\, 18435\, United States
CATEGORIES:Activities & Traditions
ATTACH;FMTTYPE=image/jpeg:https://masthope.org/wp-content/uploads/sites/1856/2022/06/200507102104-chalklead.jpg
END:VEVENT
BEGIN:VEVENT
DTSTART;TZID=America/New_York:20250721T120000
DTEND;TZID=America/New_York:20250721T163000
DTSTAMP:20260420T005428
CREATED:20250630T184644Z
LAST-MODIFIED:20250630T184644Z
UID:10007780-1753099200-1753115400@masthope.org
SUMMARY:Children’s Activities
DESCRIPTION:Join us for scheduled activities (For ages 6 and up) – Activities are subject to change and some are weather permitting. Meet at the Upper Pool at 12pm. \nActivities are subject to change due to weather
URL:https://masthope.org/event/childrens-activities-4/2025-07-21/
LOCATION:Mountain Top\, 196 Karl Hope Blvd\, Lackawaxen\, PA\, 18435\, United States
CATEGORIES:Activities & Traditions
ATTACH;FMTTYPE=image/jpeg:https://masthope.org/wp-content/uploads/sites/1856/2022/06/200507102104-chalklead.jpg
END:VEVENT
BEGIN:VEVENT
DTSTART;TZID=America/New_York:20250724T120000
DTEND;TZID=America/New_York:20250724T163000
DTSTAMP:20260420T005428
CREATED:20250630T184644Z
LAST-MODIFIED:20250630T184644Z
UID:10007781-1753358400-1753374600@masthope.org
SUMMARY:Children’s Activities
DESCRIPTION:Join us for scheduled activities (For ages 6 and up) – Activities are subject to change and some are weather permitting. Meet at the Upper Pool at 12pm. \nActivities are subject to change due to weather
URL:https://masthope.org/event/childrens-activities-4/2025-07-24/
LOCATION:Mountain Top\, 196 Karl Hope Blvd\, Lackawaxen\, PA\, 18435\, United States
CATEGORIES:Activities & Traditions
ATTACH;FMTTYPE=image/jpeg:https://masthope.org/wp-content/uploads/sites/1856/2022/06/200507102104-chalklead.jpg
END:VEVENT
BEGIN:VEVENT
DTSTART;TZID=America/New_York:20250725T120000
DTEND;TZID=America/New_York:20250725T163000
DTSTAMP:20260420T005428
CREATED:20250630T184644Z
LAST-MODIFIED:20250630T184644Z
UID:10007782-1753444800-1753461000@masthope.org
SUMMARY:Children’s Activities
DESCRIPTION:Join us for scheduled activities (For ages 6 and up) – Activities are subject to change and some are weather permitting. Meet at the Upper Pool at 12pm. \nActivities are subject to change due to weather
URL:https://masthope.org/event/childrens-activities-4/2025-07-25/
LOCATION:Mountain Top\, 196 Karl Hope Blvd\, Lackawaxen\, PA\, 18435\, United States
CATEGORIES:Activities & Traditions
ATTACH;FMTTYPE=image/jpeg:https://masthope.org/wp-content/uploads/sites/1856/2022/06/200507102104-chalklead.jpg
END:VEVENT
BEGIN:VEVENT
DTSTART;TZID=America/New_York:20250725T190000
DTEND;TZID=America/New_York:20250725T200000
DTSTAMP:20260420T005428
CREATED:20240617T140408Z
LAST-MODIFIED:20250623T164239Z
UID:10002674-1753470000-1753473600@masthope.org
SUMMARY:Kid's Pool Party
DESCRIPTION:Kids ages 5-12 can join us for music\, dancing\, swimming and fun! Sign up here.
URL:https://masthope.org/event/kids-pool-party-5/
LOCATION:Pool Complex
CATEGORIES:Activities & Traditions,Social
ATTACH;FMTTYPE=image/jpeg:https://masthope.org/wp-content/uploads/sites/1856/2022/06/ppt9943.pptm-AutoRecovered.jpg
END:VEVENT
BEGIN:VEVENT
DTSTART;TZID=America/New_York:20250725T200000
DTEND;TZID=America/New_York:20250725T220000
DTSTAMP:20260420T005428
CREATED:20250623T164534Z
LAST-MODIFIED:20250623T164534Z
UID:10007720-1753473600-1753480800@masthope.org
SUMMARY:Teen Pool Party
DESCRIPTION:Teens ages 13-18 can join us for music\, dancing\, swimming and fun! Sign up here.
URL:https://masthope.org/event/teen-pool-party-6/
LOCATION:Pool Complex
CATEGORIES:Activities & Traditions,Social
ATTACH;FMTTYPE=image/jpeg:https://masthope.org/wp-content/uploads/sites/1856/2022/06/ppt9943.pptm-AutoRecovered.jpg
END:VEVENT
BEGIN:VEVENT
DTSTART;VALUE=DATE:20250726
DTEND;VALUE=DATE:20250728
DTSTAMP:20260420T005428
CREATED:20250623T181450Z
LAST-MODIFIED:20250714T124941Z
UID:10007724-1753488000-1753660799@masthope.org
SUMMARY:Community Yard Sale (NEW DATE)
DESCRIPTION:Masthope and Fawn Lake will be hosting our annual yard sale. Pick up maps with highlighted yards at the POC or Marketplace. For more information\, please call 570-685-4790. \nTo participate as a seller\, register here. (No fee required) \nSaturday: 10am-4pm \nSunday: 10am-2pm
URL:https://masthope.org/event/community-yard-sale-4/
LOCATION:Community Wide
CATEGORIES:Activities & Traditions,Social
ATTACH;FMTTYPE=image/jpeg:https://masthope.org/wp-content/uploads/sites/1856/2022/06/istockphoto-482430364-612x612-1.jpg
END:VEVENT
BEGIN:VEVENT
DTSTART;TZID=America/New_York:20250726T100000
DTEND;TZID=America/New_York:20250726T140000
DTSTAMP:20260420T005428
CREATED:20250504T230907Z
LAST-MODIFIED:20250504T230907Z
UID:10007629-1753524000-1753538400@masthope.org
SUMMARY:Farmers' Market
DESCRIPTION:Located at the summit of Masthope Mountain outside the lodge. Setup weekly on Saturdays through Labor Day Weekend. Enjoy fresh fruits and vegetables\, produce\, local homemade crafts\, jams\, jellies\, candles\, honey and maple products.
URL:https://masthope.org/event/farmers-market-28/2025-07-26/
LOCATION:Mountain Top\, 196 Karl Hope Blvd\, Lackawaxen\, PA\, 18435\, United States
CATEGORIES:Activities & Traditions,Local
ATTACH;FMTTYPE=image/jpeg:https://masthope.org/wp-content/uploads/sites/1856/2022/04/anne-preble-SAPvKo12dQE-unsplash-scaled-1.jpg
END:VEVENT
BEGIN:VEVENT
DTSTART;TZID=America/New_York:20250726T120000
DTEND;TZID=America/New_York:20250726T163000
DTSTAMP:20260420T005428
CREATED:20250630T184644Z
LAST-MODIFIED:20250630T184644Z
UID:10007783-1753531200-1753547400@masthope.org
SUMMARY:Children’s Activities
DESCRIPTION:Join us for scheduled activities (For ages 6 and up) – Activities are subject to change and some are weather permitting. Meet at the Upper Pool at 12pm. \nActivities are subject to change due to weather
URL:https://masthope.org/event/childrens-activities-4/2025-07-26/
LOCATION:Mountain Top\, 196 Karl Hope Blvd\, Lackawaxen\, PA\, 18435\, United States
CATEGORIES:Activities & Traditions
ATTACH;FMTTYPE=image/jpeg:https://masthope.org/wp-content/uploads/sites/1856/2022/06/200507102104-chalklead.jpg
END:VEVENT
BEGIN:VEVENT
DTSTART;TZID=America/New_York:20250726T190000
DTEND;TZID=America/New_York:20250726T220000
DTSTAMP:20260420T005428
CREATED:20250630T144458Z
LAST-MODIFIED:20250630T144458Z
UID:10007725-1753556400-1753567200@masthope.org
SUMMARY:Adult Pool Party
DESCRIPTION:Join us for an adult pool party… featuring food & drink specials and live music! (For ages 18+)
URL:https://masthope.org/event/adult-pool-party-6/
LOCATION:Pool Complex
CATEGORIES:Activities & Traditions
ATTACH;FMTTYPE=image/jpeg:https://masthope.org/wp-content/uploads/sites/1856/2022/06/ppt9943.pptm-AutoRecovered.jpg
END:VEVENT
BEGIN:VEVENT
DTSTART;TZID=America/New_York:20250727T120000
DTEND;TZID=America/New_York:20250727T163000
DTSTAMP:20260420T005428
CREATED:20250630T184644Z
LAST-MODIFIED:20250630T184644Z
UID:10007784-1753617600-1753633800@masthope.org
SUMMARY:Children’s Activities
DESCRIPTION:Join us for scheduled activities (For ages 6 and up) – Activities are subject to change and some are weather permitting. Meet at the Upper Pool at 12pm. \nActivities are subject to change due to weather
URL:https://masthope.org/event/childrens-activities-4/2025-07-27/
LOCATION:Mountain Top\, 196 Karl Hope Blvd\, Lackawaxen\, PA\, 18435\, United States
CATEGORIES:Activities & Traditions
ATTACH;FMTTYPE=image/jpeg:https://masthope.org/wp-content/uploads/sites/1856/2022/06/200507102104-chalklead.jpg
END:VEVENT
BEGIN:VEVENT
DTSTART;TZID=America/New_York:20250728T120000
DTEND;TZID=America/New_York:20250728T163000
DTSTAMP:20260420T005428
CREATED:20250630T184644Z
LAST-MODIFIED:20250630T184644Z
UID:10007785-1753704000-1753720200@masthope.org
SUMMARY:Children’s Activities
DESCRIPTION:Join us for scheduled activities (For ages 6 and up) – Activities are subject to change and some are weather permitting. Meet at the Upper Pool at 12pm. \nActivities are subject to change due to weather
URL:https://masthope.org/event/childrens-activities-4/2025-07-28/
LOCATION:Mountain Top\, 196 Karl Hope Blvd\, Lackawaxen\, PA\, 18435\, United States
CATEGORIES:Activities & Traditions
ATTACH;FMTTYPE=image/jpeg:https://masthope.org/wp-content/uploads/sites/1856/2022/06/200507102104-chalklead.jpg
END:VEVENT
BEGIN:VEVENT
DTSTART;TZID=America/New_York:20250731T120000
DTEND;TZID=America/New_York:20250731T163000
DTSTAMP:20260420T005428
CREATED:20250630T184644Z
LAST-MODIFIED:20250630T184644Z
UID:10007786-1753963200-1753979400@masthope.org
SUMMARY:Children’s Activities
DESCRIPTION:Join us for scheduled activities (For ages 6 and up) – Activities are subject to change and some are weather permitting. Meet at the Upper Pool at 12pm. \nActivities are subject to change due to weather
URL:https://masthope.org/event/childrens-activities-4/2025-07-31/
LOCATION:Mountain Top\, 196 Karl Hope Blvd\, Lackawaxen\, PA\, 18435\, United States
CATEGORIES:Activities & Traditions
ATTACH;FMTTYPE=image/jpeg:https://masthope.org/wp-content/uploads/sites/1856/2022/06/200507102104-chalklead.jpg
END:VEVENT
BEGIN:VEVENT
DTSTART;TZID=America/New_York:20250802T100000
DTEND;TZID=America/New_York:20250802T140000
DTSTAMP:20260420T005428
CREATED:20250504T230907Z
LAST-MODIFIED:20250504T230907Z
UID:10007630-1754128800-1754143200@masthope.org
SUMMARY:Farmers' Market
DESCRIPTION:Located at the summit of Masthope Mountain outside the lodge. Setup weekly on Saturdays through Labor Day Weekend. Enjoy fresh fruits and vegetables\, produce\, local homemade crafts\, jams\, jellies\, candles\, honey and maple products.
URL:https://masthope.org/event/farmers-market-28/2025-08-02/
LOCATION:Mountain Top\, 196 Karl Hope Blvd\, Lackawaxen\, PA\, 18435\, United States
CATEGORIES:Activities & Traditions,Local
ATTACH;FMTTYPE=image/jpeg:https://masthope.org/wp-content/uploads/sites/1856/2022/04/anne-preble-SAPvKo12dQE-unsplash-scaled-1.jpg
END:VEVENT
BEGIN:VEVENT
DTSTART;TZID=America/New_York:20250802T130000
DTEND;TZID=America/New_York:20250802T150000
DTSTAMP:20260420T005428
CREATED:20250720T201942Z
LAST-MODIFIED:20250720T203029Z
UID:10007789-1754139600-1754146800@masthope.org
SUMMARY:Critter Connection!
DESCRIPTION:If you enjoy holding\, touching and learning about fascinating animals that are rarely seen close-up\, we have great news! Critter Connections experienced animal presenters are ready to provide an educational and entertaining animal presentation for our community inside the lodge. \nCritters to expect: \n\nCorn snakes\, milk snakes\, king snakes\, ball pythons\, and red tail boas\nA variety of tortoises and water turtles\nBearded dragons\, leopard geckos\, fat tailed geckos\, crested geckos\nTarantulas\, hissing cockroaches\nFrogs and toads\nRabbits and guinea pigs
URL:https://masthope.org/event/critter-connection/
LOCATION:The Lodge at Masthope\, 196 Karl Hope Blvd\, Lackawaxen\, PA\, 18435\, United States
CATEGORIES:Activities & Traditions
ATTACH;FMTTYPE=image/jpeg:https://masthope.org/wp-content/uploads/sites/1856/2024/06/Picture1.jpg
END:VEVENT
BEGIN:VEVENT
DTSTART;TZID=America/New_York:20250808T190000
DTEND;TZID=America/New_York:20250808T220000
DTSTAMP:20260420T005428
CREATED:20250721T150445Z
LAST-MODIFIED:20250721T150445Z
UID:10007790-1754679600-1754690400@masthope.org
SUMMARY:Moonlight Yoga on the Beach
DESCRIPTION:Join us at the beach for moonlight yoga with Diane! Call the Fitness Center to register: 570-685-5978. (Complimentary for Property Owners / Guests & Renters: $7) \n\nPlease bring your yoga mat.\nTarot reading with Caroline for $30\nFruit and cheese platters will be served!
URL:https://masthope.org/event/moonlight-yoga-on-the-beach/
LOCATION:Westcolang Lake Waterfront\, 349 Falling Waters Boulevard\, Lackawaxen\, PA\, 18435\, United States
CATEGORIES:Activities & Traditions,Fitness
ATTACH;FMTTYPE=image/jpeg:https://masthope.org/wp-content/uploads/sites/1856/2025/05/istockphoto-485387392-612x612-1.jpg
END:VEVENT
BEGIN:VEVENT
DTSTART;TZID=America/New_York:20250809T100000
DTEND;TZID=America/New_York:20250809T140000
DTSTAMP:20260420T005428
CREATED:20250504T230907Z
LAST-MODIFIED:20250504T230907Z
UID:10007631-1754733600-1754748000@masthope.org
SUMMARY:Farmers' Market
DESCRIPTION:Located at the summit of Masthope Mountain outside the lodge. Setup weekly on Saturdays through Labor Day Weekend. Enjoy fresh fruits and vegetables\, produce\, local homemade crafts\, jams\, jellies\, candles\, honey and maple products.
URL:https://masthope.org/event/farmers-market-28/2025-08-09/
LOCATION:Mountain Top\, 196 Karl Hope Blvd\, Lackawaxen\, PA\, 18435\, United States
CATEGORIES:Activities & Traditions,Local
ATTACH;FMTTYPE=image/jpeg:https://masthope.org/wp-content/uploads/sites/1856/2022/04/anne-preble-SAPvKo12dQE-unsplash-scaled-1.jpg
END:VEVENT
END:VCALENDAR