BEGIN:VCALENDAR
VERSION:2.0
PRODID:-//Masthope Mountain Community - ECPv6.15.20//NONSGML v1.0//EN
CALSCALE:GREGORIAN
METHOD:PUBLISH
X-WR-CALNAME:Masthope Mountain Community
X-ORIGINAL-URL:https://masthope.org
X-WR-CALDESC:Events for Masthope Mountain Community
REFRESH-INTERVAL;VALUE=DURATION:PT1H
X-Robots-Tag:noindex
X-PUBLISHED-TTL:PT1H
BEGIN:VTIMEZONE
TZID:America/New_York
BEGIN:DAYLIGHT
TZOFFSETFROM:-0500
TZOFFSETTO:-0400
TZNAME:EDT
DTSTART:20250309T070000
END:DAYLIGHT
BEGIN:STANDARD
TZOFFSETFROM:-0400
TZOFFSETTO:-0500
TZNAME:EST
DTSTART:20251102T060000
END:STANDARD
BEGIN:DAYLIGHT
TZOFFSETFROM:-0500
TZOFFSETTO:-0400
TZNAME:EDT
DTSTART:20260308T070000
END:DAYLIGHT
BEGIN:STANDARD
TZOFFSETFROM:-0400
TZOFFSETTO:-0500
TZNAME:EST
DTSTART:20261101T060000
END:STANDARD
BEGIN:DAYLIGHT
TZOFFSETFROM:-0500
TZOFFSETTO:-0400
TZNAME:EDT
DTSTART:20270314T070000
END:DAYLIGHT
BEGIN:STANDARD
TZOFFSETFROM:-0400
TZOFFSETTO:-0500
TZNAME:EST
DTSTART:20271107T060000
END:STANDARD
END:VTIMEZONE
BEGIN:VEVENT
DTSTART;TZID=America/New_York:20260118T170000
DTEND;TZID=America/New_York:20260118T210000
DTSTAMP:20260425T071746
CREATED:20260109T195351Z
LAST-MODIFIED:20260109T195351Z
UID:10008831-1768755600-1768770000@masthope.org
SUMMARY:Live Music - Type A Duo
DESCRIPTION:Enjoy live music in The Summit Restaurant! (Live music performances are subject to change.)
URL:https://masthope.org/event/live-music-type-a-duo/
LOCATION:The Summit Restaurant\, 196 Karl Hope Blvd\, Lackawaxen\, PA\, 18435
CATEGORIES:Live Music,Summit Restaurant
ATTACH;FMTTYPE=image/png:https://masthope.org/wp-content/uploads/sites/1856/2022/05/Picture2.png
END:VEVENT
BEGIN:VEVENT
DTSTART;TZID=America/New_York:20260123T180000
DTEND;TZID=America/New_York:20260123T220000
DTSTAMP:20260425T071746
CREATED:20260105T181252Z
LAST-MODIFIED:20260105T181252Z
UID:10008749-1769191200-1769205600@masthope.org
SUMMARY:Live Music - Emily Nacchio
DESCRIPTION:Enjoy live music in The Summit Restaurant! (Live music performances are subject to change.)
URL:https://masthope.org/event/live-music-emily-nacchio-9/
LOCATION:The Summit Restaurant\, 196 Karl Hope Blvd\, Lackawaxen\, PA\, 18435
CATEGORIES:Live Music,Summit Restaurant
ATTACH;FMTTYPE=image/png:https://masthope.org/wp-content/uploads/sites/1856/2022/05/Picture2.png
END:VEVENT
BEGIN:VEVENT
DTSTART;TZID=America/New_York:20260124T190000
DTEND;TZID=America/New_York:20260124T230000
DTSTAMP:20260425T071746
CREATED:20260105T182105Z
LAST-MODIFIED:20260105T182105Z
UID:10008751-1769281200-1769295600@masthope.org
SUMMARY:Live Music - Cold Sweat
DESCRIPTION:Enjoy live music in The Summit Restaurant! (Live music performances are subject to change.)
URL:https://masthope.org/event/live-music-cold-sweat-25/
LOCATION:The Summit Restaurant\, 196 Karl Hope Blvd\, Lackawaxen\, PA\, 18435
CATEGORIES:Live Music,Summit Restaurant
ATTACH;FMTTYPE=image/png:https://masthope.org/wp-content/uploads/sites/1856/2022/05/Picture2.png
END:VEVENT
BEGIN:VEVENT
DTSTART;TZID=America/New_York:20260130T180000
DTEND;TZID=America/New_York:20260130T220000
DTSTAMP:20260425T071746
CREATED:20260105T182241Z
LAST-MODIFIED:20260105T182241Z
UID:10008752-1769796000-1769810400@masthope.org
SUMMARY:Live Music - 2 Chicks\, 1 Guitar
DESCRIPTION:Enjoy live music in The Summit Restaurant! (Live music performances are subject to change.)
URL:https://masthope.org/event/live-music-2-chicks-1-guitar-18/
LOCATION:The Summit Restaurant\, 196 Karl Hope Blvd\, Lackawaxen\, PA\, 18435
CATEGORIES:Live Music,Summit Restaurant
ATTACH;FMTTYPE=image/png:https://masthope.org/wp-content/uploads/sites/1856/2022/05/Picture2.png
END:VEVENT
BEGIN:VEVENT
DTSTART;TZID=America/New_York:20260131T180000
DTEND;TZID=America/New_York:20260131T220000
DTSTAMP:20260425T071746
CREATED:20260105T182313Z
LAST-MODIFIED:20260105T182313Z
UID:10008753-1769882400-1769896800@masthope.org
SUMMARY:Live Music - The QT (Quake Trio)
DESCRIPTION:Enjoy live music in The Summit Restaurant! (Live music performances are subject to change.)
URL:https://masthope.org/event/live-music-the-qt-quake-trio-4/
LOCATION:The Summit Restaurant\, 196 Karl Hope Blvd\, Lackawaxen\, PA\, 18435
CATEGORIES:Live Music,Summit Restaurant
ATTACH;FMTTYPE=image/png:https://masthope.org/wp-content/uploads/sites/1856/2022/05/Picture2.png
END:VEVENT
BEGIN:VEVENT
DTSTART;TZID=America/New_York:20260207T180000
DTEND;TZID=America/New_York:20260207T220000
DTSTAMP:20260425T071746
CREATED:20260105T182420Z
LAST-MODIFIED:20260105T182420Z
UID:10008754-1770487200-1770501600@masthope.org
SUMMARY:Live Music - Andre Turan
DESCRIPTION:Enjoy live music in The Summit Restaurant! (Live music performances are subject to change.)
URL:https://masthope.org/event/live-music-andre-turan-11/
LOCATION:The Summit Restaurant\, 196 Karl Hope Blvd\, Lackawaxen\, PA\, 18435
CATEGORIES:Live Music,Summit Restaurant
ATTACH;FMTTYPE=image/png:https://masthope.org/wp-content/uploads/sites/1856/2022/05/Picture2.png
END:VEVENT
BEGIN:VEVENT
DTSTART;TZID=America/New_York:20260213T190000
DTEND;TZID=America/New_York:20260213T220000
DTSTAMP:20260425T071746
CREATED:20260105T182455Z
LAST-MODIFIED:20260105T182455Z
UID:10008755-1771009200-1771020000@masthope.org
SUMMARY:Live Music - The Frost Duo
DESCRIPTION:Enjoy live music in The Summit Restaurant! (Live music performances are subject to change.)
URL:https://masthope.org/event/live-music-the-frost-duo-6/
LOCATION:The Summit Restaurant\, 196 Karl Hope Blvd\, Lackawaxen\, PA\, 18435
CATEGORIES:Live Music,Summit Restaurant
ATTACH;FMTTYPE=image/png:https://masthope.org/wp-content/uploads/sites/1856/2022/05/Picture2.png
END:VEVENT
BEGIN:VEVENT
DTSTART;TZID=America/New_York:20260214T190000
DTEND;TZID=America/New_York:20260214T220000
DTSTAMP:20260425T071746
CREATED:20251215T172528Z
LAST-MODIFIED:20260105T180807Z
UID:10008550-1771095600-1771106400@masthope.org
SUMMARY:Live Music - Not John (Roginski)
DESCRIPTION:Enjoy live music in The Summit Restaurant! (Live music performances are subject to change.)
URL:https://masthope.org/event/live-music-not-john-roginski-3/
LOCATION:The Summit Restaurant\, 196 Karl Hope Blvd\, Lackawaxen\, PA\, 18435
CATEGORIES:Live Music,Summit Restaurant
ATTACH;FMTTYPE=image/png:https://masthope.org/wp-content/uploads/sites/1856/2022/05/Picture2.png
END:VEVENT
BEGIN:VEVENT
DTSTART;TZID=America/New_York:20260220T180000
DTEND;TZID=America/New_York:20260220T220000
DTSTAMP:20260425T071746
CREATED:20260214T183349Z
LAST-MODIFIED:20260214T183349Z
UID:10008851-1771610400-1771624800@masthope.org
SUMMARY:Live Music - Emily Nacchio
DESCRIPTION:Enjoy live music in The Summit Restaurant! (Live music performances are subject to change.)
URL:https://masthope.org/event/live-music-emily-nacchio-10/
LOCATION:The Summit Restaurant\, 196 Karl Hope Blvd\, Lackawaxen\, PA\, 18435
CATEGORIES:Live Music,Summit Restaurant
ATTACH;FMTTYPE=image/png:https://masthope.org/wp-content/uploads/sites/1856/2022/05/Picture2.png
END:VEVENT
BEGIN:VEVENT
DTSTART;TZID=America/New_York:20260221T180000
DTEND;TZID=America/New_York:20260221T220000
DTSTAMP:20260425T071746
CREATED:20260109T195851Z
LAST-MODIFIED:20260109T195851Z
UID:10008832-1771696800-1771711200@masthope.org
SUMMARY:Live Music - Dan Engvaldsen
DESCRIPTION:Enjoy live music in The Summit Restaurant! (Live music performances are subject to change.)
URL:https://masthope.org/event/live-music-dan-engvaldsen-24/
LOCATION:The Summit Restaurant\, 196 Karl Hope Blvd\, Lackawaxen\, PA\, 18435
CATEGORIES:Live Music,Summit Restaurant
ATTACH;FMTTYPE=image/png:https://masthope.org/wp-content/uploads/sites/1856/2022/05/Picture2.png
END:VEVENT
BEGIN:VEVENT
DTSTART;TZID=America/New_York:20260227T180000
DTEND;TZID=America/New_York:20260227T220000
DTSTAMP:20260425T071746
CREATED:20260214T183411Z
LAST-MODIFIED:20260214T183411Z
UID:10008852-1772215200-1772229600@masthope.org
SUMMARY:Live Music - 2 Chicks\, 1 Guitar
DESCRIPTION:Enjoy live music in The Summit Restaurant! (Live music performances are subject to change.)
URL:https://masthope.org/event/live-music-2-chicks-1-guitar-19/
LOCATION:The Summit Restaurant\, 196 Karl Hope Blvd\, Lackawaxen\, PA\, 18435
CATEGORIES:Live Music,Summit Restaurant
ATTACH;FMTTYPE=image/png:https://masthope.org/wp-content/uploads/sites/1856/2022/05/Picture2.png
END:VEVENT
BEGIN:VEVENT
DTSTART;TZID=America/New_York:20260228T180000
DTEND;TZID=America/New_York:20260228T220000
DTSTAMP:20260425T071746
CREATED:20260214T183510Z
LAST-MODIFIED:20260214T183510Z
UID:10008853-1772301600-1772316000@masthope.org
SUMMARY:Live Music - Smokin' Buddie Steve
DESCRIPTION:Enjoy live music in The Summit Restaurant! (Live music performances are subject to change.)
URL:https://masthope.org/event/live-music-smokin-buddie-steve-19/
LOCATION:The Summit Restaurant\, 196 Karl Hope Blvd\, Lackawaxen\, PA\, 18435
CATEGORIES:Live Music,Summit Restaurant
ATTACH;FMTTYPE=image/png:https://masthope.org/wp-content/uploads/sites/1856/2022/05/Picture2.png
END:VEVENT
BEGIN:VEVENT
DTSTART;TZID=America/New_York:20260307T190000
DTEND;TZID=America/New_York:20260307T230000
DTSTAMP:20260425T071746
CREATED:20260214T183811Z
LAST-MODIFIED:20260214T183847Z
UID:10008854-1772910000-1772924400@masthope.org
SUMMARY:Live Music - Cold Sweat
DESCRIPTION:Enjoy live music in The Summit Restaurant! (Live music performances are subject to change.)
URL:https://masthope.org/event/live-music-cold-sweat-26/
LOCATION:The Summit Restaurant\, 196 Karl Hope Blvd\, Lackawaxen\, PA\, 18435
CATEGORIES:Live Music,Summit Restaurant
ATTACH;FMTTYPE=image/png:https://masthope.org/wp-content/uploads/sites/1856/2022/05/Picture2.png
END:VEVENT
BEGIN:VEVENT
DTSTART;TZID=America/New_York:20260313T190000
DTEND;TZID=America/New_York:20260313T230000
DTSTAMP:20260425T071746
CREATED:20260214T185525Z
LAST-MODIFIED:20260214T185525Z
UID:10008856-1773428400-1773442800@masthope.org
SUMMARY:Live Music - The Frost Duo
DESCRIPTION:Enjoy live music in The Summit Restaurant! (Live music performances are subject to change.)
URL:https://masthope.org/event/live-music-the-frost-duo-7/
LOCATION:The Summit Restaurant\, 196 Karl Hope Blvd\, Lackawaxen\, PA\, 18435
CATEGORIES:Live Music,Summit Restaurant
ATTACH;FMTTYPE=image/png:https://masthope.org/wp-content/uploads/sites/1856/2022/05/Picture2.png
END:VEVENT
BEGIN:VEVENT
DTSTART;TZID=America/New_York:20260314T180000
DTEND;TZID=America/New_York:20260314T220000
DTSTAMP:20260425T071746
CREATED:20260214T185629Z
LAST-MODIFIED:20260214T185629Z
UID:10008857-1773511200-1773525600@masthope.org
SUMMARY:Live Music - The Quake Trio
DESCRIPTION:Enjoy live music in The Summit Restaurant! (Live music performances are subject to change.)
URL:https://masthope.org/event/live-music-the-quake-trio/
LOCATION:The Summit Restaurant\, 196 Karl Hope Blvd\, Lackawaxen\, PA\, 18435
CATEGORIES:Live Music,Summit Restaurant
ATTACH;FMTTYPE=image/png:https://masthope.org/wp-content/uploads/sites/1856/2022/05/Picture2.png
END:VEVENT
BEGIN:VEVENT
DTSTART;TZID=America/New_York:20260502T190000
DTEND;TZID=America/New_York:20260502T210000
DTSTAMP:20260425T071746
CREATED:20260406T150900Z
LAST-MODIFIED:20260406T160008Z
UID:10009075-1777748400-1777755600@masthope.org
SUMMARY:"Memories"
DESCRIPTION:Back by popular demand… join us for a night of your favorite songs from the past! Pre-registration is required. $25 per person. Click here to purchase tickets \nAbout the performers: We are “Memories” – Turn Up The Volume and Enjoy The Music! We are a vocal harmony group singing some of your favorite songs by artists such as: The Righteous Brothers\, Bee Gees\, The Duprees\, Everly Brothers\, The Sherells\, Michael Buble\, Sam Cooke\, Carol King\, Frank Sinatra\, Dean Martin\, Johnny Mathis\, Engelbert Humperdink\, Elvis Presley\, Barry Manilow\, Willy Nelson\, Tony Bennett\, Frankie Valli\, The Four Seasons\, Neil Diamond\, Bobby Vinton\, Paul Anka\, Frankie Avalon and many others of your favorite artists.
URL:https://masthope.org/event/memories-cabaret-3/
LOCATION:Property Owners Lounge\, 196 Karl Hope Blvd\, Lackawaxen\, PA\, 18435\, United States
CATEGORIES:Activities & Traditions,Live Music,Summit Restaurant
ATTACH;FMTTYPE=image/png:https://masthope.org/wp-content/uploads/sites/1856/2026/04/Screenshot-2026-04-06-113039ccc.png
END:VEVENT
BEGIN:VEVENT
DTSTART;TZID=America/New_York:20260523T120000
DTEND;TZID=America/New_York:20260523T160000
DTSTAMP:20260425T071746
CREATED:20260415T192925Z
LAST-MODIFIED:20260415T192925Z
UID:10009139-1779537600-1779552000@masthope.org
SUMMARY:DJ Brad Keller
DESCRIPTION:Enjoy music from DJ Brad Keller on the Tiki Bar Patio. If rain\, inside The Summit Restaurant. (Live music performances are subject to change.)
URL:https://masthope.org/event/dj-brad-keller-12/2026-05-23/
LOCATION:The Tiki Bar at Masthope\, 196 Karl Hope Boulevard\, Lackawaxen\, PA\, 18435
CATEGORIES:Live Music,Summit Restaurant
ATTACH;FMTTYPE=image/jpeg:https://masthope.org/wp-content/uploads/sites/1856/2022/05/Picture1.jpg
END:VEVENT
BEGIN:VEVENT
DTSTART;TZID=America/New_York:20260530T180000
DTEND;TZID=America/New_York:20260530T220000
DTSTAMP:20260425T071746
CREATED:20260415T193736Z
LAST-MODIFIED:20260415T194008Z
UID:10009142-1780164000-1780178400@masthope.org
SUMMARY:Live Music - Burl Millings
DESCRIPTION:Enjoy live music on the Tiki Bar Patio! If rain\, in The Summit Restaurant. (Live music performances are subject to change.)
URL:https://masthope.org/event/live-music-burl-millings-11/
LOCATION:The Tiki Bar at Masthope\, 196 Karl Hope Boulevard\, Lackawaxen\, PA\, 18435
CATEGORIES:Live Music,Summit Restaurant
ATTACH;FMTTYPE=image/png:https://masthope.org/wp-content/uploads/sites/1856/2022/05/Picture2.png
END:VEVENT
BEGIN:VEVENT
DTSTART;TZID=America/New_York:20260531T140000
DTEND;TZID=America/New_York:20260531T180000
DTSTAMP:20260425T071746
CREATED:20260415T193949Z
LAST-MODIFIED:20260415T193949Z
UID:10009143-1780236000-1780250400@masthope.org
SUMMARY:Live Music - The QT (Quake Trio)
DESCRIPTION:Enjoy live music on the Tiki Bar Patio! If rain\, in The Summit Restaurant. (Live music performances are subject to change.)
URL:https://masthope.org/event/live-music-the-qt-quake-trio-5/
LOCATION:The Tiki Bar at Masthope\, 196 Karl Hope Boulevard\, Lackawaxen\, PA\, 18435
CATEGORIES:Live Music,Summit Restaurant
ATTACH;FMTTYPE=image/png:https://masthope.org/wp-content/uploads/sites/1856/2022/05/Picture2.png
END:VEVENT
BEGIN:VEVENT
DTSTART;TZID=America/New_York:20260613T180000
DTEND;TZID=America/New_York:20260613T220000
DTSTAMP:20260425T071746
CREATED:20260415T194140Z
LAST-MODIFIED:20260415T194140Z
UID:10009144-1781373600-1781388000@masthope.org
SUMMARY:Live Music - Burl Millings
DESCRIPTION:Enjoy live music on the Tiki Bar Patio! If rain\, in The Summit Restaurant. (Live music performances are subject to change.)
URL:https://masthope.org/event/live-music-burl-millings-12/
LOCATION:The Tiki Bar at Masthope\, 196 Karl Hope Boulevard\, Lackawaxen\, PA\, 18435
CATEGORIES:Live Music,Summit Restaurant
ATTACH;FMTTYPE=image/png:https://masthope.org/wp-content/uploads/sites/1856/2022/05/Picture2.png
END:VEVENT
BEGIN:VEVENT
DTSTART;TZID=America/New_York:20260614T140000
DTEND;TZID=America/New_York:20260614T180000
DTSTAMP:20260425T071746
CREATED:20260415T194220Z
LAST-MODIFIED:20260415T194220Z
UID:10009145-1781445600-1781460000@masthope.org
SUMMARY:Live Music - Frost Duo
DESCRIPTION:Enjoy live music on the Tiki Bar Patio! If rain\, in The Summit Restaurant. (Live music performances are subject to change.)
URL:https://masthope.org/event/live-music-frost-duo-10/
LOCATION:The Tiki Bar at Masthope\, 196 Karl Hope Boulevard\, Lackawaxen\, PA\, 18435
CATEGORIES:Live Music,Summit Restaurant
ATTACH;FMTTYPE=image/png:https://masthope.org/wp-content/uploads/sites/1856/2022/05/Picture2.png
END:VEVENT
BEGIN:VEVENT
DTSTART;TZID=America/New_York:20260620T180000
DTEND;TZID=America/New_York:20260620T220000
DTSTAMP:20260425T071746
CREATED:20260415T194314Z
LAST-MODIFIED:20260415T194314Z
UID:10009146-1781978400-1781992800@masthope.org
SUMMARY:Live Music - Cold Sweat
DESCRIPTION:Enjoy live music on the Tiki Bar Patio! If rain\, in The Summit Restaurant. (Live music performances are subject to change.)
URL:https://masthope.org/event/live-music-cold-sweat-27/
LOCATION:The Tiki Bar at Masthope\, 196 Karl Hope Boulevard\, Lackawaxen\, PA\, 18435
CATEGORIES:Live Music,Summit Restaurant
ATTACH;FMTTYPE=image/png:https://masthope.org/wp-content/uploads/sites/1856/2022/05/Picture2.png
END:VEVENT
BEGIN:VEVENT
DTSTART;TZID=America/New_York:20260627T180000
DTEND;TZID=America/New_York:20260627T220000
DTSTAMP:20260425T071746
CREATED:20260415T194411Z
LAST-MODIFIED:20260415T194411Z
UID:10009147-1782583200-1782597600@masthope.org
SUMMARY:Live Music - The Danno Rowland Band
DESCRIPTION:Enjoy live music on the Tiki Bar Patio! If rain\, in The Summit Restaurant. (Live music performances are subject to change.)
URL:https://masthope.org/event/live-music-the-danno-rowland-band/
LOCATION:The Tiki Bar at Masthope\, 196 Karl Hope Boulevard\, Lackawaxen\, PA\, 18435
CATEGORIES:Live Music,Summit Restaurant
ATTACH;FMTTYPE=image/png:https://masthope.org/wp-content/uploads/sites/1856/2022/05/Picture2.png
END:VEVENT
BEGIN:VEVENT
DTSTART;TZID=America/New_York:20260628T140000
DTEND;TZID=America/New_York:20260628T180000
DTSTAMP:20260425T071746
CREATED:20260415T194431Z
LAST-MODIFIED:20260415T194431Z
UID:10009148-1782655200-1782669600@masthope.org
SUMMARY:Live Music - Andre Turan
DESCRIPTION:Enjoy live music on the Tiki Bar Patio! If rain\, in The Summit Restaurant. (Live music performances are subject to change.)
URL:https://masthope.org/event/live-music-andre-turan-12/
LOCATION:The Tiki Bar at Masthope\, 196 Karl Hope Boulevard\, Lackawaxen\, PA\, 18435
CATEGORIES:Live Music,Summit Restaurant
ATTACH;FMTTYPE=image/png:https://masthope.org/wp-content/uploads/sites/1856/2022/05/Picture2.png
END:VEVENT
BEGIN:VEVENT
DTSTART;TZID=America/New_York:20260704T120000
DTEND;TZID=America/New_York:20260704T160000
DTSTAMP:20260425T071746
CREATED:20260415T192925Z
LAST-MODIFIED:20260415T192925Z
UID:10009140-1783166400-1783180800@masthope.org
SUMMARY:DJ Brad Keller
DESCRIPTION:Enjoy music from DJ Brad Keller on the Tiki Bar Patio. If rain\, inside The Summit Restaurant. (Live music performances are subject to change.)
URL:https://masthope.org/event/dj-brad-keller-12/2026-07-04/
LOCATION:The Tiki Bar at Masthope\, 196 Karl Hope Boulevard\, Lackawaxen\, PA\, 18435
CATEGORIES:Live Music,Summit Restaurant
ATTACH;FMTTYPE=image/jpeg:https://masthope.org/wp-content/uploads/sites/1856/2022/05/Picture1.jpg
END:VEVENT
BEGIN:VEVENT
DTSTART;TZID=America/New_York:20260704T180000
DTEND;TZID=America/New_York:20260704T220000
DTSTAMP:20260425T071746
CREATED:20260415T194517Z
LAST-MODIFIED:20260415T194604Z
UID:10009149-1783188000-1783202400@masthope.org
SUMMARY:Live Music - Emily Nacchio
DESCRIPTION:Enjoy live music on the Tiki Bar Patio! If rain\, in The Summit Restaurant. (Live music performances are subject to change.)
URL:https://masthope.org/event/live-music-emily-nacchio-11/
LOCATION:The Tiki Bar at Masthope\, 196 Karl Hope Boulevard\, Lackawaxen\, PA\, 18435
CATEGORIES:Live Music,Summit Restaurant
ATTACH;FMTTYPE=image/png:https://masthope.org/wp-content/uploads/sites/1856/2022/05/Picture2.png
END:VEVENT
BEGIN:VEVENT
DTSTART;TZID=America/New_York:20260705T140000
DTEND;TZID=America/New_York:20260705T180000
DTSTAMP:20260425T071746
CREATED:20260415T194651Z
LAST-MODIFIED:20260415T194651Z
UID:10009150-1783260000-1783274400@masthope.org
SUMMARY:Live Music - Smokin' Buddie Steve
DESCRIPTION:Enjoy live music on the Tiki Bar Patio! If rain\, in The Summit Restaurant. (Live music performances are subject to change.)
URL:https://masthope.org/event/live-music-smokin-buddie-steve-20/
LOCATION:The Tiki Bar at Masthope\, 196 Karl Hope Boulevard\, Lackawaxen\, PA\, 18435
CATEGORIES:Live Music,Summit Restaurant
ATTACH;FMTTYPE=image/png:https://masthope.org/wp-content/uploads/sites/1856/2022/05/Picture2.png
END:VEVENT
BEGIN:VEVENT
DTSTART;TZID=America/New_York:20260711T180000
DTEND;TZID=America/New_York:20260711T220000
DTSTAMP:20260425T071746
CREATED:20260415T194744Z
LAST-MODIFIED:20260415T194744Z
UID:10009151-1783792800-1783807200@masthope.org
SUMMARY:Live Music - The Dan Brother Band
DESCRIPTION:Enjoy live music on the Tiki Bar Patio! If rain\, in The Summit Restaurant. (Live music performances are subject to change.)
URL:https://masthope.org/event/live-music-the-dan-brother-band/
LOCATION:The Tiki Bar at Masthope\, 196 Karl Hope Boulevard\, Lackawaxen\, PA\, 18435
CATEGORIES:Live Music,Summit Restaurant
ATTACH;FMTTYPE=image/png:https://masthope.org/wp-content/uploads/sites/1856/2022/05/Picture2.png
END:VEVENT
BEGIN:VEVENT
DTSTART;TZID=America/New_York:20260712T140000
DTEND;TZID=America/New_York:20260712T180000
DTSTAMP:20260425T071746
CREATED:20260415T194819Z
LAST-MODIFIED:20260415T194819Z
UID:10009152-1783864800-1783879200@masthope.org
SUMMARY:Live Music - Frost Duo
DESCRIPTION:Enjoy live music on the Tiki Bar Patio! If rain\, in The Summit Restaurant. (Live music performances are subject to change.)
URL:https://masthope.org/event/live-music-frost-duo-11/
LOCATION:The Tiki Bar at Masthope\, 196 Karl Hope Boulevard\, Lackawaxen\, PA\, 18435
CATEGORIES:Live Music,Summit Restaurant
ATTACH;FMTTYPE=image/png:https://masthope.org/wp-content/uploads/sites/1856/2022/05/Picture2.png
END:VEVENT
BEGIN:VEVENT
DTSTART;TZID=America/New_York:20260718T190000
DTEND;TZID=America/New_York:20260718T220000
DTSTAMP:20260425T071746
CREATED:20260415T194931Z
LAST-MODIFIED:20260415T194931Z
UID:10009153-1784401200-1784412000@masthope.org
SUMMARY:Live Music - Gone Grey
DESCRIPTION:Enjoy live music on the Tiki Bar Patio! If rain\, in The Summit Restaurant. (Live music performances are subject to change.)
URL:https://masthope.org/event/live-music-gone-grey-4/
LOCATION:The Tiki Bar at Masthope\, 196 Karl Hope Boulevard\, Lackawaxen\, PA\, 18435
CATEGORIES:Live Music,Summit Restaurant
ATTACH;FMTTYPE=image/png:https://masthope.org/wp-content/uploads/sites/1856/2022/05/Picture2.png
END:VEVENT
END:VCALENDAR