BEGIN:VCALENDAR
VERSION:2.0
PRODID:-//Masthope Mountain Community - ECPv6.15.20//NONSGML v1.0//EN
CALSCALE:GREGORIAN
METHOD:PUBLISH
X-ORIGINAL-URL:https://masthope.org
X-WR-CALDESC:Events for Masthope Mountain Community
REFRESH-INTERVAL;VALUE=DURATION:PT1H
X-Robots-Tag:noindex
X-PUBLISHED-TTL:PT1H
BEGIN:VTIMEZONE
TZID:America/New_York
BEGIN:DAYLIGHT
TZOFFSETFROM:-0500
TZOFFSETTO:-0400
TZNAME:EDT
DTSTART:20250309T070000
END:DAYLIGHT
BEGIN:STANDARD
TZOFFSETFROM:-0400
TZOFFSETTO:-0500
TZNAME:EST
DTSTART:20251102T060000
END:STANDARD
BEGIN:DAYLIGHT
TZOFFSETFROM:-0500
TZOFFSETTO:-0400
TZNAME:EDT
DTSTART:20260308T070000
END:DAYLIGHT
BEGIN:STANDARD
TZOFFSETFROM:-0400
TZOFFSETTO:-0500
TZNAME:EST
DTSTART:20261101T060000
END:STANDARD
BEGIN:DAYLIGHT
TZOFFSETFROM:-0500
TZOFFSETTO:-0400
TZNAME:EDT
DTSTART:20270314T070000
END:DAYLIGHT
BEGIN:STANDARD
TZOFFSETFROM:-0400
TZOFFSETTO:-0500
TZNAME:EST
DTSTART:20271107T060000
END:STANDARD
END:VTIMEZONE
BEGIN:VEVENT
DTSTART;TZID=America/New_York:20260725T180000
DTEND;TZID=America/New_York:20260725T220000
DTSTAMP:20260420T215644
CREATED:20260415T195034Z
LAST-MODIFIED:20260415T195034Z
UID:10009155-1785002400-1785016800@masthope.org
SUMMARY:Live Music - Cold Sweat
DESCRIPTION:Enjoy live music on the Tiki Bar Patio! If rain\, in The Summit Restaurant. (Live music performances are subject to change.)
URL:https://masthope.org/event/live-music-cold-sweat-28/
LOCATION:The Tiki Bar at Masthope\, 196 Karl Hope Boulevard\, Lackawaxen\, PA\, 18435
CATEGORIES:Live Music,Summit Restaurant
ATTACH;FMTTYPE=image/png:https://masthope.org/wp-content/uploads/sites/1856/2022/05/Picture2.png
END:VEVENT
BEGIN:VEVENT
DTSTART;TZID=America/New_York:20260726T140000
DTEND;TZID=America/New_York:20260726T180000
DTSTAMP:20260420T215644
CREATED:20260415T195120Z
LAST-MODIFIED:20260415T195120Z
UID:10009156-1785074400-1785088800@masthope.org
SUMMARY:Live Music - Emily Nacchio
DESCRIPTION:Enjoy live music on the Tiki Bar Patio! If rain\, in The Summit Restaurant. (Live music performances are subject to change.)
URL:https://masthope.org/event/live-music-emily-nacchio-12/
LOCATION:The Tiki Bar at Masthope\, 196 Karl Hope Boulevard\, Lackawaxen\, PA\, 18435
CATEGORIES:Live Music,Summit Restaurant
ATTACH;FMTTYPE=image/png:https://masthope.org/wp-content/uploads/sites/1856/2022/05/Picture2.png
END:VEVENT
BEGIN:VEVENT
DTSTART;TZID=America/New_York:20260801T170000
DTEND;TZID=America/New_York:20260801T200000
DTSTAMP:20260420T215644
CREATED:20260415T195258Z
LAST-MODIFIED:20260415T195322Z
UID:10009157-1785603600-1785614400@masthope.org
SUMMARY:Live Music - Steel Drum Band @ Beach
DESCRIPTION:Enjoy live music on the sandy shores of Westcolang Lake! (Live music performances are subject to change.)
URL:https://masthope.org/event/live-music-steel-drum-band-beach/
LOCATION:Westcolang Lake Waterfront\, 349 Falling Waters Boulevard\, Lackawaxen\, PA\, 18435\, United States
CATEGORIES:Live Music,Summit Restaurant
ATTACH;FMTTYPE=image/png:https://masthope.org/wp-content/uploads/sites/1856/2022/05/Picture2.png
END:VEVENT
BEGIN:VEVENT
DTSTART;TZID=America/New_York:20260802T140000
DTEND;TZID=America/New_York:20260802T180000
DTSTAMP:20260420T215644
CREATED:20260420T163158Z
LAST-MODIFIED:20260420T164700Z
UID:10009161-1785679200-1785693600@masthope.org
SUMMARY:Live Music - Smokin' Buddie Steve
DESCRIPTION:Enjoy live music on the Tiki Bar Patio! If rain\, in The Summit Restaurant. (Live music performances are subject to change.)
URL:https://masthope.org/event/live-music-smokin-buddie-steve-21/
LOCATION:The Tiki Bar at Masthope\, 196 Karl Hope Boulevard\, Lackawaxen\, PA\, 18435
CATEGORIES:Live Music,Summit Restaurant
ATTACH;FMTTYPE=image/png:https://masthope.org/wp-content/uploads/sites/1856/2022/05/Picture2.png
END:VEVENT
BEGIN:VEVENT
DTSTART;TZID=America/New_York:20260808T180000
DTEND;TZID=America/New_York:20260808T220000
DTSTAMP:20260420T215644
CREATED:20260420T163308Z
LAST-MODIFIED:20260420T163308Z
UID:10009162-1786212000-1786226400@masthope.org
SUMMARY:Live Music - One Night Only
DESCRIPTION:Enjoy live music on the Tiki Bar Patio! If rain\, in The Summit Restaurant. (Live music performances are subject to change.)
URL:https://masthope.org/event/live-music-one-night-only/
LOCATION:The Tiki Bar at Masthope\, 196 Karl Hope Boulevard\, Lackawaxen\, PA\, 18435
CATEGORIES:Live Music,Summit Restaurant
ATTACH;FMTTYPE=image/png:https://masthope.org/wp-content/uploads/sites/1856/2022/05/Picture2.png
END:VEVENT
BEGIN:VEVENT
DTSTART;TZID=America/New_York:20260809T140000
DTEND;TZID=America/New_York:20260809T180000
DTSTAMP:20260420T215644
CREATED:20260420T163342Z
LAST-MODIFIED:20260420T163342Z
UID:10009163-1786284000-1786298400@masthope.org
SUMMARY:Live Music - Type A Duo
DESCRIPTION:Enjoy live music on the Tiki Bar Patio! If rain\, in The Summit Restaurant. (Live music performances are subject to change.)
URL:https://masthope.org/event/live-music-type-a-duo-2/
LOCATION:The Tiki Bar at Masthope\, 196 Karl Hope Boulevard\, Lackawaxen\, PA\, 18435
CATEGORIES:Live Music,Summit Restaurant
ATTACH;FMTTYPE=image/png:https://masthope.org/wp-content/uploads/sites/1856/2022/05/Picture2.png
END:VEVENT
BEGIN:VEVENT
DTSTART;TZID=America/New_York:20260815T180000
DTEND;TZID=America/New_York:20260815T220000
DTSTAMP:20260420T215644
CREATED:20260420T163456Z
LAST-MODIFIED:20260420T163456Z
UID:10009164-1786816800-1786831200@masthope.org
SUMMARY:Live Music - The Danno Rowland Band
DESCRIPTION:Enjoy live music on the Tiki Bar Patio! If rain\, in The Summit Restaurant. (Live music performances are subject to change.)
URL:https://masthope.org/event/live-music-the-danno-rowland-band-2/
LOCATION:The Tiki Bar at Masthope\, 196 Karl Hope Boulevard\, Lackawaxen\, PA\, 18435
CATEGORIES:Live Music,Summit Restaurant
ATTACH;FMTTYPE=image/png:https://masthope.org/wp-content/uploads/sites/1856/2022/05/Picture2.png
END:VEVENT
BEGIN:VEVENT
DTSTART;TZID=America/New_York:20260816T140000
DTEND;TZID=America/New_York:20260816T180000
DTSTAMP:20260420T215644
CREATED:20260420T163536Z
LAST-MODIFIED:20260420T163536Z
UID:10009165-1786888800-1786903200@masthope.org
SUMMARY:Live Music - Andre Turan
DESCRIPTION:Enjoy live music on the Tiki Bar Patio! If rain\, in The Summit Restaurant. (Live music performances are subject to change.)
URL:https://masthope.org/event/live-music-andre-turan-13/
LOCATION:The Tiki Bar at Masthope\, 196 Karl Hope Boulevard\, Lackawaxen\, PA\, 18435
CATEGORIES:Live Music,Summit Restaurant
ATTACH;FMTTYPE=image/png:https://masthope.org/wp-content/uploads/sites/1856/2022/05/Picture2.png
END:VEVENT
BEGIN:VEVENT
DTSTART;TZID=America/New_York:20260822T190000
DTEND;TZID=America/New_York:20260822T220000
DTSTAMP:20260420T215644
CREATED:20260420T163611Z
LAST-MODIFIED:20260420T163611Z
UID:10009166-1787425200-1787436000@masthope.org
SUMMARY:Live Music - Gone Grey
DESCRIPTION:Enjoy live music on the Tiki Bar Patio! If rain\, in The Summit Restaurant. (Live music performances are subject to change.)
URL:https://masthope.org/event/live-music-gone-grey-5/
LOCATION:The Tiki Bar at Masthope\, 196 Karl Hope Boulevard\, Lackawaxen\, PA\, 18435
CATEGORIES:Live Music,Summit Restaurant
ATTACH;FMTTYPE=image/png:https://masthope.org/wp-content/uploads/sites/1856/2022/05/Picture2.png
END:VEVENT
BEGIN:VEVENT
DTSTART;TZID=America/New_York:20260823T140000
DTEND;TZID=America/New_York:20260823T180000
DTSTAMP:20260420T215644
CREATED:20260420T163820Z
LAST-MODIFIED:20260420T163820Z
UID:10009167-1787493600-1787508000@masthope.org
SUMMARY:Live Music - Emily Nacchio
DESCRIPTION:Enjoy live music on the Tiki Bar Patio! If rain\, in The Summit Restaurant. (Live music performances are subject to change.)
URL:https://masthope.org/event/live-music-emily-nacchio-13/
LOCATION:The Tiki Bar at Masthope\, 196 Karl Hope Boulevard\, Lackawaxen\, PA\, 18435
CATEGORIES:Live Music,Summit Restaurant
ATTACH;FMTTYPE=image/png:https://masthope.org/wp-content/uploads/sites/1856/2022/05/Picture2.png
END:VEVENT
BEGIN:VEVENT
DTSTART;TZID=America/New_York:20260829T190000
DTEND;TZID=America/New_York:20260829T220000
DTSTAMP:20260420T215644
CREATED:20260420T163907Z
LAST-MODIFIED:20260420T163907Z
UID:10009168-1788030000-1788040800@masthope.org
SUMMARY:Live Music - Burl Millings
DESCRIPTION:Enjoy live music on the Tiki Bar Patio! If rain\, in The Summit Restaurant. (Live music performances are subject to change.)
URL:https://masthope.org/event/live-music-burl-millings-13/
LOCATION:The Tiki Bar at Masthope\, 196 Karl Hope Boulevard\, Lackawaxen\, PA\, 18435
CATEGORIES:Live Music,Summit Restaurant
ATTACH;FMTTYPE=image/png:https://masthope.org/wp-content/uploads/sites/1856/2022/05/Picture2.png
END:VEVENT
BEGIN:VEVENT
DTSTART;TZID=America/New_York:20260830T140000
DTEND;TZID=America/New_York:20260830T180000
DTSTAMP:20260420T215644
CREATED:20260420T164010Z
LAST-MODIFIED:20260420T164010Z
UID:10009169-1788098400-1788112800@masthope.org
SUMMARY:Live Music - The QT (Quake Trio)
DESCRIPTION:Enjoy live music on the Tiki Bar Patio! If rain\, in The Summit Restaurant. (Live music performances are subject to change.)
URL:https://masthope.org/event/live-music-the-qt-quake-trio-7/
LOCATION:The Tiki Bar at Masthope\, 196 Karl Hope Boulevard\, Lackawaxen\, PA\, 18435
CATEGORIES:Live Music,Summit Restaurant
ATTACH;FMTTYPE=image/png:https://masthope.org/wp-content/uploads/sites/1856/2022/05/Picture2.png
END:VEVENT
BEGIN:VEVENT
DTSTART;TZID=America/New_York:20260905T120000
DTEND;TZID=America/New_York:20260905T160000
DTSTAMP:20260420T215644
CREATED:20260415T192925Z
LAST-MODIFIED:20260415T192925Z
UID:10009141-1788609600-1788624000@masthope.org
SUMMARY:DJ Brad Keller
DESCRIPTION:Enjoy music from DJ Brad Keller on the Tiki Bar Patio. If rain\, inside The Summit Restaurant. (Live music performances are subject to change.)
URL:https://masthope.org/event/dj-brad-keller-12/2026-09-05/
LOCATION:The Tiki Bar at Masthope\, 196 Karl Hope Boulevard\, Lackawaxen\, PA\, 18435
CATEGORIES:Live Music,Summit Restaurant
ATTACH;FMTTYPE=image/jpeg:https://masthope.org/wp-content/uploads/sites/1856/2022/05/Picture1.jpg
END:VEVENT
BEGIN:VEVENT
DTSTART;TZID=America/New_York:20260905T180000
DTEND;TZID=America/New_York:20260905T220000
DTSTAMP:20260420T215644
CREATED:20260420T164134Z
LAST-MODIFIED:20260420T164134Z
UID:10009170-1788631200-1788645600@masthope.org
SUMMARY:Live Music - Cold Sweat
DESCRIPTION:Enjoy live music on the Tiki Bar Patio! If rain\, in The Summit Restaurant. (Live music performances are subject to change.)
URL:https://masthope.org/event/live-music-cold-sweat-29/
LOCATION:The Tiki Bar at Masthope\, 196 Karl Hope Boulevard\, Lackawaxen\, PA\, 18435
CATEGORIES:Live Music,Summit Restaurant
ATTACH;FMTTYPE=image/png:https://masthope.org/wp-content/uploads/sites/1856/2022/05/Picture2.png
END:VEVENT
END:VCALENDAR