BEGIN:VCALENDAR
VERSION:2.0
PRODID:-//Masthope Mountain Community - ECPv6.15.20//NONSGML v1.0//EN
CALSCALE:GREGORIAN
METHOD:PUBLISH
X-WR-CALNAME:Masthope Mountain Community
X-ORIGINAL-URL:https://masthope.org
X-WR-CALDESC:Events for Masthope Mountain Community
REFRESH-INTERVAL;VALUE=DURATION:PT1H
X-Robots-Tag:noindex
X-PUBLISHED-TTL:PT1H
BEGIN:VTIMEZONE
TZID:America/New_York
BEGIN:DAYLIGHT
TZOFFSETFROM:-0500
TZOFFSETTO:-0400
TZNAME:EDT
DTSTART:20240310T070000
END:DAYLIGHT
BEGIN:STANDARD
TZOFFSETFROM:-0400
TZOFFSETTO:-0500
TZNAME:EST
DTSTART:20241103T060000
END:STANDARD
BEGIN:DAYLIGHT
TZOFFSETFROM:-0500
TZOFFSETTO:-0400
TZNAME:EDT
DTSTART:20250309T070000
END:DAYLIGHT
BEGIN:STANDARD
TZOFFSETFROM:-0400
TZOFFSETTO:-0500
TZNAME:EST
DTSTART:20251102T060000
END:STANDARD
BEGIN:DAYLIGHT
TZOFFSETFROM:-0500
TZOFFSETTO:-0400
TZNAME:EDT
DTSTART:20260308T070000
END:DAYLIGHT
BEGIN:STANDARD
TZOFFSETFROM:-0400
TZOFFSETTO:-0500
TZNAME:EST
DTSTART:20261101T060000
END:STANDARD
END:VTIMEZONE
BEGIN:VEVENT
DTSTART;TZID=America/New_York:20250628T120000
DTEND;TZID=America/New_York:20250628T160000
DTSTAMP:20260425T210714
CREATED:20250414T144910Z
LAST-MODIFIED:20250414T144910Z
UID:10007589-1751112000-1751126400@masthope.org
SUMMARY:Car\, Truck & Motorcycle Show
DESCRIPTION:Back by popular demand! Join us for our Car\, Truck & Motorcycle Show\, benefitting our Westcolang Warriors Swim Team! Join us in Parking Lot B at the top of the mountain for raffles\, food\, and prizes for best in show and people’s choice! There is a $25 registration fee to register vehicles. Register here.  \nFor spectators\, this event is FREE! Rain date is Sunday\, June 29th.
URL:https://masthope.org/event/car-truck-motorcycle-show/
LOCATION:Mountain Top\, 196 Karl Hope Blvd\, Lackawaxen\, PA\, 18435\, United States
CATEGORIES:Activities & Traditions,Social
ATTACH;FMTTYPE=image/jpeg:https://masthope.org/wp-content/uploads/sites/1856/2023/03/Picture1.jpg
END:VEVENT
BEGIN:VEVENT
DTSTART;TZID=America/New_York:20250705T120000
DTEND;TZID=America/New_York:20250705T160000
DTSTAMP:20260425T210714
CREATED:20250414T141937Z
LAST-MODIFIED:20250414T141937Z
UID:10007585-1751716800-1751731200@masthope.org
SUMMARY:Independence Day Celebration & Carnival
DESCRIPTION:Step right up! Join us for our annual carnival and BBQ… fun for the whole family! Enjoy carnival games\, music\, slides\, cotton candy\, popcorn\, raffles and more!
URL:https://masthope.org/event/independence-day-celebration-carnival-3/
LOCATION:Mountain Top\, 196 Karl Hope Blvd\, Lackawaxen\, PA\, 18435\, United States
CATEGORIES:Activities & Traditions,Social
ATTACH;FMTTYPE=image/png:https://masthope.org/wp-content/uploads/sites/1856/2022/04/Presentation1.png
END:VEVENT
BEGIN:VEVENT
DTSTART;TZID=America/New_York:20250712T200000
DTEND;TZID=America/New_York:20250713T090000
DTSTAMP:20260425T210714
CREATED:20250623T142231Z
LAST-MODIFIED:20250623T142231Z
UID:10007714-1752350400-1752397200@masthope.org
SUMMARY:Beach Campout
DESCRIPTION:Join us for our annual Beach Campout! Setup 8pm on Saturday / Breakdown by 9am Sunday. \nClick here to sign up online.
URL:https://masthope.org/event/beach-campout-4/
LOCATION:Westcolang Lake Waterfront\, 349 Falling Waters Boulevard\, Lackawaxen\, PA\, 18435\, United States
CATEGORIES:Activities & Traditions,Social
ATTACH;FMTTYPE=image/jpeg:https://masthope.org/wp-content/uploads/sites/1856/2022/07/8CFA37D4-B2B0-6E48-8D390D513C5E2394-large.jpg
END:VEVENT
BEGIN:VEVENT
DTSTART;TZID=America/New_York:20250725T190000
DTEND;TZID=America/New_York:20250725T200000
DTSTAMP:20260425T210714
CREATED:20240617T140408Z
LAST-MODIFIED:20250623T164239Z
UID:10002674-1753470000-1753473600@masthope.org
SUMMARY:Kid's Pool Party
DESCRIPTION:Kids ages 5-12 can join us for music\, dancing\, swimming and fun! Sign up here.
URL:https://masthope.org/event/kids-pool-party-5/
LOCATION:Pool Complex
CATEGORIES:Activities & Traditions,Social
ATTACH;FMTTYPE=image/jpeg:https://masthope.org/wp-content/uploads/sites/1856/2022/06/ppt9943.pptm-AutoRecovered.jpg
END:VEVENT
BEGIN:VEVENT
DTSTART;TZID=America/New_York:20250725T200000
DTEND;TZID=America/New_York:20250725T220000
DTSTAMP:20260425T210714
CREATED:20250623T164534Z
LAST-MODIFIED:20250623T164534Z
UID:10007720-1753473600-1753480800@masthope.org
SUMMARY:Teen Pool Party
DESCRIPTION:Teens ages 13-18 can join us for music\, dancing\, swimming and fun! Sign up here.
URL:https://masthope.org/event/teen-pool-party-6/
LOCATION:Pool Complex
CATEGORIES:Activities & Traditions,Social
ATTACH;FMTTYPE=image/jpeg:https://masthope.org/wp-content/uploads/sites/1856/2022/06/ppt9943.pptm-AutoRecovered.jpg
END:VEVENT
BEGIN:VEVENT
DTSTART;VALUE=DATE:20250726
DTEND;VALUE=DATE:20250728
DTSTAMP:20260425T210714
CREATED:20250623T181450Z
LAST-MODIFIED:20250714T124941Z
UID:10007724-1753488000-1753660799@masthope.org
SUMMARY:Community Yard Sale (NEW DATE)
DESCRIPTION:Masthope and Fawn Lake will be hosting our annual yard sale. Pick up maps with highlighted yards at the POC or Marketplace. For more information\, please call 570-685-4790. \nTo participate as a seller\, register here. (No fee required) \nSaturday: 10am-4pm \nSunday: 10am-2pm
URL:https://masthope.org/event/community-yard-sale-4/
LOCATION:Community Wide
CATEGORIES:Activities & Traditions,Social
ATTACH;FMTTYPE=image/jpeg:https://masthope.org/wp-content/uploads/sites/1856/2022/06/istockphoto-482430364-612x612-1.jpg
END:VEVENT
BEGIN:VEVENT
DTSTART;TZID=America/New_York:20250809T190000
DTEND;TZID=America/New_York:20250809T200000
DTSTAMP:20260425T210714
CREATED:20250414T143834Z
LAST-MODIFIED:20250623T165417Z
UID:10007588-1754766000-1754769600@masthope.org
SUMMARY:The Great Cardboard Boat Race
DESCRIPTION:A Masthope favorite returns! Save the date for our cardboard boat race. Teams of up to 6 people are challenged to get creative and construct a boat made entirely from corrugated cardboard and navigate it across our upper pool from one side to the other and back. Teams will consist of a captain\, first mate\, and up to a four person crew. Judging and awards will be for fastest finish time\, most creative design and most dramatic sink. 20 teams may register on a first come first serve basis. The official rules for the race can be picked up at the office. $20 fee to register. \n3pm-6:30pm build time / race at 7pm \nSIGN UP HERE
URL:https://masthope.org/event/the-great-cardboard-boat-race-3/
LOCATION:Pool Complex
CATEGORIES:Activities & Traditions,Social
ATTACH;FMTTYPE=image/png:https://masthope.org/wp-content/uploads/sites/1856/2023/07/Presentation1.png
END:VEVENT
BEGIN:VEVENT
DTSTART;TZID=America/New_York:20250810T084500
DTEND;TZID=America/New_York:20250810T193000
DTSTAMP:20260425T210714
CREATED:20250414T151043Z
LAST-MODIFIED:20250804T140709Z
UID:10007590-1754815500-1754854200@masthope.org
SUMMARY:Casino Trip - Wind Creek Bethlehem - CANCELED
DESCRIPTION:Due to lack of sign ups\, this event has been CANCELED. \nJoin us for an afternoon of fun at Wind Creek Bethlehem\, with transportation provided from/to Masthope! \n\nMeet at Parking Lot B at 8:45am – Bus departs at 9am\nArrive at Wind Creek at 11am / Depart Wind Creek at 5pm\nArrival back in Masthope at 7:30pm\n\n$55 per person – ($25 of free slot play is included!) \n21+ EVENT \nMinimum of 40 people is required / Maximum of 52 people.
URL:https://masthope.org/event/2273/
LOCATION:Wind Creek Bethlehem\, 77 Wind Creek Blvd\, Bethlehem\, PA\, 18015\, United States
CATEGORIES:Activities & Traditions,Local,Social
ATTACH;FMTTYPE=image/jpeg:https://masthope.org/wp-content/uploads/sites/1856/2025/04/bethlehem-casino-live.jpeg
END:VEVENT
BEGIN:VEVENT
DTSTART;TZID=America/New_York:20250816T190000
DTEND;TZID=America/New_York:20250817T090000
DTSTAMP:20260425T210714
CREATED:20250623T170202Z
LAST-MODIFIED:20250804T141703Z
UID:10007722-1755370800-1755421200@masthope.org
SUMMARY:Mountain Campout
DESCRIPTION:Join us for our annual Mountain Top Campout! Setup 7pm on Saturday / Breakdown by 9am Sunday. \nSign up here!
URL:https://masthope.org/event/mountain-campout-3/
LOCATION:Mountain Top\, 196 Karl Hope Blvd\, Lackawaxen\, PA\, 18435\, United States
CATEGORIES:Activities & Traditions,Social
ATTACH;FMTTYPE=image/jpeg:https://masthope.org/wp-content/uploads/sites/1856/2022/07/8CFA37D4-B2B0-6E48-8D390D513C5E2394-large.jpg
END:VEVENT
BEGIN:VEVENT
DTSTART;TZID=America/New_York:20250823T120000
DTEND;TZID=America/New_York:20250823T160000
DTSTAMP:20260425T210714
CREATED:20250818T162642Z
LAST-MODIFIED:20250818T162642Z
UID:10008140-1755950400-1755964800@masthope.org
SUMMARY:Cornhole Tournament
DESCRIPTION:Join us for Masthope’s second Cornhole Tournament of the summer! Teams of 2 are invited to sign up to participate. $25 registration fee per team. Boards and bags are provided. Prizes awarded to winners. Sign up here.
URL:https://masthope.org/event/cornhole-tournament-2/
LOCATION:Mountain Top\, 196 Karl Hope Blvd\, Lackawaxen\, PA\, 18435\, United States
CATEGORIES:Activities & Traditions,Local,Social
ATTACH;FMTTYPE=image/jpeg:https://masthope.org/wp-content/uploads/sites/1856/2024/06/Picture2.jpg
END:VEVENT
BEGIN:VEVENT
DTSTART;TZID=America/New_York:20250915T183000
DTEND;TZID=America/New_York:20250915T200000
DTSTAMP:20260425T210714
CREATED:20250915T171257Z
LAST-MODIFIED:20260323T172025Z
UID:10008264-1757961000-1757966400@masthope.org
SUMMARY:Monday Trivia Night!
DESCRIPTION:Join us at the Summit Restaurant on Mondays at 6:30pm for Trivia Night! Form a team and put your knowledge to the test. Prizes awarded to winners.
URL:https://masthope.org/event/monday-trivia-night-5/2025-09-15/
LOCATION:The Summit Restaurant\, 196 Karl Hope Blvd\, Lackawaxen\, PA\, 18435
CATEGORIES:Activities & Traditions,Social,Summit Restaurant
ATTACH;FMTTYPE=image/jpeg:https://masthope.org/wp-content/uploads/sites/1856/2024/03/trivia.jpg
END:VEVENT
BEGIN:VEVENT
DTSTART;TZID=America/New_York:20250922T183000
DTEND;TZID=America/New_York:20250922T200000
DTSTAMP:20260425T210714
CREATED:20250915T171257Z
LAST-MODIFIED:20260323T172025Z
UID:10008265-1758565800-1758571200@masthope.org
SUMMARY:Monday Trivia Night!
DESCRIPTION:Join us at the Summit Restaurant on Mondays at 6:30pm for Trivia Night! Form a team and put your knowledge to the test. Prizes awarded to winners.
URL:https://masthope.org/event/monday-trivia-night-5/2025-09-22/
LOCATION:The Summit Restaurant\, 196 Karl Hope Blvd\, Lackawaxen\, PA\, 18435
CATEGORIES:Activities & Traditions,Social,Summit Restaurant
ATTACH;FMTTYPE=image/jpeg:https://masthope.org/wp-content/uploads/sites/1856/2024/03/trivia.jpg
END:VEVENT
BEGIN:VEVENT
DTSTART;TZID=America/New_York:20250929T183000
DTEND;TZID=America/New_York:20250929T200000
DTSTAMP:20260425T210714
CREATED:20250915T171257Z
LAST-MODIFIED:20260323T172025Z
UID:10008266-1759170600-1759176000@masthope.org
SUMMARY:Monday Trivia Night!
DESCRIPTION:Join us at the Summit Restaurant on Mondays at 6:30pm for Trivia Night! Form a team and put your knowledge to the test. Prizes awarded to winners.
URL:https://masthope.org/event/monday-trivia-night-5/2025-09-29/
LOCATION:The Summit Restaurant\, 196 Karl Hope Blvd\, Lackawaxen\, PA\, 18435
CATEGORIES:Activities & Traditions,Social,Summit Restaurant
ATTACH;FMTTYPE=image/jpeg:https://masthope.org/wp-content/uploads/sites/1856/2024/03/trivia.jpg
END:VEVENT
BEGIN:VEVENT
DTSTART;TZID=America/New_York:20251006T183000
DTEND;TZID=America/New_York:20251006T200000
DTSTAMP:20260425T210714
CREATED:20250915T171257Z
LAST-MODIFIED:20260323T172025Z
UID:10008267-1759775400-1759780800@masthope.org
SUMMARY:Monday Trivia Night!
DESCRIPTION:Join us at the Summit Restaurant on Mondays at 6:30pm for Trivia Night! Form a team and put your knowledge to the test. Prizes awarded to winners.
URL:https://masthope.org/event/monday-trivia-night-5/2025-10-06/
LOCATION:The Summit Restaurant\, 196 Karl Hope Blvd\, Lackawaxen\, PA\, 18435
CATEGORIES:Activities & Traditions,Social,Summit Restaurant
ATTACH;FMTTYPE=image/jpeg:https://masthope.org/wp-content/uploads/sites/1856/2024/03/trivia.jpg
END:VEVENT
BEGIN:VEVENT
DTSTART;TZID=America/New_York:20251011T130000
DTEND;TZID=America/New_York:20251011T160000
DTSTAMP:20260425T210714
CREATED:20250623T170107Z
LAST-MODIFIED:20250811T124408Z
UID:10007721-1760187600-1760198400@masthope.org
SUMMARY:Designer Pocketbook Bingo
DESCRIPTION:Benefitting C Alley Cats of Lake Wallenpaupack \nJoin us for our annual “Purse Bingo” featuring bags from Coach\, Michael Kors\, Kate Spade and more! Doors open at 1pm. Games start at 2pm. Tickets are $25 in advance and $30 at the door. For tickets and more info\, text June Carrozza at 718-909-4572 or Susan Costomiris at 917-743-5019.
URL:https://masthope.org/event/designer-pocketbook-bingo-3/
LOCATION:The Lodge at Masthope\, 196 Karl Hope Blvd\, Lackawaxen\, PA\, 18435\, United States
CATEGORIES:Activities & Traditions,Local,Social
ATTACH;FMTTYPE=image/jpeg:https://masthope.org/wp-content/uploads/sites/1856/2022/09/Picture2-scaled.jpg
END:VEVENT
BEGIN:VEVENT
DTSTART;TZID=America/New_York:20251013T183000
DTEND;TZID=America/New_York:20251013T200000
DTSTAMP:20260425T210714
CREATED:20250915T171257Z
LAST-MODIFIED:20260323T172025Z
UID:10008268-1760380200-1760385600@masthope.org
SUMMARY:Monday Trivia Night!
DESCRIPTION:Join us at the Summit Restaurant on Mondays at 6:30pm for Trivia Night! Form a team and put your knowledge to the test. Prizes awarded to winners.
URL:https://masthope.org/event/monday-trivia-night-5/2025-10-13/
LOCATION:The Summit Restaurant\, 196 Karl Hope Blvd\, Lackawaxen\, PA\, 18435
CATEGORIES:Activities & Traditions,Social,Summit Restaurant
ATTACH;FMTTYPE=image/jpeg:https://masthope.org/wp-content/uploads/sites/1856/2024/03/trivia.jpg
END:VEVENT
BEGIN:VEVENT
DTSTART;TZID=America/New_York:20251018T113000
DTEND;TZID=America/New_York:20251018T210000
DTSTAMP:20260425T210714
CREATED:20250922T133641Z
LAST-MODIFIED:20250922T134532Z
UID:10008349-1760787000-1760821200@masthope.org
SUMMARY:The Autumn Open Golf Outing - "Fore the Feast"
DESCRIPTION:Join us for a fantastic day of golf\, on course prizes\, raffles\, and fun hosted by the Summit Restaurant at the Cricket Hill Golf Club. Join us on the course at 11:30am for registration / 12pm putting contest / 1pm shotgun start. Boxed lunch and refreshments on the course. Prizes\, 50/50 and raffles supporting local food pantries. \nScramble / Best Ball / Mixed Teams Format \nAfter golf\, head back to The Summit for a buffet dinner with a cash bar. \n$480 PER TEAM of 4 for dinner & golf. ($120 per player) Click here to register \nYour email confirmation from this transaction is your ticket to the event.
URL:https://masthope.org/event/the-autumn-open-golf-outing-fore-the-feast/
LOCATION:Cricket Hill Golf Club\, 176 Cricket Hill Rd.\, Hawley\, PA\, 18428\, United States
CATEGORIES:Activities & Traditions,Local,Social,Summit Restaurant
ATTACH;FMTTYPE=image/jpeg:https://masthope.org/wp-content/uploads/sites/1856/2024/03/golf.jpg
END:VEVENT
BEGIN:VEVENT
DTSTART;TZID=America/New_York:20251020T183000
DTEND;TZID=America/New_York:20251020T200000
DTSTAMP:20260425T210714
CREATED:20250915T171257Z
LAST-MODIFIED:20260323T172025Z
UID:10008269-1760985000-1760990400@masthope.org
SUMMARY:Monday Trivia Night!
DESCRIPTION:Join us at the Summit Restaurant on Mondays at 6:30pm for Trivia Night! Form a team and put your knowledge to the test. Prizes awarded to winners.
URL:https://masthope.org/event/monday-trivia-night-5/2025-10-20/
LOCATION:The Summit Restaurant\, 196 Karl Hope Blvd\, Lackawaxen\, PA\, 18435
CATEGORIES:Activities & Traditions,Social,Summit Restaurant
ATTACH;FMTTYPE=image/jpeg:https://masthope.org/wp-content/uploads/sites/1856/2024/03/trivia.jpg
END:VEVENT
BEGIN:VEVENT
DTSTART;TZID=America/New_York:20251027T183000
DTEND;TZID=America/New_York:20251027T200000
DTSTAMP:20260425T210714
CREATED:20250915T171257Z
LAST-MODIFIED:20260323T172025Z
UID:10008270-1761589800-1761595200@masthope.org
SUMMARY:Monday Trivia Night!
DESCRIPTION:Join us at the Summit Restaurant on Mondays at 6:30pm for Trivia Night! Form a team and put your knowledge to the test. Prizes awarded to winners.
URL:https://masthope.org/event/monday-trivia-night-5/2025-10-27/
LOCATION:The Summit Restaurant\, 196 Karl Hope Blvd\, Lackawaxen\, PA\, 18435
CATEGORIES:Activities & Traditions,Social,Summit Restaurant
ATTACH;FMTTYPE=image/jpeg:https://masthope.org/wp-content/uploads/sites/1856/2024/03/trivia.jpg
END:VEVENT
BEGIN:VEVENT
DTSTART;TZID=America/New_York:20251101T120000
DTEND;TZID=America/New_York:20251101T150000
DTSTAMP:20260425T210714
CREATED:20250910T131840Z
LAST-MODIFIED:20250910T131840Z
UID:10008248-1761998400-1762009200@masthope.org
SUMMARY:Trunk or Treat
DESCRIPTION:Join us for our annual Trunk or Treat on the mountain. Decorate your vehicle and be sure to bring plenty of candy for our trick or treaters! – Trunk set up at 12pm – Treating begins at 1pm until candy runs out.
URL:https://masthope.org/event/trunk-or-treat-4/
LOCATION:Mountain Top\, 196 Karl Hope Blvd\, Lackawaxen\, PA\, 18435\, United States
CATEGORIES:Activities & Traditions,Social
ATTACH;FMTTYPE=image/jpeg:https://masthope.org/wp-content/uploads/sites/1856/2022/09/Picture6.jpg
END:VEVENT
BEGIN:VEVENT
DTSTART;TZID=America/New_York:20251101T180000
DTEND;TZID=America/New_York:20251101T235900
DTSTAMP:20260425T210714
CREATED:20250910T132320Z
LAST-MODIFIED:20250915T171358Z
UID:10008250-1762020000-1762041540@masthope.org
SUMMARY:Halloween and Costume Parties
DESCRIPTION:Family Halloween Ball: 6pm-9pm / Adult Halloween Ball: 9pm-12am \nFeaturing music from DJ Flow\, Halloween treats\, a costume contest\, and more!
URL:https://masthope.org/event/halloween-and-costume-parties-3/
LOCATION:The Lodge at Masthope\, 196 Karl Hope Blvd\, Lackawaxen\, PA\, 18435\, United States
CATEGORIES:Activities & Traditions,Social,Summit Restaurant
ATTACH;FMTTYPE=image/jpeg:https://masthope.org/wp-content/uploads/sites/1856/2022/09/Presentation1-3.jpg
END:VEVENT
BEGIN:VEVENT
DTSTART;TZID=America/New_York:20251101T190000
DTEND;TZID=America/New_York:20251101T210000
DTSTAMP:20260425T210714
CREATED:20250915T171617Z
LAST-MODIFIED:20250922T142957Z
UID:10008280-1762023600-1762030800@masthope.org
SUMMARY:Haunted Trail Walk
DESCRIPTION:It’s Spooky Season! Do you have what it takes to join us on our Haunted Walk? – $5 donation per person. The witches are waiting for you! Meet outside the lodge.
URL:https://masthope.org/event/haunted-trail-walk-5/2025-11-01/
LOCATION:Mountain Top\, 196 Karl Hope Blvd\, Lackawaxen\, PA\, 18435\, United States
CATEGORIES:Activities & Traditions,Social
ATTACH;FMTTYPE=image/jpeg:https://masthope.org/wp-content/uploads/sites/1856/2022/09/Picture4-scaled.jpg
END:VEVENT
BEGIN:VEVENT
DTSTART;TZID=America/New_York:20251102T190000
DTEND;TZID=America/New_York:20251102T210000
DTSTAMP:20260425T210714
CREATED:20250915T171617Z
LAST-MODIFIED:20250922T142957Z
UID:10008281-1762110000-1762117200@masthope.org
SUMMARY:Haunted Trail Walk
DESCRIPTION:It’s Spooky Season! Do you have what it takes to join us on our Haunted Walk? – $5 donation per person. The witches are waiting for you! Meet outside the lodge.
URL:https://masthope.org/event/haunted-trail-walk-5/2025-11-02/
LOCATION:Mountain Top\, 196 Karl Hope Blvd\, Lackawaxen\, PA\, 18435\, United States
CATEGORIES:Activities & Traditions,Social
ATTACH;FMTTYPE=image/jpeg:https://masthope.org/wp-content/uploads/sites/1856/2022/09/Picture4-scaled.jpg
END:VEVENT
BEGIN:VEVENT
DTSTART;TZID=America/New_York:20251103T183000
DTEND;TZID=America/New_York:20251103T200000
DTSTAMP:20260425T210714
CREATED:20250915T171257Z
LAST-MODIFIED:20260323T172025Z
UID:10008271-1762194600-1762200000@masthope.org
SUMMARY:Monday Trivia Night!
DESCRIPTION:Join us at the Summit Restaurant on Mondays at 6:30pm for Trivia Night! Form a team and put your knowledge to the test. Prizes awarded to winners.
URL:https://masthope.org/event/monday-trivia-night-5/2025-11-03/
LOCATION:The Summit Restaurant\, 196 Karl Hope Blvd\, Lackawaxen\, PA\, 18435
CATEGORIES:Activities & Traditions,Social,Summit Restaurant
ATTACH;FMTTYPE=image/jpeg:https://masthope.org/wp-content/uploads/sites/1856/2024/03/trivia.jpg
END:VEVENT
BEGIN:VEVENT
DTSTART;TZID=America/New_York:20251108T120000
DTEND;TZID=America/New_York:20251108T150000
DTSTAMP:20260425T210714
CREATED:20250910T132029Z
LAST-MODIFIED:20250910T140236Z
UID:10008249-1762603200-1762614000@masthope.org
SUMMARY:Annual Chili Cookoff
DESCRIPTION:Doors open to the general public at 1pm. Please bring a non-perishable food item as a donation for our local food pantry. Sign up here to enter the contest. For more information\, see the list of entry rules in the Masthope Weekly.
URL:https://masthope.org/event/annual-chili-cookoff-4/
LOCATION:The Lodge at Masthope\, 196 Karl Hope Blvd\, Lackawaxen\, PA\, 18435\, United States
CATEGORIES:Activities & Traditions,Social
ATTACH;FMTTYPE=image/jpeg:https://masthope.org/wp-content/uploads/sites/1856/2022/09/Presentation1-5.jpg
END:VEVENT
BEGIN:VEVENT
DTSTART;TZID=America/New_York:20251110T183000
DTEND;TZID=America/New_York:20251110T200000
DTSTAMP:20260425T210714
CREATED:20250915T171257Z
LAST-MODIFIED:20260323T172025Z
UID:10008272-1762799400-1762804800@masthope.org
SUMMARY:Monday Trivia Night!
DESCRIPTION:Join us at the Summit Restaurant on Mondays at 6:30pm for Trivia Night! Form a team and put your knowledge to the test. Prizes awarded to winners.
URL:https://masthope.org/event/monday-trivia-night-5/2025-11-10/
LOCATION:The Summit Restaurant\, 196 Karl Hope Blvd\, Lackawaxen\, PA\, 18435
CATEGORIES:Activities & Traditions,Social,Summit Restaurant
ATTACH;FMTTYPE=image/jpeg:https://masthope.org/wp-content/uploads/sites/1856/2024/03/trivia.jpg
END:VEVENT
BEGIN:VEVENT
DTSTART;TZID=America/New_York:20251117T183000
DTEND;TZID=America/New_York:20251117T200000
DTSTAMP:20260425T210714
CREATED:20250915T171257Z
LAST-MODIFIED:20260323T172025Z
UID:10008273-1763404200-1763409600@masthope.org
SUMMARY:Monday Trivia Night!
DESCRIPTION:Join us at the Summit Restaurant on Mondays at 6:30pm for Trivia Night! Form a team and put your knowledge to the test. Prizes awarded to winners.
URL:https://masthope.org/event/monday-trivia-night-5/2025-11-17/
LOCATION:The Summit Restaurant\, 196 Karl Hope Blvd\, Lackawaxen\, PA\, 18435
CATEGORIES:Activities & Traditions,Social,Summit Restaurant
ATTACH;FMTTYPE=image/jpeg:https://masthope.org/wp-content/uploads/sites/1856/2024/03/trivia.jpg
END:VEVENT
BEGIN:VEVENT
DTSTART;VALUE=DATE:20251122
DTEND;VALUE=DATE:20251124
DTSTAMP:20260425T210714
CREATED:20250922T130714Z
LAST-MODIFIED:20250922T131736Z
UID:10008348-1763769600-1763942399@masthope.org
SUMMARY:Annual Ski Swap
DESCRIPTION:Masthope Mountain Community and Ski Big Bear will host our annual Ski Swap on Saturday\, November 22 from 9am-5pm and Sunday\, November 23 from 9am-3pm in the Lodge. Bring equipment to sell or come to shop for yourself. Guenther’s Ski Haus will bring hundreds of new and used skis\, snowboards and boots to sell. A portion of the proceeds will be donated to the Lackawaxen Ambulance Service. Equipment for sale can only be brought in Saturday morning starting at 9 a.m. All unsold equipment must be picked up by 3 p.m. Sunday afternoon.
URL:https://masthope.org/event/annual-ski-swap-4/
LOCATION:The Lodge at Masthope\, 196 Karl Hope Blvd\, Lackawaxen\, PA\, 18435\, United States
CATEGORIES:Activities & Traditions,Local,Social
ATTACH;FMTTYPE=image/jpeg:https://masthope.org/wp-content/uploads/sites/1856/2022/09/Picture1-1.jpg
END:VEVENT
BEGIN:VEVENT
DTSTART;TZID=America/New_York:20251122T190000
DTEND;TZID=America/New_York:20251122T213000
DTSTAMP:20260425T210714
CREATED:20250929T023303Z
LAST-MODIFIED:20251007T004747Z
UID:10008350-1763838000-1763847000@masthope.org
SUMMARY:Warren Miller Ski Movie Showing
DESCRIPTION:Get excited for the winter season! Join Ski Big Bear and the Ski Committee for a special showing of a classic Warren Miller ski movie. Free popcorn will be provided. The Summit Restaurant will feature some food and beverage specials. This film is rated TV-14 and is recommended for viewers ages 14+.
URL:https://masthope.org/event/warren-miller-ski-movie-showing-3/
LOCATION:The Lodge at Masthope\, 196 Karl Hope Blvd\, Lackawaxen\, PA\, 18435\, United States
CATEGORIES:Activities & Traditions,Social
ATTACH;FMTTYPE=image/jpeg:https://masthope.org/wp-content/uploads/sites/1856/2022/11/Picture1-1.jpg
END:VEVENT
BEGIN:VEVENT
DTSTART;TZID=America/New_York:20251124T183000
DTEND;TZID=America/New_York:20251124T200000
DTSTAMP:20260425T210714
CREATED:20250915T171257Z
LAST-MODIFIED:20260323T172025Z
UID:10008274-1764009000-1764014400@masthope.org
SUMMARY:Monday Trivia Night!
DESCRIPTION:Join us at the Summit Restaurant on Mondays at 6:30pm for Trivia Night! Form a team and put your knowledge to the test. Prizes awarded to winners.
URL:https://masthope.org/event/monday-trivia-night-5/2025-11-24/
LOCATION:The Summit Restaurant\, 196 Karl Hope Blvd\, Lackawaxen\, PA\, 18435
CATEGORIES:Activities & Traditions,Social,Summit Restaurant
ATTACH;FMTTYPE=image/jpeg:https://masthope.org/wp-content/uploads/sites/1856/2024/03/trivia.jpg
END:VEVENT
END:VCALENDAR