BEGIN:VCALENDAR
VERSION:2.0
PRODID:-//Masthope Mountain Community - ECPv6.15.20//NONSGML v1.0//EN
CALSCALE:GREGORIAN
METHOD:PUBLISH
X-WR-CALNAME:Masthope Mountain Community
X-ORIGINAL-URL:https://masthope.org
X-WR-CALDESC:Events for Masthope Mountain Community
REFRESH-INTERVAL;VALUE=DURATION:PT1H
X-Robots-Tag:noindex
X-PUBLISHED-TTL:PT1H
BEGIN:VTIMEZONE
TZID:America/New_York
BEGIN:DAYLIGHT
TZOFFSETFROM:-0500
TZOFFSETTO:-0400
TZNAME:EDT
DTSTART:20240310T070000
END:DAYLIGHT
BEGIN:STANDARD
TZOFFSETFROM:-0400
TZOFFSETTO:-0500
TZNAME:EST
DTSTART:20241103T060000
END:STANDARD
BEGIN:DAYLIGHT
TZOFFSETFROM:-0500
TZOFFSETTO:-0400
TZNAME:EDT
DTSTART:20250309T070000
END:DAYLIGHT
BEGIN:STANDARD
TZOFFSETFROM:-0400
TZOFFSETTO:-0500
TZNAME:EST
DTSTART:20251102T060000
END:STANDARD
BEGIN:DAYLIGHT
TZOFFSETFROM:-0500
TZOFFSETTO:-0400
TZNAME:EDT
DTSTART:20260308T070000
END:DAYLIGHT
BEGIN:STANDARD
TZOFFSETFROM:-0400
TZOFFSETTO:-0500
TZNAME:EST
DTSTART:20261101T060000
END:STANDARD
BEGIN:DAYLIGHT
TZOFFSETFROM:-0500
TZOFFSETTO:-0400
TZNAME:EDT
DTSTART:20270314T070000
END:DAYLIGHT
BEGIN:STANDARD
TZOFFSETFROM:-0400
TZOFFSETTO:-0500
TZNAME:EST
DTSTART:20271107T060000
END:STANDARD
END:VTIMEZONE
BEGIN:VEVENT
DTSTART;TZID=America/New_York:20251110T183000
DTEND;TZID=America/New_York:20251110T200000
DTSTAMP:20260421T151348
CREATED:20250915T171257Z
LAST-MODIFIED:20260323T172025Z
UID:10008272-1762799400-1762804800@masthope.org
SUMMARY:Monday Trivia Night!
DESCRIPTION:Join us at the Summit Restaurant on Mondays at 6:30pm for Trivia Night! Form a team and put your knowledge to the test. Prizes awarded to winners.
URL:https://masthope.org/event/monday-trivia-night-5/2025-11-10/
LOCATION:The Summit Restaurant\, 196 Karl Hope Blvd\, Lackawaxen\, PA\, 18435
CATEGORIES:Activities & Traditions,Social,Summit Restaurant
ATTACH;FMTTYPE=image/jpeg:https://masthope.org/wp-content/uploads/sites/1856/2024/03/trivia.jpg
END:VEVENT
BEGIN:VEVENT
DTSTART;TZID=America/New_York:20251117T183000
DTEND;TZID=America/New_York:20251117T200000
DTSTAMP:20260421T151348
CREATED:20250915T171257Z
LAST-MODIFIED:20260323T172025Z
UID:10008273-1763404200-1763409600@masthope.org
SUMMARY:Monday Trivia Night!
DESCRIPTION:Join us at the Summit Restaurant on Mondays at 6:30pm for Trivia Night! Form a team and put your knowledge to the test. Prizes awarded to winners.
URL:https://masthope.org/event/monday-trivia-night-5/2025-11-17/
LOCATION:The Summit Restaurant\, 196 Karl Hope Blvd\, Lackawaxen\, PA\, 18435
CATEGORIES:Activities & Traditions,Social,Summit Restaurant
ATTACH;FMTTYPE=image/jpeg:https://masthope.org/wp-content/uploads/sites/1856/2024/03/trivia.jpg
END:VEVENT
BEGIN:VEVENT
DTSTART;VALUE=DATE:20251122
DTEND;VALUE=DATE:20251124
DTSTAMP:20260421T151348
CREATED:20250922T130714Z
LAST-MODIFIED:20250922T131736Z
UID:10008348-1763769600-1763942399@masthope.org
SUMMARY:Annual Ski Swap
DESCRIPTION:Masthope Mountain Community and Ski Big Bear will host our annual Ski Swap on Saturday\, November 22 from 9am-5pm and Sunday\, November 23 from 9am-3pm in the Lodge. Bring equipment to sell or come to shop for yourself. Guenther’s Ski Haus will bring hundreds of new and used skis\, snowboards and boots to sell. A portion of the proceeds will be donated to the Lackawaxen Ambulance Service. Equipment for sale can only be brought in Saturday morning starting at 9 a.m. All unsold equipment must be picked up by 3 p.m. Sunday afternoon.
URL:https://masthope.org/event/annual-ski-swap-4/
LOCATION:The Lodge at Masthope\, 196 Karl Hope Blvd\, Lackawaxen\, PA\, 18435\, United States
CATEGORIES:Activities & Traditions,Local,Social
ATTACH;FMTTYPE=image/jpeg:https://masthope.org/wp-content/uploads/sites/1856/2022/09/Picture1-1.jpg
END:VEVENT
BEGIN:VEVENT
DTSTART;TZID=America/New_York:20251122T190000
DTEND;TZID=America/New_York:20251122T213000
DTSTAMP:20260421T151348
CREATED:20250929T023303Z
LAST-MODIFIED:20251007T004747Z
UID:10008350-1763838000-1763847000@masthope.org
SUMMARY:Warren Miller Ski Movie Showing
DESCRIPTION:Get excited for the winter season! Join Ski Big Bear and the Ski Committee for a special showing of a classic Warren Miller ski movie. Free popcorn will be provided. The Summit Restaurant will feature some food and beverage specials. This film is rated TV-14 and is recommended for viewers ages 14+.
URL:https://masthope.org/event/warren-miller-ski-movie-showing-3/
LOCATION:The Lodge at Masthope\, 196 Karl Hope Blvd\, Lackawaxen\, PA\, 18435\, United States
CATEGORIES:Activities & Traditions,Social
ATTACH;FMTTYPE=image/jpeg:https://masthope.org/wp-content/uploads/sites/1856/2022/11/Picture1-1.jpg
END:VEVENT
BEGIN:VEVENT
DTSTART;TZID=America/New_York:20251124T183000
DTEND;TZID=America/New_York:20251124T200000
DTSTAMP:20260421T151348
CREATED:20250915T171257Z
LAST-MODIFIED:20260323T172025Z
UID:10008274-1764009000-1764014400@masthope.org
SUMMARY:Monday Trivia Night!
DESCRIPTION:Join us at the Summit Restaurant on Mondays at 6:30pm for Trivia Night! Form a team and put your knowledge to the test. Prizes awarded to winners.
URL:https://masthope.org/event/monday-trivia-night-5/2025-11-24/
LOCATION:The Summit Restaurant\, 196 Karl Hope Blvd\, Lackawaxen\, PA\, 18435
CATEGORIES:Activities & Traditions,Social,Summit Restaurant
ATTACH;FMTTYPE=image/jpeg:https://masthope.org/wp-content/uploads/sites/1856/2024/03/trivia.jpg
END:VEVENT
BEGIN:VEVENT
DTSTART;TZID=America/New_York:20251129T170000
DTEND;TZID=America/New_York:20251129T210000
DTSTAMP:20260421T151348
CREATED:20250929T023456Z
LAST-MODIFIED:20251001T210940Z
UID:10008351-1764435600-1764450000@masthope.org
SUMMARY:Summit Bonfire
DESCRIPTION:Warm up at our bonfire in front of the Lodge. Hot chocolate will be provided.
URL:https://masthope.org/event/summit-bonfire-5/
LOCATION:The Lodge at Masthope\, 196 Karl Hope Blvd\, Lackawaxen\, PA\, 18435\, United States
CATEGORIES:Activities & Traditions,Social
ATTACH;FMTTYPE=image/png:https://masthope.org/wp-content/uploads/sites/1856/2023/10/Picture1.png
END:VEVENT
BEGIN:VEVENT
DTSTART;TZID=America/New_York:20251201T183000
DTEND;TZID=America/New_York:20251201T200000
DTSTAMP:20260421T151348
CREATED:20250915T171257Z
LAST-MODIFIED:20260323T172025Z
UID:10008275-1764613800-1764619200@masthope.org
SUMMARY:Monday Trivia Night!
DESCRIPTION:Join us at the Summit Restaurant on Mondays at 6:30pm for Trivia Night! Form a team and put your knowledge to the test. Prizes awarded to winners.
URL:https://masthope.org/event/monday-trivia-night-5/2025-12-01/
LOCATION:The Summit Restaurant\, 196 Karl Hope Blvd\, Lackawaxen\, PA\, 18435
CATEGORIES:Activities & Traditions,Social,Summit Restaurant
ATTACH;FMTTYPE=image/jpeg:https://masthope.org/wp-content/uploads/sites/1856/2024/03/trivia.jpg
END:VEVENT
BEGIN:VEVENT
DTSTART;TZID=America/New_York:20251206T170000
DTEND;TZID=America/New_York:20251206T180000
DTSTAMP:20260421T151348
CREATED:20251024T232943Z
LAST-MODIFIED:20251024T235607Z
UID:10008511-1765040400-1765044000@masthope.org
SUMMARY:Christmas Tree Lighting
DESCRIPTION:Join us for our annual tree lighting\, caroling\, hot chocolate and more in the lodge to kick off the holiday season!
URL:https://masthope.org/event/christmas-tree-lighting-4/
LOCATION:The Lodge at Masthope\, 196 Karl Hope Blvd\, Lackawaxen\, PA\, 18435\, United States
CATEGORIES:Activities & Traditions,Social
ATTACH;FMTTYPE=image/jpeg:https://masthope.org/wp-content/uploads/sites/1856/2022/11/Picture1-scaled.jpg
END:VEVENT
BEGIN:VEVENT
DTSTART;TZID=America/New_York:20251208T183000
DTEND;TZID=America/New_York:20251208T200000
DTSTAMP:20260421T151348
CREATED:20250915T171257Z
LAST-MODIFIED:20260323T172025Z
UID:10008276-1765218600-1765224000@masthope.org
SUMMARY:Monday Trivia Night!
DESCRIPTION:Join us at the Summit Restaurant on Mondays at 6:30pm for Trivia Night! Form a team and put your knowledge to the test. Prizes awarded to winners.
URL:https://masthope.org/event/monday-trivia-night-5/2025-12-08/
LOCATION:The Summit Restaurant\, 196 Karl Hope Blvd\, Lackawaxen\, PA\, 18435
CATEGORIES:Activities & Traditions,Social,Summit Restaurant
ATTACH;FMTTYPE=image/jpeg:https://masthope.org/wp-content/uploads/sites/1856/2024/03/trivia.jpg
END:VEVENT
BEGIN:VEVENT
DTSTART;TZID=America/New_York:20251215T183000
DTEND;TZID=America/New_York:20251215T200000
DTSTAMP:20260421T151348
CREATED:20250915T171257Z
LAST-MODIFIED:20260323T172025Z
UID:10008277-1765823400-1765828800@masthope.org
SUMMARY:Monday Trivia Night!
DESCRIPTION:Join us at the Summit Restaurant on Mondays at 6:30pm for Trivia Night! Form a team and put your knowledge to the test. Prizes awarded to winners.
URL:https://masthope.org/event/monday-trivia-night-5/2025-12-15/
LOCATION:The Summit Restaurant\, 196 Karl Hope Blvd\, Lackawaxen\, PA\, 18435
CATEGORIES:Activities & Traditions,Social,Summit Restaurant
ATTACH;FMTTYPE=image/jpeg:https://masthope.org/wp-content/uploads/sites/1856/2024/03/trivia.jpg
END:VEVENT
BEGIN:VEVENT
DTSTART;TZID=America/New_York:20251222T183000
DTEND;TZID=America/New_York:20251222T200000
DTSTAMP:20260421T151348
CREATED:20250915T171257Z
LAST-MODIFIED:20260323T172025Z
UID:10008814-1766428200-1766433600@masthope.org
SUMMARY:Monday Trivia Night!
DESCRIPTION:Join us at the Summit Restaurant on Mondays at 6:30pm for Trivia Night! Form a team and put your knowledge to the test. Prizes awarded to winners.
URL:https://masthope.org/event/monday-trivia-night-5/2025-12-22/
LOCATION:The Summit Restaurant\, 196 Karl Hope Blvd\, Lackawaxen\, PA\, 18435
CATEGORIES:Activities & Traditions,Social,Summit Restaurant
ATTACH;FMTTYPE=image/jpeg:https://masthope.org/wp-content/uploads/sites/1856/2024/03/trivia.jpg
END:VEVENT
BEGIN:VEVENT
DTSTART;TZID=America/New_York:20251229T183000
DTEND;TZID=America/New_York:20251229T200000
DTSTAMP:20260421T151348
CREATED:20250915T171257Z
LAST-MODIFIED:20260323T172025Z
UID:10008815-1767033000-1767038400@masthope.org
SUMMARY:Monday Trivia Night!
DESCRIPTION:Join us at the Summit Restaurant on Mondays at 6:30pm for Trivia Night! Form a team and put your knowledge to the test. Prizes awarded to winners.
URL:https://masthope.org/event/monday-trivia-night-5/2025-12-29/
LOCATION:The Summit Restaurant\, 196 Karl Hope Blvd\, Lackawaxen\, PA\, 18435
CATEGORIES:Activities & Traditions,Social,Summit Restaurant
ATTACH;FMTTYPE=image/jpeg:https://masthope.org/wp-content/uploads/sites/1856/2024/03/trivia.jpg
END:VEVENT
BEGIN:VEVENT
DTSTART;TZID=America/New_York:20260105T183000
DTEND;TZID=America/New_York:20260105T200000
DTSTAMP:20260421T151348
CREATED:20250915T171257Z
LAST-MODIFIED:20260323T172025Z
UID:10008816-1767637800-1767643200@masthope.org
SUMMARY:Monday Trivia Night!
DESCRIPTION:Join us at the Summit Restaurant on Mondays at 6:30pm for Trivia Night! Form a team and put your knowledge to the test. Prizes awarded to winners.
URL:https://masthope.org/event/monday-trivia-night-5/2026-01-05/
LOCATION:The Summit Restaurant\, 196 Karl Hope Blvd\, Lackawaxen\, PA\, 18435
CATEGORIES:Activities & Traditions,Social,Summit Restaurant
ATTACH;FMTTYPE=image/jpeg:https://masthope.org/wp-content/uploads/sites/1856/2024/03/trivia.jpg
END:VEVENT
BEGIN:VEVENT
DTSTART;TZID=America/New_York:20260112T183000
DTEND;TZID=America/New_York:20260112T200000
DTSTAMP:20260421T151348
CREATED:20250915T171257Z
LAST-MODIFIED:20260323T172025Z
UID:10008817-1768242600-1768248000@masthope.org
SUMMARY:Monday Trivia Night!
DESCRIPTION:Join us at the Summit Restaurant on Mondays at 6:30pm for Trivia Night! Form a team and put your knowledge to the test. Prizes awarded to winners.
URL:https://masthope.org/event/monday-trivia-night-5/2026-01-12/
LOCATION:The Summit Restaurant\, 196 Karl Hope Blvd\, Lackawaxen\, PA\, 18435
CATEGORIES:Activities & Traditions,Social,Summit Restaurant
ATTACH;FMTTYPE=image/jpeg:https://masthope.org/wp-content/uploads/sites/1856/2024/03/trivia.jpg
END:VEVENT
BEGIN:VEVENT
DTSTART;TZID=America/New_York:20260119T183000
DTEND;TZID=America/New_York:20260119T200000
DTSTAMP:20260421T151348
CREATED:20250915T171257Z
LAST-MODIFIED:20260323T172025Z
UID:10008818-1768847400-1768852800@masthope.org
SUMMARY:Monday Trivia Night!
DESCRIPTION:Join us at the Summit Restaurant on Mondays at 6:30pm for Trivia Night! Form a team and put your knowledge to the test. Prizes awarded to winners.
URL:https://masthope.org/event/monday-trivia-night-5/2026-01-19/
LOCATION:The Summit Restaurant\, 196 Karl Hope Blvd\, Lackawaxen\, PA\, 18435
CATEGORIES:Activities & Traditions,Social,Summit Restaurant
ATTACH;FMTTYPE=image/jpeg:https://masthope.org/wp-content/uploads/sites/1856/2024/03/trivia.jpg
END:VEVENT
BEGIN:VEVENT
DTSTART;TZID=America/New_York:20260126T183000
DTEND;TZID=America/New_York:20260126T200000
DTSTAMP:20260421T151348
CREATED:20250915T171257Z
LAST-MODIFIED:20260323T172025Z
UID:10008819-1769452200-1769457600@masthope.org
SUMMARY:Monday Trivia Night!
DESCRIPTION:Join us at the Summit Restaurant on Mondays at 6:30pm for Trivia Night! Form a team and put your knowledge to the test. Prizes awarded to winners.
URL:https://masthope.org/event/monday-trivia-night-5/2026-01-26/
LOCATION:The Summit Restaurant\, 196 Karl Hope Blvd\, Lackawaxen\, PA\, 18435
CATEGORIES:Activities & Traditions,Social,Summit Restaurant
ATTACH;FMTTYPE=image/jpeg:https://masthope.org/wp-content/uploads/sites/1856/2024/03/trivia.jpg
END:VEVENT
BEGIN:VEVENT
DTSTART;TZID=America/New_York:20260131T180000
DTEND;TZID=America/New_York:20260131T210000
DTSTAMP:20260421T151348
CREATED:20260112T172825Z
LAST-MODIFIED:20260112T172825Z
UID:10008834-1769882400-1769893200@masthope.org
SUMMARY:Summit Bonfire
DESCRIPTION:Warm up at our bonfire in front of the Lodge. Hot chocolate will be provided.
URL:https://masthope.org/event/summit-bonfire-6/2026-01-31/
LOCATION:The Lodge at Masthope\, 196 Karl Hope Blvd\, Lackawaxen\, PA\, 18435\, United States
CATEGORIES:Activities & Traditions,Social
ATTACH;FMTTYPE=image/png:https://masthope.org/wp-content/uploads/sites/1856/2023/10/Picture1.png
END:VEVENT
BEGIN:VEVENT
DTSTART;TZID=America/New_York:20260202T183000
DTEND;TZID=America/New_York:20260202T200000
DTSTAMP:20260421T151348
CREATED:20250915T171257Z
LAST-MODIFIED:20260323T172025Z
UID:10008820-1770057000-1770062400@masthope.org
SUMMARY:Monday Trivia Night!
DESCRIPTION:Join us at the Summit Restaurant on Mondays at 6:30pm for Trivia Night! Form a team and put your knowledge to the test. Prizes awarded to winners.
URL:https://masthope.org/event/monday-trivia-night-5/2026-02-02/
LOCATION:The Summit Restaurant\, 196 Karl Hope Blvd\, Lackawaxen\, PA\, 18435
CATEGORIES:Activities & Traditions,Social,Summit Restaurant
ATTACH;FMTTYPE=image/jpeg:https://masthope.org/wp-content/uploads/sites/1856/2024/03/trivia.jpg
END:VEVENT
BEGIN:VEVENT
DTSTART;TZID=America/New_York:20260209T183000
DTEND;TZID=America/New_York:20260209T200000
DTSTAMP:20260421T151348
CREATED:20250915T171257Z
LAST-MODIFIED:20260323T172025Z
UID:10008821-1770661800-1770667200@masthope.org
SUMMARY:Monday Trivia Night!
DESCRIPTION:Join us at the Summit Restaurant on Mondays at 6:30pm for Trivia Night! Form a team and put your knowledge to the test. Prizes awarded to winners.
URL:https://masthope.org/event/monday-trivia-night-5/2026-02-09/
LOCATION:The Summit Restaurant\, 196 Karl Hope Blvd\, Lackawaxen\, PA\, 18435
CATEGORIES:Activities & Traditions,Social,Summit Restaurant
ATTACH;FMTTYPE=image/jpeg:https://masthope.org/wp-content/uploads/sites/1856/2024/03/trivia.jpg
END:VEVENT
BEGIN:VEVENT
DTSTART;TZID=America/New_York:20260217T180000
DTEND;TZID=America/New_York:20260217T210000
DTSTAMP:20260421T151348
CREATED:20260112T172825Z
LAST-MODIFIED:20260112T172825Z
UID:10008835-1771351200-1771362000@masthope.org
SUMMARY:Summit Bonfire
DESCRIPTION:Warm up at our bonfire in front of the Lodge. Hot chocolate will be provided.
URL:https://masthope.org/event/summit-bonfire-6/2026-02-17/
LOCATION:The Lodge at Masthope\, 196 Karl Hope Blvd\, Lackawaxen\, PA\, 18435\, United States
CATEGORIES:Activities & Traditions,Social
ATTACH;FMTTYPE=image/png:https://masthope.org/wp-content/uploads/sites/1856/2023/10/Picture1.png
END:VEVENT
BEGIN:VEVENT
DTSTART;TZID=America/New_York:20260223T183000
DTEND;TZID=America/New_York:20260223T200000
DTSTAMP:20260421T151348
CREATED:20250915T171257Z
LAST-MODIFIED:20260323T172025Z
UID:10008822-1771871400-1771876800@masthope.org
SUMMARY:Monday Trivia Night!
DESCRIPTION:Join us at the Summit Restaurant on Mondays at 6:30pm for Trivia Night! Form a team and put your knowledge to the test. Prizes awarded to winners.
URL:https://masthope.org/event/monday-trivia-night-5/2026-02-23/
LOCATION:The Summit Restaurant\, 196 Karl Hope Blvd\, Lackawaxen\, PA\, 18435
CATEGORIES:Activities & Traditions,Social,Summit Restaurant
ATTACH;FMTTYPE=image/jpeg:https://masthope.org/wp-content/uploads/sites/1856/2024/03/trivia.jpg
END:VEVENT
BEGIN:VEVENT
DTSTART;TZID=America/New_York:20260302T183000
DTEND;TZID=America/New_York:20260302T200000
DTSTAMP:20260421T151348
CREATED:20250915T171257Z
LAST-MODIFIED:20260323T172025Z
UID:10008823-1772476200-1772481600@masthope.org
SUMMARY:Monday Trivia Night!
DESCRIPTION:Join us at the Summit Restaurant on Mondays at 6:30pm for Trivia Night! Form a team and put your knowledge to the test. Prizes awarded to winners.
URL:https://masthope.org/event/monday-trivia-night-5/2026-03-02/
LOCATION:The Summit Restaurant\, 196 Karl Hope Blvd\, Lackawaxen\, PA\, 18435
CATEGORIES:Activities & Traditions,Social,Summit Restaurant
ATTACH;FMTTYPE=image/jpeg:https://masthope.org/wp-content/uploads/sites/1856/2024/03/trivia.jpg
END:VEVENT
BEGIN:VEVENT
DTSTART;TZID=America/New_York:20260309T183000
DTEND;TZID=America/New_York:20260309T200000
DTSTAMP:20260421T151348
CREATED:20250915T171257Z
LAST-MODIFIED:20260323T172025Z
UID:10008824-1773081000-1773086400@masthope.org
SUMMARY:Monday Trivia Night!
DESCRIPTION:Join us at the Summit Restaurant on Mondays at 6:30pm for Trivia Night! Form a team and put your knowledge to the test. Prizes awarded to winners.
URL:https://masthope.org/event/monday-trivia-night-5/2026-03-09/
LOCATION:The Summit Restaurant\, 196 Karl Hope Blvd\, Lackawaxen\, PA\, 18435
CATEGORIES:Activities & Traditions,Social,Summit Restaurant
ATTACH;FMTTYPE=image/jpeg:https://masthope.org/wp-content/uploads/sites/1856/2024/03/trivia.jpg
END:VEVENT
BEGIN:VEVENT
DTSTART;TZID=America/New_York:20260314T130000
DTEND;TZID=America/New_York:20260314T170000
DTSTAMP:20260421T151348
CREATED:20260214T193838Z
LAST-MODIFIED:20260214T193838Z
UID:10008862-1773493200-1773507600@masthope.org
SUMMARY:St. Patrick's Irish Fest
DESCRIPTION:Join us for our annual St. Patrick’s Day Celebration! Live music\, dance performances\, family games and activities\, and traditional Irish food and drinks for purchase. Free Admission!
URL:https://masthope.org/event/st-patricks-irish-fest-2/
LOCATION:The Lodge at Masthope\, 196 Karl Hope Blvd\, Lackawaxen\, PA\, 18435\, United States
CATEGORIES:Activities & Traditions,Social,Summit Restaurant
ATTACH;FMTTYPE=image/jpeg:https://masthope.org/wp-content/uploads/sites/1856/2023/01/b21Awv.jpg
END:VEVENT
BEGIN:VEVENT
DTSTART;TZID=America/New_York:20260316T183000
DTEND;TZID=America/New_York:20260316T200000
DTSTAMP:20260421T151348
CREATED:20250915T171257Z
LAST-MODIFIED:20260323T172025Z
UID:10008825-1773685800-1773691200@masthope.org
SUMMARY:Monday Trivia Night!
DESCRIPTION:Join us at the Summit Restaurant on Mondays at 6:30pm for Trivia Night! Form a team and put your knowledge to the test. Prizes awarded to winners.
URL:https://masthope.org/event/monday-trivia-night-5/2026-03-16/
LOCATION:The Summit Restaurant\, 196 Karl Hope Blvd\, Lackawaxen\, PA\, 18435
CATEGORIES:Activities & Traditions,Social,Summit Restaurant
ATTACH;FMTTYPE=image/jpeg:https://masthope.org/wp-content/uploads/sites/1856/2024/03/trivia.jpg
END:VEVENT
BEGIN:VEVENT
DTSTART;TZID=America/New_York:20260323T183000
DTEND;TZID=America/New_York:20260323T200000
DTSTAMP:20260421T151348
CREATED:20250915T171257Z
LAST-MODIFIED:20260323T172025Z
UID:10008826-1774290600-1774296000@masthope.org
SUMMARY:Monday Trivia Night!
DESCRIPTION:Join us at the Summit Restaurant on Mondays at 6:30pm for Trivia Night! Form a team and put your knowledge to the test. Prizes awarded to winners.
URL:https://masthope.org/event/monday-trivia-night-5/2026-03-23/
LOCATION:The Summit Restaurant\, 196 Karl Hope Blvd\, Lackawaxen\, PA\, 18435
CATEGORIES:Activities & Traditions,Social,Summit Restaurant
ATTACH;FMTTYPE=image/jpeg:https://masthope.org/wp-content/uploads/sites/1856/2024/03/trivia.jpg
END:VEVENT
BEGIN:VEVENT
DTSTART;TZID=America/New_York:20260327T080000
DTEND;TZID=America/New_York:20260327T170000
DTSTAMP:20260421T151348
CREATED:20260309T183355Z
LAST-MODIFIED:20260415T182046Z
UID:10009093-1774598400-1774630800@masthope.org
SUMMARY:Country Line Dancing with Dawn
DESCRIPTION:Kick up your boots and join us for a fun evening of Country Line Dancing with Dawn! Whether you’re a seasoned dancer or stepping onto the floor for the first time\, Dawn will guide the group through easy-to-follow routines set to great country music. This new event is a great way to learn a few moves\, meet new people\, and enjoy a lively atmosphere in the Lodge. No partner or experience needed — just bring your energy and get ready to dance. \nFree to attend. All are welcome.
URL:https://masthope.org/event/country-line-dancing-with-dawn/2026-03-27/1/
LOCATION:The Lodge at Masthope\, 196 Karl Hope Blvd\, Lackawaxen\, PA\, 18435\, United States
CATEGORIES:Activities & Traditions,Social,Summit Restaurant
ATTACH;FMTTYPE=image/jpeg:https://masthope.org/wp-content/uploads/sites/1856/2026/03/Featured-Image-COWGIRL-35new.jpg
END:VEVENT
BEGIN:VEVENT
DTSTART;TZID=America/New_York:20260327T180000
DTEND;TZID=America/New_York:20260327T200000
DTSTAMP:20260421T151348
CREATED:20260309T183355Z
LAST-MODIFIED:20260415T182046Z
UID:10008879-1774634400-1774641600@masthope.org
SUMMARY:Country Line Dancing with Dawn
DESCRIPTION:Kick up your boots and join us for a fun evening of Country Line Dancing with Dawn! Whether you’re a seasoned dancer or stepping onto the floor for the first time\, Dawn will guide the group through easy-to-follow routines set to great country music. This new event is a great way to learn a few moves\, meet new people\, and enjoy a lively atmosphere in the Lodge. No partner or experience needed — just bring your energy and get ready to dance. \nFree to attend. All are welcome.
URL:https://masthope.org/event/country-line-dancing-with-dawn/2026-03-27/2/
LOCATION:The Lodge at Masthope\, 196 Karl Hope Blvd\, Lackawaxen\, PA\, 18435\, United States
CATEGORIES:Activities & Traditions,Social,Summit Restaurant
ATTACH;FMTTYPE=image/jpeg:https://masthope.org/wp-content/uploads/sites/1856/2026/03/Featured-Image-COWGIRL-35new.jpg
END:VEVENT
BEGIN:VEVENT
DTSTART;TZID=America/New_York:20260330T183000
DTEND;TZID=America/New_York:20260330T200000
DTSTAMP:20260421T151348
CREATED:20250915T171257Z
LAST-MODIFIED:20260323T172025Z
UID:10008827-1774895400-1774900800@masthope.org
SUMMARY:Monday Trivia Night!
DESCRIPTION:Join us at the Summit Restaurant on Mondays at 6:30pm for Trivia Night! Form a team and put your knowledge to the test. Prizes awarded to winners.
URL:https://masthope.org/event/monday-trivia-night-5/2026-03-30/
LOCATION:The Summit Restaurant\, 196 Karl Hope Blvd\, Lackawaxen\, PA\, 18435
CATEGORIES:Activities & Traditions,Social,Summit Restaurant
ATTACH;FMTTYPE=image/jpeg:https://masthope.org/wp-content/uploads/sites/1856/2024/03/trivia.jpg
END:VEVENT
BEGIN:VEVENT
DTSTART;TZID=America/New_York:20260404T110000
DTEND;TZID=America/New_York:20260404T130000
DTSTAMP:20260421T151348
CREATED:20260214T194158Z
LAST-MODIFIED:20260323T164805Z
UID:10008863-1775300400-1775307600@masthope.org
SUMMARY:Breakfast with the Easter Bunny
DESCRIPTION:Join us for breakfast with the bunny! Breakfast begins at 11am; egg hunt begins at 12pm. Children 12 and under: $12 / Adults: $15. Menu: Applewood Smoked Bacon | Breakfast Sausage | Scrambled Eggs | Shredded Hashbrowns | Pancakes or Waffles | Orange Juice | Apple Juice | Coffee | Hot Tea \nPurchase tickets online (click here) \nYour email confirmation will be your ticket to the event.
URL:https://masthope.org/event/breakfast-with-the-easter-bunny-3/
LOCATION:The Summit Restaurant\, 196 Karl Hope Blvd\, Lackawaxen\, PA\, 18435
CATEGORIES:Activities & Traditions,Social,Summit Restaurant
ATTACH;FMTTYPE=image/jpeg:https://masthope.org/wp-content/uploads/sites/1856/2023/02/Presentation1-1.jpg
END:VEVENT
END:VCALENDAR