BEGIN:VCALENDAR
VERSION:2.0
PRODID:-//Masthope Mountain Community - ECPv6.15.20//NONSGML v1.0//EN
CALSCALE:GREGORIAN
METHOD:PUBLISH
X-ORIGINAL-URL:https://masthope.org
X-WR-CALDESC:Events for Masthope Mountain Community
REFRESH-INTERVAL;VALUE=DURATION:PT1H
X-Robots-Tag:noindex
X-PUBLISHED-TTL:PT1H
BEGIN:VTIMEZONE
TZID:America/New_York
BEGIN:DAYLIGHT
TZOFFSETFROM:-0500
TZOFFSETTO:-0400
TZNAME:EDT
DTSTART:20230312T070000
END:DAYLIGHT
BEGIN:STANDARD
TZOFFSETFROM:-0400
TZOFFSETTO:-0500
TZNAME:EST
DTSTART:20231105T060000
END:STANDARD
BEGIN:DAYLIGHT
TZOFFSETFROM:-0500
TZOFFSETTO:-0400
TZNAME:EDT
DTSTART:20240310T070000
END:DAYLIGHT
BEGIN:STANDARD
TZOFFSETFROM:-0400
TZOFFSETTO:-0500
TZNAME:EST
DTSTART:20241103T060000
END:STANDARD
BEGIN:DAYLIGHT
TZOFFSETFROM:-0500
TZOFFSETTO:-0400
TZNAME:EDT
DTSTART:20250309T070000
END:DAYLIGHT
BEGIN:STANDARD
TZOFFSETFROM:-0400
TZOFFSETTO:-0500
TZNAME:EST
DTSTART:20251102T060000
END:STANDARD
BEGIN:DAYLIGHT
TZOFFSETFROM:-0500
TZOFFSETTO:-0400
TZNAME:EDT
DTSTART:20260308T070000
END:DAYLIGHT
BEGIN:STANDARD
TZOFFSETFROM:-0400
TZOFFSETTO:-0500
TZNAME:EST
DTSTART:20261101T060000
END:STANDARD
BEGIN:DAYLIGHT
TZOFFSETFROM:-0500
TZOFFSETTO:-0400
TZNAME:EDT
DTSTART:20270314T070000
END:DAYLIGHT
BEGIN:STANDARD
TZOFFSETFROM:-0400
TZOFFSETTO:-0500
TZNAME:EST
DTSTART:20271107T060000
END:STANDARD
END:VTIMEZONE
BEGIN:VEVENT
DTSTART;TZID=America/New_York:20260311T110000
DTEND;TZID=America/New_York:20260311T130000
DTSTAMP:20260420T071530
CREATED:20260125T223734Z
LAST-MODIFIED:20260214T183003Z
UID:10008850-1773226800-1773234000@masthope.org
SUMMARY:Morning Snowshoeing
DESCRIPTION:Join the Masthope Ski Committee on Wednesdays at Ski Big Bear for snowshoeing. Waiver required. Please bring your own equipment.
URL:https://masthope.org/event/morning-snowshoeing/2026-03-11/
LOCATION:Ski Big Bear\, 192 Karl Hope Boulevard\, Lackawaxen\, PA\, 18435\, United States
CATEGORIES:Activities & Traditions
ATTACH;FMTTYPE=image/jpeg:https://masthope.org/wp-content/uploads/sites/1856/2024/02/Picture1.jpg
END:VEVENT
BEGIN:VEVENT
DTSTART;TZID=America/New_York:20260308T113000
DTEND;TZID=America/New_York:20260308T153000
DTSTAMP:20260420T071530
CREATED:20260302T162114Z
LAST-MODIFIED:20260302T162244Z
UID:10008875-1772969400-1772983800@masthope.org
SUMMARY:Ski Big Bear Rail Jam
DESCRIPTION:Join us at the top of the mountain for Rail Jam! 11:30am practice / 1pm – 3pm competition / 3:15pm awards. $5 entry fee. Must have a lift ticket or pass. Must have a helmet. Registration and waivers must be filled out before practice. 18 and under must have a parent/guardian signature. \nA rail jam is a freestyle event where skiers and snowboarders perform tricks on rails\, boxes\, and tubes. Join us for some friendly competition. Terrain will be available after the competition for a limited amount of time for non-competitors to freeride. For more info\, visit: https://www.ski-bigbear.com/rail-jam \nTiming\n\n11:30am – 12:30pm – open practice for all\n1:00pm – 1:30pm – 15 under snowboard\n1:30pm – 2:00pm – 15 under ski\n2:00pm – 2:30pm – 15 over snowboard\n2:30pm – 3:00pm – 15 over ski\n3:15/3:30pm – awards\nEach age category gets a 30 min jam session.
URL:https://masthope.org/event/ski-big-bear-rail-jam-2/
LOCATION:Ski Big Bear\, 192 Karl Hope Boulevard\, Lackawaxen\, PA\, 18435\, United States
CATEGORIES:Activities & Traditions,Local
ATTACH;FMTTYPE=image/jpeg:https://masthope.org/wp-content/uploads/sites/1856/2025/02/474982342_18482911168004242_6103520403704662706_n-1.jpg
END:VEVENT
BEGIN:VEVENT
DTSTART;TZID=America/New_York:20260308T090000
DTEND;TZID=America/New_York:20260308T190000
DTSTAMP:20260420T071530
CREATED:20260302T162743Z
LAST-MODIFIED:20260302T164918Z
UID:10008877-1772960400-1772996400@masthope.org
SUMMARY:Ski Big Bear Customer Appreciation Weekend
DESCRIPTION:We’re saying THANK YOU the best way we know how – with time on the mountain. Join us at Ski Big Bear for our Customer Appreciation Weekend on Saturday\, March 7th from 4PM–9PM and Sunday\, March 8th from 9AM–7PM. Lift tickets will be just $25 per person\, and ski or snowboard rental packages will also be $25 per person during those promotional hours. It’s the perfect chance to grab your friends and family and get in on the action at an unbeatable price. Come out\, make some turns\, and celebrate the season with us. No other discounts apply. Buy online here: https://shop.ski-bigbear.com/customer-appreciation \nBe sure to keep an eye out for other special pop-up events on Sunday\, March 8th!\n\nLollipop scavenger hunt\nS’mores\nMusic at the top of the mountain\nSheldon The Bear appearances\nRestaurant specials
URL:https://masthope.org/event/ski-big-bear-customer-appreciation-weekend/2026-03-08/
LOCATION:Ski Big Bear\, 192 Karl Hope Boulevard\, Lackawaxen\, PA\, 18435\, United States
CATEGORIES:Activities & Traditions
ATTACH;FMTTYPE=image/jpeg:https://masthope.org/wp-content/uploads/sites/1856/2022/09/Picture1-1.jpg
END:VEVENT
BEGIN:VEVENT
DTSTART;TZID=America/New_York:20260307T160000
DTEND;TZID=America/New_York:20260307T210000
DTSTAMP:20260420T071530
CREATED:20260302T162743Z
LAST-MODIFIED:20260302T164918Z
UID:10008876-1772899200-1772917200@masthope.org
SUMMARY:Ski Big Bear Customer Appreciation Weekend
DESCRIPTION:We’re saying THANK YOU the best way we know how – with time on the mountain. Join us at Ski Big Bear for our Customer Appreciation Weekend on Saturday\, March 7th from 4PM–9PM and Sunday\, March 8th from 9AM–7PM. Lift tickets will be just $25 per person\, and ski or snowboard rental packages will also be $25 per person during those promotional hours. It’s the perfect chance to grab your friends and family and get in on the action at an unbeatable price. Come out\, make some turns\, and celebrate the season with us. No other discounts apply. Buy online here: https://shop.ski-bigbear.com/customer-appreciation \nBe sure to keep an eye out for other special pop-up events on Sunday\, March 8th!\n\nLollipop scavenger hunt\nS’mores\nMusic at the top of the mountain\nSheldon The Bear appearances\nRestaurant specials
URL:https://masthope.org/event/ski-big-bear-customer-appreciation-weekend/2026-03-07/
LOCATION:Ski Big Bear\, 192 Karl Hope Boulevard\, Lackawaxen\, PA\, 18435\, United States
CATEGORIES:Activities & Traditions
ATTACH;FMTTYPE=image/jpeg:https://masthope.org/wp-content/uploads/sites/1856/2022/09/Picture1-1.jpg
END:VEVENT
BEGIN:VEVENT
DTSTART;TZID=America/New_York:20260304T110000
DTEND;TZID=America/New_York:20260304T130000
DTSTAMP:20260420T071530
CREATED:20260125T223734Z
LAST-MODIFIED:20260214T183003Z
UID:10008849-1772622000-1772629200@masthope.org
SUMMARY:Morning Snowshoeing
DESCRIPTION:Join the Masthope Ski Committee on Wednesdays at Ski Big Bear for snowshoeing. Waiver required. Please bring your own equipment.
URL:https://masthope.org/event/morning-snowshoeing/2026-03-04/
LOCATION:Ski Big Bear\, 192 Karl Hope Boulevard\, Lackawaxen\, PA\, 18435\, United States
CATEGORIES:Activities & Traditions
ATTACH;FMTTYPE=image/jpeg:https://masthope.org/wp-content/uploads/sites/1856/2024/02/Picture1.jpg
END:VEVENT
BEGIN:VEVENT
DTSTART;TZID=America/New_York:20260225T110000
DTEND;TZID=America/New_York:20260225T130000
DTSTAMP:20260420T071530
CREATED:20260125T223734Z
LAST-MODIFIED:20260214T183003Z
UID:10008841-1772017200-1772024400@masthope.org
SUMMARY:Morning Snowshoeing
DESCRIPTION:Join the Masthope Ski Committee on Wednesdays at Ski Big Bear for snowshoeing. Waiver required. Please bring your own equipment.
URL:https://masthope.org/event/morning-snowshoeing/2026-02-25/
LOCATION:Ski Big Bear\, 192 Karl Hope Boulevard\, Lackawaxen\, PA\, 18435\, United States
CATEGORIES:Activities & Traditions
ATTACH;FMTTYPE=image/jpeg:https://masthope.org/wp-content/uploads/sites/1856/2024/02/Picture1.jpg
END:VEVENT
BEGIN:VEVENT
DTSTART;TZID=America/New_York:20260211T110000
DTEND;TZID=America/New_York:20260211T130000
DTSTAMP:20260420T071530
CREATED:20260125T223734Z
LAST-MODIFIED:20260214T183003Z
UID:10008839-1770807600-1770814800@masthope.org
SUMMARY:Morning Snowshoeing
DESCRIPTION:Join the Masthope Ski Committee on Wednesdays at Ski Big Bear for snowshoeing. Waiver required. Please bring your own equipment.
URL:https://masthope.org/event/morning-snowshoeing/2026-02-11/
LOCATION:Ski Big Bear\, 192 Karl Hope Boulevard\, Lackawaxen\, PA\, 18435\, United States
CATEGORIES:Activities & Traditions
ATTACH;FMTTYPE=image/jpeg:https://masthope.org/wp-content/uploads/sites/1856/2024/02/Picture1.jpg
END:VEVENT
BEGIN:VEVENT
DTSTART;TZID=America/New_York:20260204T110000
DTEND;TZID=America/New_York:20260204T130000
DTSTAMP:20260420T071530
CREATED:20260125T223734Z
LAST-MODIFIED:20260214T183003Z
UID:10008838-1770202800-1770210000@masthope.org
SUMMARY:Morning Snowshoeing
DESCRIPTION:Join the Masthope Ski Committee on Wednesdays at Ski Big Bear for snowshoeing. Waiver required. Please bring your own equipment.
URL:https://masthope.org/event/morning-snowshoeing/2026-02-04/
LOCATION:Ski Big Bear\, 192 Karl Hope Boulevard\, Lackawaxen\, PA\, 18435\, United States
CATEGORIES:Activities & Traditions
ATTACH;FMTTYPE=image/jpeg:https://masthope.org/wp-content/uploads/sites/1856/2024/02/Picture1.jpg
END:VEVENT
BEGIN:VEVENT
DTSTART;TZID=America/New_York:20260128T110000
DTEND;TZID=America/New_York:20260128T130000
DTSTAMP:20260420T071530
CREATED:20260125T223734Z
LAST-MODIFIED:20260214T183003Z
UID:10008837-1769598000-1769605200@masthope.org
SUMMARY:Morning Snowshoeing
DESCRIPTION:Join the Masthope Ski Committee on Wednesdays at Ski Big Bear for snowshoeing. Waiver required. Please bring your own equipment.
URL:https://masthope.org/event/morning-snowshoeing/2026-01-28/
LOCATION:Ski Big Bear\, 192 Karl Hope Boulevard\, Lackawaxen\, PA\, 18435\, United States
CATEGORIES:Activities & Traditions
ATTACH;FMTTYPE=image/jpeg:https://masthope.org/wp-content/uploads/sites/1856/2024/02/Picture1.jpg
END:VEVENT
BEGIN:VEVENT
DTSTART;VALUE=DATE:20260125
DTEND;VALUE=DATE:20260126
DTSTAMP:20260420T071530
CREATED:20251024T235814Z
LAST-MODIFIED:20251025T000012Z
UID:10008514-1769299200-1769385599@masthope.org
SUMMARY:Ski Big Bear Winter Carnival
DESCRIPTION:Save the date! Join Ski Big Bear and Masthope Mountain Community for our Annual Winter Carnival on Sunday\, January 25th\, 2026! A family-friendly event with winter games\, food\, and fun! For more information and for a schedule of events\, visit ski-bigbear.com/winter-carnival.
URL:https://masthope.org/event/ski-big-bear-winter-carnival-3/
LOCATION:Ski Big Bear\, 192 Karl Hope Boulevard\, Lackawaxen\, PA\, 18435\, United States
CATEGORIES:Activities & Traditions
ATTACH;FMTTYPE=image/jpeg:https://masthope.org/wp-content/uploads/sites/1856/2022/09/Picture1-1.jpg
END:VEVENT
BEGIN:VEVENT
DTSTART;TZID=America/New_York:20250228T180000
DTEND;TZID=America/New_York:20250228T180000
DTSTAMP:20260420T071530
CREATED:20250209T222707Z
LAST-MODIFIED:20250209T222732Z
UID:10005328-1740765600-1740765600@masthope.org
SUMMARY:Ski Big Bear Rail Jam
DESCRIPTION:Join us at the top of the mountain for Rail Jam! 6:00pm practice / 7:00pm start. $5 entry fee. Open to all ages. Must have a lift ticket or pass. Must have a helmet. Deadline to register is 2/26/25. Visit ski-bigbear.com for more info.
URL:https://masthope.org/event/ski-big-bear-rail-jam/
LOCATION:Ski Big Bear\, 192 Karl Hope Boulevard\, Lackawaxen\, PA\, 18435\, United States
CATEGORIES:Activities & Traditions,Local
ATTACH;FMTTYPE=image/jpeg:https://masthope.org/wp-content/uploads/sites/1856/2025/02/474982342_18482911168004242_6103520403704662706_n-1.jpg
END:VEVENT
BEGIN:VEVENT
DTSTART;VALUE=DATE:20250126
DTEND;VALUE=DATE:20250127
DTSTAMP:20260420T071530
CREATED:20241222T172931Z
LAST-MODIFIED:20241222T172931Z
UID:10005327-1737849600-1737935999@masthope.org
SUMMARY:Ski Big Bear Winter Carnival
DESCRIPTION:Save the date! Join Ski Big Bear and Masthope Mountain Community for our Annual Winter Carnival on Sunday\, January 26th\, 2025! A family-friendly event with winter games\, food\, and fun! For more information and for a schedule of events\, visit ski-bigbear.com/winter-carnival.
URL:https://masthope.org/event/ski-big-bear-winter-carnival-2/
LOCATION:Ski Big Bear\, 192 Karl Hope Boulevard\, Lackawaxen\, PA\, 18435\, United States
CATEGORIES:Activities & Traditions
ATTACH;FMTTYPE=image/jpeg:https://masthope.org/wp-content/uploads/sites/1856/2022/09/Picture1-1.jpg
END:VEVENT
BEGIN:VEVENT
DTSTART;VALUE=DATE:20240128
DTEND;VALUE=DATE:20240129
DTSTAMP:20260420T071530
CREATED:20240105T013935Z
LAST-MODIFIED:20240122T174756Z
UID:10001872-1706400000-1706486399@masthope.org
SUMMARY:Ski Big Bear Winter Carnival
DESCRIPTION:Save the date! Join Ski Big Bear and Masthope Mountain Community for our Annual Winter Carnival on Sunday\, January 28th\, 2024! A family-friendly event with winter games\, food\, and fun! For more information and for a schedule of events\, visit ski-bigbear.com/winter-carnival.
URL:https://masthope.org/event/ski-big-bear-winter-carnival/
LOCATION:Ski Big Bear\, 192 Karl Hope Boulevard\, Lackawaxen\, PA\, 18435\, United States
CATEGORIES:Activities & Traditions
ATTACH;FMTTYPE=image/jpeg:https://masthope.org/wp-content/uploads/sites/1856/2022/09/Picture1-1.jpg
END:VEVENT
END:VCALENDAR