BEGIN:VCALENDAR
VERSION:2.0
PRODID:-//Masthope Mountain Community - ECPv6.15.20//NONSGML v1.0//EN
CALSCALE:GREGORIAN
METHOD:PUBLISH
X-WR-CALNAME:Masthope Mountain Community
X-ORIGINAL-URL:https://masthope.org
X-WR-CALDESC:Events for Masthope Mountain Community
REFRESH-INTERVAL;VALUE=DURATION:PT1H
X-Robots-Tag:noindex
X-PUBLISHED-TTL:PT1H
BEGIN:VTIMEZONE
TZID:America/New_York
BEGIN:DAYLIGHT
TZOFFSETFROM:-0500
TZOFFSETTO:-0400
TZNAME:EDT
DTSTART:20240310T070000
END:DAYLIGHT
BEGIN:STANDARD
TZOFFSETFROM:-0400
TZOFFSETTO:-0500
TZNAME:EST
DTSTART:20241103T060000
END:STANDARD
BEGIN:DAYLIGHT
TZOFFSETFROM:-0500
TZOFFSETTO:-0400
TZNAME:EDT
DTSTART:20250309T070000
END:DAYLIGHT
BEGIN:STANDARD
TZOFFSETFROM:-0400
TZOFFSETTO:-0500
TZNAME:EST
DTSTART:20251102T060000
END:STANDARD
BEGIN:DAYLIGHT
TZOFFSETFROM:-0500
TZOFFSETTO:-0400
TZNAME:EDT
DTSTART:20260308T070000
END:DAYLIGHT
BEGIN:STANDARD
TZOFFSETFROM:-0400
TZOFFSETTO:-0500
TZNAME:EST
DTSTART:20261101T060000
END:STANDARD
BEGIN:DAYLIGHT
TZOFFSETFROM:-0500
TZOFFSETTO:-0400
TZNAME:EDT
DTSTART:20270314T070000
END:DAYLIGHT
BEGIN:STANDARD
TZOFFSETFROM:-0400
TZOFFSETTO:-0500
TZNAME:EST
DTSTART:20271107T060000
END:STANDARD
END:VTIMEZONE
BEGIN:VEVENT
DTSTART;TZID=America/New_York:20260126T160000
DTEND;TZID=America/New_York:20260126T200000
DTSTAMP:20260422T061318
CREATED:20250910T131651Z
LAST-MODIFIED:20260415T192519Z
UID:10008238-1769443200-1769457600@masthope.org
SUMMARY:Mamma Mia Mondays
DESCRIPTION:“Mamma Mia Mondays” Promo! For dine in or take out: 1 large cheese pizza and 1 order of boneless wings for $27 OR 1 large cheese pizza for $18. Not available on holiday periods.
URL:https://masthope.org/event/mamma-mia-mondays-3/2026-01-26/
LOCATION:The Summit Restaurant\, 196 Karl Hope Blvd\, Lackawaxen\, PA\, 18435
CATEGORIES:Summit Restaurant
ATTACH;FMTTYPE=image/jpeg:https://masthope.org/wp-content/uploads/sites/1856/2023/05/Presentation1.jpg
END:VEVENT
BEGIN:VEVENT
DTSTART;TZID=America/New_York:20260124T190000
DTEND;TZID=America/New_York:20260124T230000
DTSTAMP:20260422T061318
CREATED:20260105T182105Z
LAST-MODIFIED:20260105T182105Z
UID:10008751-1769281200-1769295600@masthope.org
SUMMARY:Live Music - Cold Sweat
DESCRIPTION:Enjoy live music in The Summit Restaurant! (Live music performances are subject to change.)
URL:https://masthope.org/event/live-music-cold-sweat-25/
LOCATION:The Summit Restaurant\, 196 Karl Hope Blvd\, Lackawaxen\, PA\, 18435
CATEGORIES:Live Music,Summit Restaurant
ATTACH;FMTTYPE=image/png:https://masthope.org/wp-content/uploads/sites/1856/2022/05/Picture2.png
END:VEVENT
BEGIN:VEVENT
DTSTART;TZID=America/New_York:20260123T180000
DTEND;TZID=America/New_York:20260123T220000
DTSTAMP:20260422T061318
CREATED:20260105T181252Z
LAST-MODIFIED:20260105T181252Z
UID:10008749-1769191200-1769205600@masthope.org
SUMMARY:Live Music - Emily Nacchio
DESCRIPTION:Enjoy live music in The Summit Restaurant! (Live music performances are subject to change.)
URL:https://masthope.org/event/live-music-emily-nacchio-9/
LOCATION:The Summit Restaurant\, 196 Karl Hope Blvd\, Lackawaxen\, PA\, 18435
CATEGORIES:Live Music,Summit Restaurant
ATTACH;FMTTYPE=image/png:https://masthope.org/wp-content/uploads/sites/1856/2022/05/Picture2.png
END:VEVENT
BEGIN:VEVENT
DTSTART;TZID=America/New_York:20260122T183000
DTEND;TZID=America/New_York:20260122T200000
DTSTAMP:20260422T061318
CREATED:20260105T182650Z
LAST-MODIFIED:20260413T175753Z
UID:10008765-1769106600-1769112000@masthope.org
SUMMARY:Music Bingo
DESCRIPTION:Join us for our Music Bingo every Thursday at The Summit!
URL:https://masthope.org/event/music-bingo/2026-01-22/
LOCATION:The Summit Restaurant\, 196 Karl Hope Blvd\, Lackawaxen\, PA\, 18435
CATEGORIES:Activities & Traditions,Local,Summit Restaurant
ATTACH;FMTTYPE=image/jpeg:https://masthope.org/wp-content/uploads/sites/1856/2022/04/120-1202522_bingo-free.jpg
END:VEVENT
BEGIN:VEVENT
DTSTART;TZID=America/New_York:20260119T183000
DTEND;TZID=America/New_York:20260119T200000
DTSTAMP:20260422T061318
CREATED:20250915T171257Z
LAST-MODIFIED:20260323T172025Z
UID:10008818-1768847400-1768852800@masthope.org
SUMMARY:Monday Trivia Night!
DESCRIPTION:Join us at the Summit Restaurant on Mondays at 6:30pm for Trivia Night! Form a team and put your knowledge to the test. Prizes awarded to winners.
URL:https://masthope.org/event/monday-trivia-night-5/2026-01-19/
LOCATION:The Summit Restaurant\, 196 Karl Hope Blvd\, Lackawaxen\, PA\, 18435
CATEGORIES:Activities & Traditions,Social,Summit Restaurant
ATTACH;FMTTYPE=image/jpeg:https://masthope.org/wp-content/uploads/sites/1856/2024/03/trivia.jpg
END:VEVENT
BEGIN:VEVENT
DTSTART;TZID=America/New_York:20260119T160000
DTEND;TZID=America/New_York:20260119T200000
DTSTAMP:20260422T061318
CREATED:20250910T131651Z
LAST-MODIFIED:20260415T192519Z
UID:10008237-1768838400-1768852800@masthope.org
SUMMARY:Mamma Mia Mondays
DESCRIPTION:“Mamma Mia Mondays” Promo! For dine in or take out: 1 large cheese pizza and 1 order of boneless wings for $27 OR 1 large cheese pizza for $18. Not available on holiday periods.
URL:https://masthope.org/event/mamma-mia-mondays-3/2026-01-19/
LOCATION:The Summit Restaurant\, 196 Karl Hope Blvd\, Lackawaxen\, PA\, 18435
CATEGORIES:Summit Restaurant
ATTACH;FMTTYPE=image/jpeg:https://masthope.org/wp-content/uploads/sites/1856/2023/05/Presentation1.jpg
END:VEVENT
BEGIN:VEVENT
DTSTART;TZID=America/New_York:20260118T170000
DTEND;TZID=America/New_York:20260118T210000
DTSTAMP:20260422T061318
CREATED:20260109T195351Z
LAST-MODIFIED:20260109T195351Z
UID:10008831-1768755600-1768770000@masthope.org
SUMMARY:Live Music - Type A Duo
DESCRIPTION:Enjoy live music in The Summit Restaurant! (Live music performances are subject to change.)
URL:https://masthope.org/event/live-music-type-a-duo/
LOCATION:The Summit Restaurant\, 196 Karl Hope Blvd\, Lackawaxen\, PA\, 18435
CATEGORIES:Live Music,Summit Restaurant
ATTACH;FMTTYPE=image/png:https://masthope.org/wp-content/uploads/sites/1856/2022/05/Picture2.png
END:VEVENT
BEGIN:VEVENT
DTSTART;TZID=America/New_York:20260116T180000
DTEND;TZID=America/New_York:20260116T220000
DTSTAMP:20260422T061318
CREATED:20251215T172447Z
LAST-MODIFIED:20251215T172447Z
UID:10008549-1768586400-1768600800@masthope.org
SUMMARY:Live Music - Smokin' Buddie Steve
DESCRIPTION:Enjoy live music in The Summit Restaurant! (Live music performances are subject to change.)
URL:https://masthope.org/event/live-music-smokin-buddie-steve-18/
LOCATION:The Summit Restaurant\, 196 Karl Hope Blvd\, Lackawaxen\, PA\, 18435
CATEGORIES:Live Music,Summit Restaurant
ATTACH;FMTTYPE=image/png:https://masthope.org/wp-content/uploads/sites/1856/2022/05/Picture2.png
END:VEVENT
BEGIN:VEVENT
DTSTART;TZID=America/New_York:20260115T183000
DTEND;TZID=America/New_York:20260115T200000
DTSTAMP:20260422T061318
CREATED:20260105T182650Z
LAST-MODIFIED:20260413T175753Z
UID:10008764-1768501800-1768507200@masthope.org
SUMMARY:Music Bingo
DESCRIPTION:Join us for our Music Bingo every Thursday at The Summit!
URL:https://masthope.org/event/music-bingo/2026-01-15/
LOCATION:The Summit Restaurant\, 196 Karl Hope Blvd\, Lackawaxen\, PA\, 18435
CATEGORIES:Activities & Traditions,Local,Summit Restaurant
ATTACH;FMTTYPE=image/jpeg:https://masthope.org/wp-content/uploads/sites/1856/2022/04/120-1202522_bingo-free.jpg
END:VEVENT
BEGIN:VEVENT
DTSTART;TZID=America/New_York:20260112T183000
DTEND;TZID=America/New_York:20260112T200000
DTSTAMP:20260422T061318
CREATED:20250915T171257Z
LAST-MODIFIED:20260323T172025Z
UID:10008817-1768242600-1768248000@masthope.org
SUMMARY:Monday Trivia Night!
DESCRIPTION:Join us at the Summit Restaurant on Mondays at 6:30pm for Trivia Night! Form a team and put your knowledge to the test. Prizes awarded to winners.
URL:https://masthope.org/event/monday-trivia-night-5/2026-01-12/
LOCATION:The Summit Restaurant\, 196 Karl Hope Blvd\, Lackawaxen\, PA\, 18435
CATEGORIES:Activities & Traditions,Social,Summit Restaurant
ATTACH;FMTTYPE=image/jpeg:https://masthope.org/wp-content/uploads/sites/1856/2024/03/trivia.jpg
END:VEVENT
BEGIN:VEVENT
DTSTART;TZID=America/New_York:20260112T160000
DTEND;TZID=America/New_York:20260112T200000
DTSTAMP:20260422T061318
CREATED:20250910T131651Z
LAST-MODIFIED:20260415T192519Z
UID:10008236-1768233600-1768248000@masthope.org
SUMMARY:Mamma Mia Mondays
DESCRIPTION:“Mamma Mia Mondays” Promo! For dine in or take out: 1 large cheese pizza and 1 order of boneless wings for $27 OR 1 large cheese pizza for $18. Not available on holiday periods.
URL:https://masthope.org/event/mamma-mia-mondays-3/2026-01-12/
LOCATION:The Summit Restaurant\, 196 Karl Hope Blvd\, Lackawaxen\, PA\, 18435
CATEGORIES:Summit Restaurant
ATTACH;FMTTYPE=image/jpeg:https://masthope.org/wp-content/uploads/sites/1856/2023/05/Presentation1.jpg
END:VEVENT
BEGIN:VEVENT
DTSTART;TZID=America/New_York:20260110T180000
DTEND;TZID=America/New_York:20260110T220000
DTSTAMP:20260422T061318
CREATED:20251215T172348Z
LAST-MODIFIED:20260109T195710Z
UID:10008548-1768068000-1768082400@masthope.org
SUMMARY:Live Music - Dan Engvaldsen
DESCRIPTION:Enjoy live music in The Summit Restaurant! (Live music performances are subject to change.)
URL:https://masthope.org/event/live-music-mdk-trio-18/
LOCATION:The Summit Restaurant\, 196 Karl Hope Blvd\, Lackawaxen\, PA\, 18435
CATEGORIES:Live Music,Summit Restaurant
ATTACH;FMTTYPE=image/png:https://masthope.org/wp-content/uploads/sites/1856/2022/05/Picture2.png
END:VEVENT
BEGIN:VEVENT
DTSTART;TZID=America/New_York:20260109T190000
DTEND;TZID=America/New_York:20260109T220000
DTSTAMP:20260422T061318
CREATED:20251215T172229Z
LAST-MODIFIED:20251215T172229Z
UID:10008547-1767985200-1767996000@masthope.org
SUMMARY:Live Music - Frost Duo
DESCRIPTION:Enjoy live music in The Summit Restaurant! (Live music performances are subject to change.)
URL:https://masthope.org/event/live-music-frost-duo-9/
LOCATION:The Summit Restaurant\, 196 Karl Hope Blvd\, Lackawaxen\, PA\, 18435
CATEGORIES:Live Music,Summit Restaurant
ATTACH;FMTTYPE=image/png:https://masthope.org/wp-content/uploads/sites/1856/2022/05/Picture2.png
END:VEVENT
BEGIN:VEVENT
DTSTART;TZID=America/New_York:20260108T183000
DTEND;TZID=America/New_York:20260108T200000
DTSTAMP:20260422T061318
CREATED:20260105T182650Z
LAST-MODIFIED:20260413T175753Z
UID:10008763-1767897000-1767902400@masthope.org
SUMMARY:Music Bingo
DESCRIPTION:Join us for our Music Bingo every Thursday at The Summit!
URL:https://masthope.org/event/music-bingo/2026-01-08/
LOCATION:The Summit Restaurant\, 196 Karl Hope Blvd\, Lackawaxen\, PA\, 18435
CATEGORIES:Activities & Traditions,Local,Summit Restaurant
ATTACH;FMTTYPE=image/jpeg:https://masthope.org/wp-content/uploads/sites/1856/2022/04/120-1202522_bingo-free.jpg
END:VEVENT
BEGIN:VEVENT
DTSTART;TZID=America/New_York:20260105T183000
DTEND;TZID=America/New_York:20260105T200000
DTSTAMP:20260422T061318
CREATED:20250915T171257Z
LAST-MODIFIED:20260323T172025Z
UID:10008816-1767637800-1767643200@masthope.org
SUMMARY:Monday Trivia Night!
DESCRIPTION:Join us at the Summit Restaurant on Mondays at 6:30pm for Trivia Night! Form a team and put your knowledge to the test. Prizes awarded to winners.
URL:https://masthope.org/event/monday-trivia-night-5/2026-01-05/
LOCATION:The Summit Restaurant\, 196 Karl Hope Blvd\, Lackawaxen\, PA\, 18435
CATEGORIES:Activities & Traditions,Social,Summit Restaurant
ATTACH;FMTTYPE=image/jpeg:https://masthope.org/wp-content/uploads/sites/1856/2024/03/trivia.jpg
END:VEVENT
BEGIN:VEVENT
DTSTART;TZID=America/New_York:20260105T160000
DTEND;TZID=America/New_York:20260105T200000
DTSTAMP:20260422T061318
CREATED:20250910T131651Z
LAST-MODIFIED:20260415T192519Z
UID:10008235-1767628800-1767643200@masthope.org
SUMMARY:Mamma Mia Mondays
DESCRIPTION:“Mamma Mia Mondays” Promo! For dine in or take out: 1 large cheese pizza and 1 order of boneless wings for $27 OR 1 large cheese pizza for $18. Not available on holiday periods.
URL:https://masthope.org/event/mamma-mia-mondays-3/2026-01-05/
LOCATION:The Summit Restaurant\, 196 Karl Hope Blvd\, Lackawaxen\, PA\, 18435
CATEGORIES:Summit Restaurant
ATTACH;FMTTYPE=image/jpeg:https://masthope.org/wp-content/uploads/sites/1856/2023/05/Presentation1.jpg
END:VEVENT
BEGIN:VEVENT
DTSTART;TZID=America/New_York:20251229T183000
DTEND;TZID=America/New_York:20251229T200000
DTSTAMP:20260422T061318
CREATED:20250915T171257Z
LAST-MODIFIED:20260323T172025Z
UID:10008815-1767033000-1767038400@masthope.org
SUMMARY:Monday Trivia Night!
DESCRIPTION:Join us at the Summit Restaurant on Mondays at 6:30pm for Trivia Night! Form a team and put your knowledge to the test. Prizes awarded to winners.
URL:https://masthope.org/event/monday-trivia-night-5/2025-12-29/
LOCATION:The Summit Restaurant\, 196 Karl Hope Blvd\, Lackawaxen\, PA\, 18435
CATEGORIES:Activities & Traditions,Social,Summit Restaurant
ATTACH;FMTTYPE=image/jpeg:https://masthope.org/wp-content/uploads/sites/1856/2024/03/trivia.jpg
END:VEVENT
BEGIN:VEVENT
DTSTART;TZID=America/New_York:20251229T160000
DTEND;TZID=America/New_York:20251229T200000
DTSTAMP:20260422T061318
CREATED:20250910T131651Z
LAST-MODIFIED:20260415T192519Z
UID:10008234-1767024000-1767038400@masthope.org
SUMMARY:Mamma Mia Mondays
DESCRIPTION:“Mamma Mia Mondays” Promo! For dine in or take out: 1 large cheese pizza and 1 order of boneless wings for $27 OR 1 large cheese pizza for $18. Not available on holiday periods.
URL:https://masthope.org/event/mamma-mia-mondays-3/2025-12-29/
LOCATION:The Summit Restaurant\, 196 Karl Hope Blvd\, Lackawaxen\, PA\, 18435
CATEGORIES:Summit Restaurant
ATTACH;FMTTYPE=image/jpeg:https://masthope.org/wp-content/uploads/sites/1856/2023/05/Presentation1.jpg
END:VEVENT
BEGIN:VEVENT
DTSTART;TZID=America/New_York:20251227T190000
DTEND;TZID=America/New_York:20251227T230000
DTSTAMP:20260422T061318
CREATED:20251103T201025Z
LAST-MODIFIED:20251103T201025Z
UID:10008534-1766862000-1766876400@masthope.org
SUMMARY:Live Music - Cold Sweat
DESCRIPTION:Enjoy live music in The Summit Restaurant! (Live music performances are subject to change.)
URL:https://masthope.org/event/live-music-cold-sweat-24/
LOCATION:The Summit Restaurant\, 196 Karl Hope Blvd\, Lackawaxen\, PA\, 18435
CATEGORIES:Live Music,Summit Restaurant
ATTACH;FMTTYPE=image/png:https://masthope.org/wp-content/uploads/sites/1856/2022/05/Picture2.png
END:VEVENT
BEGIN:VEVENT
DTSTART;TZID=America/New_York:20251226T180000
DTEND;TZID=America/New_York:20251226T220000
DTSTAMP:20260422T061318
CREATED:20251103T200948Z
LAST-MODIFIED:20251103T200948Z
UID:10008533-1766772000-1766786400@masthope.org
SUMMARY:Live Music - The Frost Duo
DESCRIPTION:Enjoy live music in The Summit Restaurant! (Live music performances are subject to change.)
URL:https://masthope.org/event/live-music-the-frost-duo-5/
LOCATION:The Summit Restaurant\, 196 Karl Hope Blvd\, Lackawaxen\, PA\, 18435
CATEGORIES:Live Music,Summit Restaurant
ATTACH;FMTTYPE=image/png:https://masthope.org/wp-content/uploads/sites/1856/2022/05/Picture2.png
END:VEVENT
BEGIN:VEVENT
DTSTART;TZID=America/New_York:20251222T183000
DTEND;TZID=America/New_York:20251222T200000
DTSTAMP:20260422T061318
CREATED:20250915T171257Z
LAST-MODIFIED:20260323T172025Z
UID:10008814-1766428200-1766433600@masthope.org
SUMMARY:Monday Trivia Night!
DESCRIPTION:Join us at the Summit Restaurant on Mondays at 6:30pm for Trivia Night! Form a team and put your knowledge to the test. Prizes awarded to winners.
URL:https://masthope.org/event/monday-trivia-night-5/2025-12-22/
LOCATION:The Summit Restaurant\, 196 Karl Hope Blvd\, Lackawaxen\, PA\, 18435
CATEGORIES:Activities & Traditions,Social,Summit Restaurant
ATTACH;FMTTYPE=image/jpeg:https://masthope.org/wp-content/uploads/sites/1856/2024/03/trivia.jpg
END:VEVENT
BEGIN:VEVENT
DTSTART;TZID=America/New_York:20251222T160000
DTEND;TZID=America/New_York:20251222T200000
DTSTAMP:20260422T061318
CREATED:20250910T131651Z
LAST-MODIFIED:20260415T192519Z
UID:10008233-1766419200-1766433600@masthope.org
SUMMARY:Mamma Mia Mondays
DESCRIPTION:“Mamma Mia Mondays” Promo! For dine in or take out: 1 large cheese pizza and 1 order of boneless wings for $27 OR 1 large cheese pizza for $18. Not available on holiday periods.
URL:https://masthope.org/event/mamma-mia-mondays-3/2025-12-22/
LOCATION:The Summit Restaurant\, 196 Karl Hope Blvd\, Lackawaxen\, PA\, 18435
CATEGORIES:Summit Restaurant
ATTACH;FMTTYPE=image/jpeg:https://masthope.org/wp-content/uploads/sites/1856/2023/05/Presentation1.jpg
END:VEVENT
BEGIN:VEVENT
DTSTART;TZID=America/New_York:20251219T180000
DTEND;TZID=America/New_York:20251219T220000
DTSTAMP:20260422T061318
CREATED:20251103T200907Z
LAST-MODIFIED:20251103T200907Z
UID:10008532-1766167200-1766181600@masthope.org
SUMMARY:Live Music - Smokin Buddie Steve
DESCRIPTION:Enjoy live music in The Summit Restaurant! (Live music performances are subject to change.)
URL:https://masthope.org/event/live-music-smokin-buddie-steve-17/
LOCATION:The Summit Restaurant\, 196 Karl Hope Blvd\, Lackawaxen\, PA\, 18435
CATEGORIES:Live Music,Summit Restaurant
ATTACH;FMTTYPE=image/png:https://masthope.org/wp-content/uploads/sites/1856/2022/05/Picture2.png
END:VEVENT
BEGIN:VEVENT
DTSTART;TZID=America/New_York:20251215T183000
DTEND;TZID=America/New_York:20251215T200000
DTSTAMP:20260422T061318
CREATED:20250915T171257Z
LAST-MODIFIED:20260323T172025Z
UID:10008277-1765823400-1765828800@masthope.org
SUMMARY:Monday Trivia Night!
DESCRIPTION:Join us at the Summit Restaurant on Mondays at 6:30pm for Trivia Night! Form a team and put your knowledge to the test. Prizes awarded to winners.
URL:https://masthope.org/event/monday-trivia-night-5/2025-12-15/
LOCATION:The Summit Restaurant\, 196 Karl Hope Blvd\, Lackawaxen\, PA\, 18435
CATEGORIES:Activities & Traditions,Social,Summit Restaurant
ATTACH;FMTTYPE=image/jpeg:https://masthope.org/wp-content/uploads/sites/1856/2024/03/trivia.jpg
END:VEVENT
BEGIN:VEVENT
DTSTART;TZID=America/New_York:20251215T160000
DTEND;TZID=America/New_York:20251215T200000
DTSTAMP:20260422T061318
CREATED:20250910T131651Z
LAST-MODIFIED:20260415T192519Z
UID:10008232-1765814400-1765828800@masthope.org
SUMMARY:Mamma Mia Mondays
DESCRIPTION:“Mamma Mia Mondays” Promo! For dine in or take out: 1 large cheese pizza and 1 order of boneless wings for $27 OR 1 large cheese pizza for $18. Not available on holiday periods.
URL:https://masthope.org/event/mamma-mia-mondays-3/2025-12-15/
LOCATION:The Summit Restaurant\, 196 Karl Hope Blvd\, Lackawaxen\, PA\, 18435
CATEGORIES:Summit Restaurant
ATTACH;FMTTYPE=image/jpeg:https://masthope.org/wp-content/uploads/sites/1856/2023/05/Presentation1.jpg
END:VEVENT
BEGIN:VEVENT
DTSTART;TZID=America/New_York:20251213T180000
DTEND;TZID=America/New_York:20251213T220000
DTSTAMP:20260422T061318
CREATED:20251103T200720Z
LAST-MODIFIED:20251103T200720Z
UID:10008531-1765648800-1765663200@masthope.org
SUMMARY:Live Music - Burl Millings
DESCRIPTION:Enjoy live music in The Summit Restaurant! (Live music performances are subject to change.)
URL:https://masthope.org/event/live-music-burl-millings-10/
LOCATION:The Summit Restaurant\, 196 Karl Hope Blvd\, Lackawaxen\, PA\, 18435
CATEGORIES:Live Music,Summit Restaurant
ATTACH;FMTTYPE=image/png:https://masthope.org/wp-content/uploads/sites/1856/2022/05/Picture2.png
END:VEVENT
BEGIN:VEVENT
DTSTART;TZID=America/New_York:20251212T180000
DTEND;TZID=America/New_York:20251212T220000
DTSTAMP:20260422T061318
CREATED:20251103T200647Z
LAST-MODIFIED:20251103T200647Z
UID:10008530-1765562400-1765576800@masthope.org
SUMMARY:Live Music - 2 Chicks / 1 Guitar
DESCRIPTION:Enjoy live music in The Summit Restaurant! (Live music performances are subject to change.)
URL:https://masthope.org/event/live-music-2-chicks-1-guitar-17/
LOCATION:The Summit Restaurant\, 196 Karl Hope Blvd\, Lackawaxen\, PA\, 18435
CATEGORIES:Live Music,Summit Restaurant
ATTACH;FMTTYPE=image/png:https://masthope.org/wp-content/uploads/sites/1856/2022/05/Picture2.png
END:VEVENT
BEGIN:VEVENT
DTSTART;TZID=America/New_York:20251208T183000
DTEND;TZID=America/New_York:20251208T200000
DTSTAMP:20260422T061318
CREATED:20250915T171257Z
LAST-MODIFIED:20260323T172025Z
UID:10008276-1765218600-1765224000@masthope.org
SUMMARY:Monday Trivia Night!
DESCRIPTION:Join us at the Summit Restaurant on Mondays at 6:30pm for Trivia Night! Form a team and put your knowledge to the test. Prizes awarded to winners.
URL:https://masthope.org/event/monday-trivia-night-5/2025-12-08/
LOCATION:The Summit Restaurant\, 196 Karl Hope Blvd\, Lackawaxen\, PA\, 18435
CATEGORIES:Activities & Traditions,Social,Summit Restaurant
ATTACH;FMTTYPE=image/jpeg:https://masthope.org/wp-content/uploads/sites/1856/2024/03/trivia.jpg
END:VEVENT
BEGIN:VEVENT
DTSTART;TZID=America/New_York:20251208T160000
DTEND;TZID=America/New_York:20251208T200000
DTSTAMP:20260422T061318
CREATED:20250910T131651Z
LAST-MODIFIED:20260415T192519Z
UID:10008231-1765209600-1765224000@masthope.org
SUMMARY:Mamma Mia Mondays
DESCRIPTION:“Mamma Mia Mondays” Promo! For dine in or take out: 1 large cheese pizza and 1 order of boneless wings for $27 OR 1 large cheese pizza for $18. Not available on holiday periods.
URL:https://masthope.org/event/mamma-mia-mondays-3/2025-12-08/
LOCATION:The Summit Restaurant\, 196 Karl Hope Blvd\, Lackawaxen\, PA\, 18435
CATEGORIES:Summit Restaurant
ATTACH;FMTTYPE=image/jpeg:https://masthope.org/wp-content/uploads/sites/1856/2023/05/Presentation1.jpg
END:VEVENT
BEGIN:VEVENT
DTSTART;TZID=America/New_York:20251206T180000
DTEND;TZID=America/New_York:20251206T220000
DTSTAMP:20260422T061318
CREATED:20251024T235534Z
LAST-MODIFIED:20251115T181208Z
UID:10008513-1765044000-1765058400@masthope.org
SUMMARY:Second Annual SnoBall Gala at Masthope
DESCRIPTION:Join us for our annual SnoBall Gala at Masthope! Enjoy a buffet dinner and wear those dancing shoes as DJ Keller will be joining us to celebrate the winter season! \n$50 per person / Reservations are required / Tables of 10 / For ages 21+ \nTickets available here. The email confirmation from your transaction will be your ticket to the event. \nSemi formal or business casual is appropriate. Jackets are optional for gentlemen. Please\, no jeans or sneakers.
URL:https://masthope.org/event/second-annual-snoball-gala-at-masthope/
LOCATION:The Summit Restaurant\, 196 Karl Hope Blvd\, Lackawaxen\, PA\, 18435
CATEGORIES:Activities & Traditions,Summit Restaurant
ATTACH;FMTTYPE=image/jpeg:https://masthope.org/wp-content/uploads/sites/1856/2024/11/Untitled-design.jpg
END:VEVENT
END:VCALENDAR