BEGIN:VCALENDAR
VERSION:2.0
PRODID:-//Masthope Mountain Community - ECPv6.15.20//NONSGML v1.0//EN
CALSCALE:GREGORIAN
METHOD:PUBLISH
X-WR-CALNAME:Masthope Mountain Community
X-ORIGINAL-URL:https://masthope.org
X-WR-CALDESC:Events for Masthope Mountain Community
REFRESH-INTERVAL;VALUE=DURATION:PT1H
X-Robots-Tag:noindex
X-PUBLISHED-TTL:PT1H
BEGIN:VTIMEZONE
TZID:America/New_York
BEGIN:DAYLIGHT
TZOFFSETFROM:-0500
TZOFFSETTO:-0400
TZNAME:EDT
DTSTART:20240310T070000
END:DAYLIGHT
BEGIN:STANDARD
TZOFFSETFROM:-0400
TZOFFSETTO:-0500
TZNAME:EST
DTSTART:20241103T060000
END:STANDARD
BEGIN:DAYLIGHT
TZOFFSETFROM:-0500
TZOFFSETTO:-0400
TZNAME:EDT
DTSTART:20250309T070000
END:DAYLIGHT
BEGIN:STANDARD
TZOFFSETFROM:-0400
TZOFFSETTO:-0500
TZNAME:EST
DTSTART:20251102T060000
END:STANDARD
BEGIN:DAYLIGHT
TZOFFSETFROM:-0500
TZOFFSETTO:-0400
TZNAME:EDT
DTSTART:20260308T070000
END:DAYLIGHT
BEGIN:STANDARD
TZOFFSETFROM:-0400
TZOFFSETTO:-0500
TZNAME:EST
DTSTART:20261101T060000
END:STANDARD
END:VTIMEZONE
BEGIN:VEVENT
DTSTART;TZID=America/New_York:20250719T080000
DTEND;TZID=America/New_York:20250719T090000
DTSTAMP:20260423T042542
CREATED:20250331T154221Z
LAST-MODIFIED:20250721T150758Z
UID:10007797-1752912000-1752915600@masthope.org
SUMMARY:Yoga
DESCRIPTION:Yoga with Diane: Yoga is a mind and body practice that can build strength and flexibility. It may also help manage pain and reduce stress. Various styles of yoga combine physical postures\, breathing techniques\, and meditation.
URL:https://masthope.org/event/yoga-14/2025-07-19/
LOCATION:Masthope Fitness Center\, 129 Karl Hope Boulevard\, Lackawaxen\, Pennsylvania\, 18435
CATEGORIES:Fitness
ATTACH;FMTTYPE=image/jpeg:https://masthope.org/wp-content/uploads/sites/1856/2023/04/Slide4.jpg
END:VEVENT
BEGIN:VEVENT
DTSTART;TZID=America/New_York:20250719T083000
DTEND;TZID=America/New_York:20250719T113000
DTSTAMP:20260423T042542
CREATED:20240724T034015Z
LAST-MODIFIED:20240724T034015Z
UID:10002796-1752913800-1752924600@masthope.org
SUMMARY:Board of Directors Meeting
DESCRIPTION:Meeting information and call in credentials can be found within your Property Owner account under Documents & FAQs > Documents > Board Meetings.
URL:https://masthope.org/event/board-of-directors-meeting-40/
LOCATION:Property Owners Lounge\, 196 Karl Hope Blvd\, Lackawaxen\, PA\, 18435\, United States
CATEGORIES:Meetings
ATTACH;FMTTYPE=image/jpeg:https://masthope.org/wp-content/uploads/sites/1856/2022/03/Picture18.jpg
END:VEVENT
BEGIN:VEVENT
DTSTART;TZID=America/New_York:20250719T100000
DTEND;TZID=America/New_York:20250719T140000
DTSTAMP:20260423T042542
CREATED:20250504T230907Z
LAST-MODIFIED:20250504T230907Z
UID:10007628-1752919200-1752933600@masthope.org
SUMMARY:Farmers' Market
DESCRIPTION:Located at the summit of Masthope Mountain outside the lodge. Setup weekly on Saturdays through Labor Day Weekend. Enjoy fresh fruits and vegetables\, produce\, local homemade crafts\, jams\, jellies\, candles\, honey and maple products.
URL:https://masthope.org/event/farmers-market-28/2025-07-19/
LOCATION:Mountain Top\, 196 Karl Hope Blvd\, Lackawaxen\, PA\, 18435\, United States
CATEGORIES:Activities & Traditions,Local
ATTACH;FMTTYPE=image/jpeg:https://masthope.org/wp-content/uploads/sites/1856/2022/04/anne-preble-SAPvKo12dQE-unsplash-scaled-1.jpg
END:VEVENT
BEGIN:VEVENT
DTSTART;TZID=America/New_York:20250719T120000
DTEND;TZID=America/New_York:20250719T163000
DTSTAMP:20260423T042542
CREATED:20250630T184644Z
LAST-MODIFIED:20250630T184644Z
UID:10007778-1752926400-1752942600@masthope.org
SUMMARY:Children’s Activities
DESCRIPTION:Join us for scheduled activities (For ages 6 and up) – Activities are subject to change and some are weather permitting. Meet at the Upper Pool at 12pm. \nActivities are subject to change due to weather
URL:https://masthope.org/event/childrens-activities-4/2025-07-19/
LOCATION:Mountain Top\, 196 Karl Hope Blvd\, Lackawaxen\, PA\, 18435\, United States
CATEGORIES:Activities & Traditions
ATTACH;FMTTYPE=image/jpeg:https://masthope.org/wp-content/uploads/sites/1856/2022/06/200507102104-chalklead.jpg
END:VEVENT
BEGIN:VEVENT
DTSTART;TZID=America/New_York:20250719T180000
DTEND;TZID=America/New_York:20250719T220000
DTSTAMP:20260423T042542
CREATED:20250519T190456Z
LAST-MODIFIED:20250519T190456Z
UID:10007650-1752948000-1752962400@masthope.org
SUMMARY:Live Music - Sage Clearing
DESCRIPTION:Enjoy live music on the Tiki Bar Patio! If rain\, in The Summit Restaurant. (Live music performances are subject to change.)
URL:https://masthope.org/event/live-music-sage-clearing-14/
LOCATION:The Tiki Bar at Masthope\, 196 Karl Hope Boulevard\, Lackawaxen\, PA\, 18435
CATEGORIES:Live Music,Summit Restaurant
ATTACH;FMTTYPE=image/png:https://masthope.org/wp-content/uploads/sites/1856/2022/05/Picture2.png
END:VEVENT
END:VCALENDAR