BEGIN:VCALENDAR
VERSION:2.0
PRODID:-//Masthope Mountain Community - ECPv6.15.20//NONSGML v1.0//EN
CALSCALE:GREGORIAN
METHOD:PUBLISH
X-WR-CALNAME:Masthope Mountain Community
X-ORIGINAL-URL:https://masthope.org
X-WR-CALDESC:Events for Masthope Mountain Community
REFRESH-INTERVAL;VALUE=DURATION:PT1H
X-Robots-Tag:noindex
X-PUBLISHED-TTL:PT1H
BEGIN:VTIMEZONE
TZID:America/New_York
BEGIN:DAYLIGHT
TZOFFSETFROM:-0500
TZOFFSETTO:-0400
TZNAME:EDT
DTSTART:20250309T070000
END:DAYLIGHT
BEGIN:STANDARD
TZOFFSETFROM:-0400
TZOFFSETTO:-0500
TZNAME:EST
DTSTART:20251102T060000
END:STANDARD
BEGIN:DAYLIGHT
TZOFFSETFROM:-0500
TZOFFSETTO:-0400
TZNAME:EDT
DTSTART:20260308T070000
END:DAYLIGHT
BEGIN:STANDARD
TZOFFSETFROM:-0400
TZOFFSETTO:-0500
TZNAME:EST
DTSTART:20261101T060000
END:STANDARD
BEGIN:DAYLIGHT
TZOFFSETFROM:-0500
TZOFFSETTO:-0400
TZNAME:EDT
DTSTART:20270314T070000
END:DAYLIGHT
BEGIN:STANDARD
TZOFFSETFROM:-0400
TZOFFSETTO:-0500
TZNAME:EST
DTSTART:20271107T060000
END:STANDARD
END:VTIMEZONE
BEGIN:VEVENT
DTSTART;TZID=America/New_York:20260225T090000
DTEND;TZID=America/New_York:20260225T100000
DTSTAMP:20260425T210231
CREATED:20250721T151815Z
LAST-MODIFIED:20260309T185822Z
UID:10008630-1772010000-1772013600@masthope.org
SUMMARY:Stretch & Balance
DESCRIPTION:Stretch & Balance with Diane: A series of stretching and balancing exercises\, providing a well rounded workout.
URL:https://masthope.org/event/stretch-balance-7/2026-02-25/
LOCATION:Masthope Fitness Center\, 129 Karl Hope Boulevard\, Lackawaxen\, Pennsylvania\, 18435
CATEGORIES:Fitness
ATTACH;FMTTYPE=image/jpeg:https://masthope.org/wp-content/uploads/sites/1856/2023/04/Slide3.jpg
END:VEVENT
BEGIN:VEVENT
DTSTART;TZID=America/New_York:20260225T101500
DTEND;TZID=America/New_York:20260225T111500
DTSTAMP:20260425T210231
CREATED:20250721T152458Z
LAST-MODIFIED:20260309T185938Z
UID:10008656-1772014500-1772018100@masthope.org
SUMMARY:YOQI
DESCRIPTION:YOQI® (pronounced yo chee) is all about energy. Every one of us is a living matrix of life force energy. The question we ask is how is your energy moving? Is it moving in the way of vibrant health\, optimal performance and loving connection? Or is it moving into states of stress\, fatigue and stagnation? YOQI helps people develop the skills to become active participants in the state of their own energy. With YOQI you learn how to remove resistance to the flow of energy so you can tap into your own source of effortless power. Learn more here…
URL:https://masthope.org/event/yoqi-4/2026-02-25/
LOCATION:Masthope Fitness Center\, 129 Karl Hope Boulevard\, Lackawaxen\, Pennsylvania\, 18435
CATEGORIES:Fitness
ATTACH;FMTTYPE=image/jpeg:https://masthope.org/wp-content/uploads/sites/1856/2023/04/Slide4.jpg
END:VEVENT
BEGIN:VEVENT
DTSTART;TZID=America/New_York:20260225T110000
DTEND;TZID=America/New_York:20260225T130000
DTSTAMP:20260425T210231
CREATED:20260125T223734Z
LAST-MODIFIED:20260214T183003Z
UID:10008841-1772017200-1772024400@masthope.org
SUMMARY:Morning Snowshoeing
DESCRIPTION:Join the Masthope Ski Committee on Wednesdays at Ski Big Bear for snowshoeing. Waiver required. Please bring your own equipment.
URL:https://masthope.org/event/morning-snowshoeing/2026-02-25/
LOCATION:Ski Big Bear\, 192 Karl Hope Boulevard\, Lackawaxen\, PA\, 18435\, United States
CATEGORIES:Activities & Traditions
ATTACH;FMTTYPE=image/jpeg:https://masthope.org/wp-content/uploads/sites/1856/2024/02/Picture1.jpg
END:VEVENT
BEGIN:VEVENT
DTSTART;TZID=America/New_York:20260225T163000
DTEND;TZID=America/New_York:20260225T173000
DTSTAMP:20260425T210231
CREATED:20251215T184241Z
LAST-MODIFIED:20251215T184241Z
UID:10008726-1772037000-1772040600@masthope.org
SUMMARY:Yoga
DESCRIPTION:Yoga with Diane: Yoga is a mind and body practice that can build strength and flexibility. It may also help manage pain and reduce stress. Various styles of yoga combine physical postures\, breathing techniques\, and meditation.
URL:https://masthope.org/event/yoga-16/2026-02-25/
LOCATION:Mountain Top\, 196 Karl Hope Blvd\, Lackawaxen\, PA\, 18435\, United States
CATEGORIES:Fitness
ATTACH;FMTTYPE=image/jpeg:https://masthope.org/wp-content/uploads/sites/1856/2023/04/Slide4.jpg
END:VEVENT
END:VCALENDAR