BEGIN:VCALENDAR
VERSION:2.0
PRODID:-//Masthope Mountain Community - ECPv6.15.20//NONSGML v1.0//EN
CALSCALE:GREGORIAN
METHOD:PUBLISH
X-WR-CALNAME:Masthope Mountain Community
X-ORIGINAL-URL:https://masthope.org
X-WR-CALDESC:Events for Masthope Mountain Community
REFRESH-INTERVAL;VALUE=DURATION:PT1H
X-Robots-Tag:noindex
X-PUBLISHED-TTL:PT1H
BEGIN:VTIMEZONE
TZID:America/New_York
BEGIN:DAYLIGHT
TZOFFSETFROM:-0500
TZOFFSETTO:-0400
TZNAME:EDT
DTSTART:20240310T070000
END:DAYLIGHT
BEGIN:STANDARD
TZOFFSETFROM:-0400
TZOFFSETTO:-0500
TZNAME:EST
DTSTART:20241103T060000
END:STANDARD
BEGIN:DAYLIGHT
TZOFFSETFROM:-0500
TZOFFSETTO:-0400
TZNAME:EDT
DTSTART:20250309T070000
END:DAYLIGHT
BEGIN:STANDARD
TZOFFSETFROM:-0400
TZOFFSETTO:-0500
TZNAME:EST
DTSTART:20251102T060000
END:STANDARD
BEGIN:DAYLIGHT
TZOFFSETFROM:-0500
TZOFFSETTO:-0400
TZNAME:EDT
DTSTART:20260308T070000
END:DAYLIGHT
BEGIN:STANDARD
TZOFFSETFROM:-0400
TZOFFSETTO:-0500
TZNAME:EST
DTSTART:20261101T060000
END:STANDARD
END:VTIMEZONE
BEGIN:VEVENT
DTSTART;TZID=America/New_York:20251001T183000
DTEND;TZID=America/New_York:20251001T200000
DTSTAMP:20260420T221544
CREATED:20250811T150536Z
LAST-MODIFIED:20250811T150536Z
UID:10008139-1759343400-1759348800@masthope.org
SUMMARY:Music Bingo at the Tiki Bar
DESCRIPTION:Join us for our Music Bingo every Wednesday at the Tiki Bar!
URL:https://masthope.org/event/music-bingo-at-the-tiki-bar/2025-10-01/
LOCATION:The Tiki Bar at Masthope\, 196 Karl Hope Boulevard\, Lackawaxen\, PA\, 18435
CATEGORIES:Activities & Traditions
ATTACH;FMTTYPE=image/jpeg:https://masthope.org/wp-content/uploads/sites/1856/2022/04/120-1202522_bingo-free.jpg
END:VEVENT
BEGIN:VEVENT
DTSTART;TZID=America/New_York:20251004T190000
DTEND;TZID=America/New_York:20251004T213000
DTSTAMP:20260420T221544
CREATED:20250825T150707Z
LAST-MODIFIED:20250825T150707Z
UID:10008161-1759604400-1759613400@masthope.org
SUMMARY:Bingo
DESCRIPTION:Join us for our traditional Bingo nights! Bingo cards go on sale at 7:00pm.
URL:https://masthope.org/event/bingo-42/2025-10-04/
LOCATION:The Lodge at Masthope\, 196 Karl Hope Blvd\, Lackawaxen\, PA\, 18435\, United States
CATEGORIES:Activities & Traditions
ATTACH;FMTTYPE=image/jpeg:https://masthope.org/wp-content/uploads/sites/1856/2022/04/120-1202522_bingo-free.jpg
END:VEVENT
BEGIN:VEVENT
DTSTART;TZID=America/New_York:20251004T190000
DTEND;TZID=America/New_York:20251004T213000
DTSTAMP:20260420T221544
CREATED:20251028T234203Z
LAST-MODIFIED:20251028T234203Z
UID:10008516-1759604400-1759613400@masthope.org
SUMMARY:Bingo
DESCRIPTION:Join us for our traditional Bingo nights! Bingo cards go on sale at 7:00pm.
URL:https://masthope.org/event/bingo-43/2025-10-04/
LOCATION:The Lodge at Masthope\, 196 Karl Hope Blvd\, Lackawaxen\, PA\, 18435\, United States
CATEGORIES:Activities & Traditions
ATTACH;FMTTYPE=image/jpeg:https://masthope.org/wp-content/uploads/sites/1856/2022/04/120-1202522_bingo-free.jpg
END:VEVENT
BEGIN:VEVENT
DTSTART;TZID=America/New_York:20251006T183000
DTEND;TZID=America/New_York:20251006T200000
DTSTAMP:20260420T221544
CREATED:20250915T171257Z
LAST-MODIFIED:20260323T172025Z
UID:10008267-1759775400-1759780800@masthope.org
SUMMARY:Monday Trivia Night!
DESCRIPTION:Join us at the Summit Restaurant on Mondays at 6:30pm for Trivia Night! Form a team and put your knowledge to the test. Prizes awarded to winners.
URL:https://masthope.org/event/monday-trivia-night-5/2025-10-06/
LOCATION:The Summit Restaurant\, 196 Karl Hope Blvd\, Lackawaxen\, PA\, 18435
CATEGORIES:Activities & Traditions,Social,Summit Restaurant
ATTACH;FMTTYPE=image/jpeg:https://masthope.org/wp-content/uploads/sites/1856/2024/03/trivia.jpg
END:VEVENT
BEGIN:VEVENT
DTSTART;TZID=America/New_York:20251011T130000
DTEND;TZID=America/New_York:20251011T160000
DTSTAMP:20260420T221544
CREATED:20250623T170107Z
LAST-MODIFIED:20250811T124408Z
UID:10007721-1760187600-1760198400@masthope.org
SUMMARY:Designer Pocketbook Bingo
DESCRIPTION:Benefitting C Alley Cats of Lake Wallenpaupack \nJoin us for our annual “Purse Bingo” featuring bags from Coach\, Michael Kors\, Kate Spade and more! Doors open at 1pm. Games start at 2pm. Tickets are $25 in advance and $30 at the door. For tickets and more info\, text June Carrozza at 718-909-4572 or Susan Costomiris at 917-743-5019.
URL:https://masthope.org/event/designer-pocketbook-bingo-3/
LOCATION:The Lodge at Masthope\, 196 Karl Hope Blvd\, Lackawaxen\, PA\, 18435\, United States
CATEGORIES:Activities & Traditions,Local,Social
ATTACH;FMTTYPE=image/jpeg:https://masthope.org/wp-content/uploads/sites/1856/2022/09/Picture2-scaled.jpg
END:VEVENT
BEGIN:VEVENT
DTSTART;TZID=America/New_York:20251011T130000
DTEND;TZID=America/New_York:20251011T170000
DTSTAMP:20260420T221544
CREATED:20250825T172139Z
LAST-MODIFIED:20250915T171149Z
UID:10008163-1760187600-1760202000@masthope.org
SUMMARY:Fall Harvest Festival
DESCRIPTION:Come enjoy an afternoon filled with all of your favorite fall foods and sweets… baked goods\, caramel apples\, popcorn\, cider more! Children receive a complimentary small pumpkin from our pumpkin patch. Stay for arts and crafts and the hayride wagon!
URL:https://masthope.org/event/fall-harvest-festival/
LOCATION:The Lodge at Masthope\, 196 Karl Hope Blvd\, Lackawaxen\, PA\, 18435\, United States
CATEGORIES:Activities & Traditions
ATTACH;FMTTYPE=image/png:https://masthope.org/wp-content/uploads/sites/1856/2022/09/Picture3.png
END:VEVENT
BEGIN:VEVENT
DTSTART;TZID=America/New_York:20251012T110000
DTEND;TZID=America/New_York:20251012T160000
DTSTAMP:20260420T221544
CREATED:20250407T173349Z
LAST-MODIFIED:20250825T165952Z
UID:10007583-1760266800-1760284800@masthope.org
SUMMARY:Craft Show
DESCRIPTION:Join us for a craft show featuring local vendors! (Open to the Public) – Vendors interested in participating can email Lukus at lukus@masthope.org. \nVendor Sign Up
URL:https://masthope.org/event/craft-show-10/2025-10-12/
LOCATION:The Lodge at Masthope\, 196 Karl Hope Blvd\, Lackawaxen\, PA\, 18435\, United States
CATEGORIES:Activities & Traditions,Local
ATTACH;FMTTYPE=image/jpeg:https://masthope.org/wp-content/uploads/sites/1856/2022/04/Slide2.jpg
END:VEVENT
BEGIN:VEVENT
DTSTART;TZID=America/New_York:20251013T183000
DTEND;TZID=America/New_York:20251013T200000
DTSTAMP:20260420T221544
CREATED:20250915T171257Z
LAST-MODIFIED:20260323T172025Z
UID:10008268-1760380200-1760385600@masthope.org
SUMMARY:Monday Trivia Night!
DESCRIPTION:Join us at the Summit Restaurant on Mondays at 6:30pm for Trivia Night! Form a team and put your knowledge to the test. Prizes awarded to winners.
URL:https://masthope.org/event/monday-trivia-night-5/2025-10-13/
LOCATION:The Summit Restaurant\, 196 Karl Hope Blvd\, Lackawaxen\, PA\, 18435
CATEGORIES:Activities & Traditions,Social,Summit Restaurant
ATTACH;FMTTYPE=image/jpeg:https://masthope.org/wp-content/uploads/sites/1856/2024/03/trivia.jpg
END:VEVENT
BEGIN:VEVENT
DTSTART;TZID=America/New_York:20251018T113000
DTEND;TZID=America/New_York:20251018T210000
DTSTAMP:20260420T221544
CREATED:20250922T133641Z
LAST-MODIFIED:20250922T134532Z
UID:10008349-1760787000-1760821200@masthope.org
SUMMARY:The Autumn Open Golf Outing - "Fore the Feast"
DESCRIPTION:Join us for a fantastic day of golf\, on course prizes\, raffles\, and fun hosted by the Summit Restaurant at the Cricket Hill Golf Club. Join us on the course at 11:30am for registration / 12pm putting contest / 1pm shotgun start. Boxed lunch and refreshments on the course. Prizes\, 50/50 and raffles supporting local food pantries. \nScramble / Best Ball / Mixed Teams Format \nAfter golf\, head back to The Summit for a buffet dinner with a cash bar. \n$480 PER TEAM of 4 for dinner & golf. ($120 per player) Click here to register \nYour email confirmation from this transaction is your ticket to the event.
URL:https://masthope.org/event/the-autumn-open-golf-outing-fore-the-feast/
LOCATION:Cricket Hill Golf Club\, 176 Cricket Hill Rd.\, Hawley\, PA\, 18428\, United States
CATEGORIES:Activities & Traditions,Local,Social,Summit Restaurant
ATTACH;FMTTYPE=image/jpeg:https://masthope.org/wp-content/uploads/sites/1856/2024/03/golf.jpg
END:VEVENT
BEGIN:VEVENT
DTSTART;TZID=America/New_York:20251020T183000
DTEND;TZID=America/New_York:20251020T200000
DTSTAMP:20260420T221544
CREATED:20250915T171257Z
LAST-MODIFIED:20260323T172025Z
UID:10008269-1760985000-1760990400@masthope.org
SUMMARY:Monday Trivia Night!
DESCRIPTION:Join us at the Summit Restaurant on Mondays at 6:30pm for Trivia Night! Form a team and put your knowledge to the test. Prizes awarded to winners.
URL:https://masthope.org/event/monday-trivia-night-5/2025-10-20/
LOCATION:The Summit Restaurant\, 196 Karl Hope Blvd\, Lackawaxen\, PA\, 18435
CATEGORIES:Activities & Traditions,Social,Summit Restaurant
ATTACH;FMTTYPE=image/jpeg:https://masthope.org/wp-content/uploads/sites/1856/2024/03/trivia.jpg
END:VEVENT
BEGIN:VEVENT
DTSTART;TZID=America/New_York:20251027T183000
DTEND;TZID=America/New_York:20251027T200000
DTSTAMP:20260420T221544
CREATED:20250915T171257Z
LAST-MODIFIED:20260323T172025Z
UID:10008270-1761589800-1761595200@masthope.org
SUMMARY:Monday Trivia Night!
DESCRIPTION:Join us at the Summit Restaurant on Mondays at 6:30pm for Trivia Night! Form a team and put your knowledge to the test. Prizes awarded to winners.
URL:https://masthope.org/event/monday-trivia-night-5/2025-10-27/
LOCATION:The Summit Restaurant\, 196 Karl Hope Blvd\, Lackawaxen\, PA\, 18435
CATEGORIES:Activities & Traditions,Social,Summit Restaurant
ATTACH;FMTTYPE=image/jpeg:https://masthope.org/wp-content/uploads/sites/1856/2024/03/trivia.jpg
END:VEVENT
END:VCALENDAR