BEGIN:VCALENDAR
VERSION:2.0
PRODID:-//Masthope Mountain Community - ECPv6.15.20//NONSGML v1.0//EN
CALSCALE:GREGORIAN
METHOD:PUBLISH
X-WR-CALNAME:Masthope Mountain Community
X-ORIGINAL-URL:https://masthope.org
X-WR-CALDESC:Events for Masthope Mountain Community
REFRESH-INTERVAL;VALUE=DURATION:PT1H
X-Robots-Tag:noindex
X-PUBLISHED-TTL:PT1H
BEGIN:VTIMEZONE
TZID:America/New_York
BEGIN:DAYLIGHT
TZOFFSETFROM:-0500
TZOFFSETTO:-0400
TZNAME:EDT
DTSTART:20230312T070000
END:DAYLIGHT
BEGIN:STANDARD
TZOFFSETFROM:-0400
TZOFFSETTO:-0500
TZNAME:EST
DTSTART:20231105T060000
END:STANDARD
BEGIN:DAYLIGHT
TZOFFSETFROM:-0500
TZOFFSETTO:-0400
TZNAME:EDT
DTSTART:20240310T070000
END:DAYLIGHT
BEGIN:STANDARD
TZOFFSETFROM:-0400
TZOFFSETTO:-0500
TZNAME:EST
DTSTART:20241103T060000
END:STANDARD
BEGIN:DAYLIGHT
TZOFFSETFROM:-0500
TZOFFSETTO:-0400
TZNAME:EDT
DTSTART:20250309T070000
END:DAYLIGHT
BEGIN:STANDARD
TZOFFSETFROM:-0400
TZOFFSETTO:-0500
TZNAME:EST
DTSTART:20251102T060000
END:STANDARD
END:VTIMEZONE
BEGIN:VEVENT
DTSTART;TZID=America/New_York:20240810T120000
DTEND;TZID=America/New_York:20240810T163000
DTSTAMP:20260420T113000
CREATED:20240625T163029Z
LAST-MODIFIED:20240812T020053Z
UID:10002707-1723291200-1723307400@masthope.org
SUMMARY:Children’s Activities with Miss Madison
DESCRIPTION:Join Miss Madison for scheduled activities Thursday – Monday in the summer! (For ages 6 and up) – Activities are subject to change and some are weather permitting. Begins June 29th and runs through Labor Day Weekend. \nThursdays\n12:00pm – 1:00pm: Volleyball @ Mountain Top\n1:30pm – 2:30pm: Soccer @ Sports Courts\n3:30pm – 4:30pm: Arts & Crafts @ Lodge \nFridays\n12:00pm – 1:00pm: Frisbee Golf @ Sports Courts\n1:30pm -2:30pm: Pool Noodle Hockey @ Sports Courts\n3:30pm – 4:30pm: Kickball @ Sports Courts \nSaturdays\n12:00pm – 1:00pm Basketball @ Sports Courts\n1:30pm -2:30pm: Wiffleball @ Sports Courts\n3:30pm – 4:30pm: Arts & Crafts @ Lodge \nSundays\n12:00pm – 1:00pm: Pool Noodle Hockey @ Sports Courts\n1:30pm – 2:30pm: Soccer @ Sports Courts\n3:30pm – 4:30pm: Kid’s Bingo @ Lodge \nMondays\n12:00pm – 1:00pm: Capture the Flag @ Mountain Top\n1:30pm – 2:30pm: Kickball @ Sports Courts\n3:30pm – 4:30pm: Basketball @ Sports Courts \n 
URL:https://masthope.org/event/childrens-activities-with-miss-madison-19/2024-08-10/
LOCATION:Mountain Top\, 196 Karl Hope Blvd\, Lackawaxen\, PA\, 18435\, United States
CATEGORIES:Activities & Traditions
ATTACH;FMTTYPE=image/jpeg:https://masthope.org/wp-content/uploads/sites/1856/2022/06/200507102104-chalklead.jpg
END:VEVENT
BEGIN:VEVENT
DTSTART;TZID=America/New_York:20240810T190000
DTEND;TZID=America/New_York:20240810T200000
DTSTAMP:20260420T113000
CREATED:20240617T135410Z
LAST-MODIFIED:20240617T135410Z
UID:10002670-1723316400-1723320000@masthope.org
SUMMARY:The Great Cardboard Boat Race
DESCRIPTION:A Masthope favorite returns! Save the date for our cardboard boat race. Teams of up to 6 people are challenged to get creative and construct a boat made entirely from corrugated cardboard and navigate it across our upper pool from one side to the other and back. Teams will consist of a captain\, first mate\, and up to a four person crew. Judging and awards will be for fastest finish time\, most creative design and most dramatic sink. 20 teams may register on a first come first serve basis. Call the POC office at 570-685-4790 to register. The official rules for the race can be picked up at the office. ($20 fee to register) \n3pm-6:30pm build time / race at 7pm
URL:https://masthope.org/event/the-great-cardboard-boat-race-2/
LOCATION:Pool Complex
CATEGORIES:Activities & Traditions,Social
ATTACH;FMTTYPE=image/png:https://masthope.org/wp-content/uploads/sites/1856/2023/07/Presentation1.png
END:VEVENT
END:VCALENDAR