BEGIN:VCALENDAR
VERSION:2.0
PRODID:-//Masthope Mountain Community - ECPv6.15.20//NONSGML v1.0//EN
CALSCALE:GREGORIAN
METHOD:PUBLISH
X-ORIGINAL-URL:https://masthope.org
X-WR-CALDESC:Events for Masthope Mountain Community
REFRESH-INTERVAL;VALUE=DURATION:PT1H
X-Robots-Tag:noindex
X-PUBLISHED-TTL:PT1H
BEGIN:VTIMEZONE
TZID:America/New_York
BEGIN:DAYLIGHT
TZOFFSETFROM:-0500
TZOFFSETTO:-0400
TZNAME:EDT
DTSTART:20230312T070000
END:DAYLIGHT
BEGIN:STANDARD
TZOFFSETFROM:-0400
TZOFFSETTO:-0500
TZNAME:EST
DTSTART:20231105T060000
END:STANDARD
BEGIN:DAYLIGHT
TZOFFSETFROM:-0500
TZOFFSETTO:-0400
TZNAME:EDT
DTSTART:20240310T070000
END:DAYLIGHT
BEGIN:STANDARD
TZOFFSETFROM:-0400
TZOFFSETTO:-0500
TZNAME:EST
DTSTART:20241103T060000
END:STANDARD
BEGIN:DAYLIGHT
TZOFFSETFROM:-0500
TZOFFSETTO:-0400
TZNAME:EDT
DTSTART:20250309T070000
END:DAYLIGHT
BEGIN:STANDARD
TZOFFSETFROM:-0400
TZOFFSETTO:-0500
TZNAME:EST
DTSTART:20251102T060000
END:STANDARD
END:VTIMEZONE
BEGIN:VEVENT
DTSTART;TZID=America/New_York:20240921T180000
DTEND;TZID=America/New_York:20240921T223000
DTSTAMP:20260419T232600
CREATED:20240818T210450Z
LAST-MODIFIED:20240818T210450Z
UID:10002801-1726941600-1726957800@masthope.org
SUMMARY:"Memories" - Cabaret
DESCRIPTION:Back by popular demand… join us for a night of your favorite songs from the past! Pre-registration is required. Call the POC Office at 570-685-4790 to reserve. $60 per ticket. Buffet dinner. Cash bar available. \nAbout the performers: We are “Memories”  Turn Up The Volume and Enjoy The Music. We are a vocal harmony group singing some of your favorite songs by artists such as: The Righteous Brothers\, Bee Gees\, The Duprees\, Everly Brothers\, The Sherells\, Michael Buble\, Sam Cooke\, Carol King\, Frank Sinatra\, Dean Martin\, Johnny Mathis\, Engelbert Humperdink\, Elvis Presley\, Barry Manilow\, Willy Nelson\, Tony Bennett\, Michael Buble\, Frankie Valli\, The Four Seasons\, Neil Diamond\, Bobby Vinton\, Paul Anka\, Frankie Avalon and many others of your favorite artists.
URL:https://masthope.org/event/memories-cabaret-2/
LOCATION:Property Owners Lounge\, 196 Karl Hope Blvd\, Lackawaxen\, PA\, 18435\, United States
CATEGORIES:Activities & Traditions
ATTACH;FMTTYPE=image/png:https://masthope.org/wp-content/uploads/sites/1856/2023/08/Presentation1.png
END:VEVENT
END:VCALENDAR