BEGIN:VCALENDAR
VERSION:2.0
PRODID:-//Masthope Mountain Community - ECPv6.15.20//NONSGML v1.0//EN
CALSCALE:GREGORIAN
METHOD:PUBLISH
X-ORIGINAL-URL:https://masthope.org
X-WR-CALDESC:Events for Masthope Mountain Community
REFRESH-INTERVAL;VALUE=DURATION:PT1H
X-Robots-Tag:noindex
X-PUBLISHED-TTL:PT1H
BEGIN:VTIMEZONE
TZID:America/New_York
BEGIN:DAYLIGHT
TZOFFSETFROM:-0500
TZOFFSETTO:-0400
TZNAME:EDT
DTSTART:20240310T070000
END:DAYLIGHT
BEGIN:STANDARD
TZOFFSETFROM:-0400
TZOFFSETTO:-0500
TZNAME:EST
DTSTART:20241103T060000
END:STANDARD
BEGIN:DAYLIGHT
TZOFFSETFROM:-0500
TZOFFSETTO:-0400
TZNAME:EDT
DTSTART:20250309T070000
END:DAYLIGHT
BEGIN:STANDARD
TZOFFSETFROM:-0400
TZOFFSETTO:-0500
TZNAME:EST
DTSTART:20251102T060000
END:STANDARD
BEGIN:DAYLIGHT
TZOFFSETFROM:-0500
TZOFFSETTO:-0400
TZNAME:EDT
DTSTART:20260308T070000
END:DAYLIGHT
BEGIN:STANDARD
TZOFFSETFROM:-0400
TZOFFSETTO:-0500
TZNAME:EST
DTSTART:20261101T060000
END:STANDARD
END:VTIMEZONE
BEGIN:VEVENT
DTSTART;TZID=America/New_York:20250526T120000
DTEND;TZID=America/New_York:20250526T163000
DTSTAMP:20260424T090132
CREATED:20250522T195258Z
LAST-MODIFIED:20250522T195258Z
UID:10007696-1748260800-1748277000@masthope.org
SUMMARY:Children’s Activities with Miss Madison
DESCRIPTION:Join Miss Madison for scheduled activities (For ages 6 and up) – Activities are subject to change and some are weather permitting. \nSaturday\, May 24th\nPool Noodle Hockey: 12pm-1pm @ Sports Courts\nBasketball: 1:30pm-2:30pm @ Sports Courts\nArts & Crafts: 3:30pm-4:30pm @ Lodge \nSunday\, May 25th\nVolleyball: 12pm-1pm @ Mountain Top\nWiffleball: 1:30pm-2:30pm @ Sports Courts\nSoccer: 3:30pm-4:30pm @ Sports Courts \nMonday\, May 26th\nCapture the Flag: 12pm-1pm @ Mountain Top\nBasketball: 1:30pm-2:30pm @ Sports Courts\nKickball: 3:30pm-4:30pm @ Sports Courts \nActivities are subject to change due to weather \n 
URL:https://masthope.org/event/childrens-activities-with-miss-madison-20/2025-05-26/
LOCATION:Mountain Top\, 196 Karl Hope Blvd\, Lackawaxen\, PA\, 18435\, United States
CATEGORIES:Activities & Traditions
ATTACH;FMTTYPE=image/jpeg:https://masthope.org/wp-content/uploads/sites/1856/2022/06/200507102104-chalklead.jpg
END:VEVENT
END:VCALENDAR