BEGIN:VCALENDAR
VERSION:2.0
PRODID:-//Masthope Mountain Community - ECPv6.15.20//NONSGML v1.0//EN
CALSCALE:GREGORIAN
METHOD:PUBLISH
X-ORIGINAL-URL:https://masthope.org
X-WR-CALDESC:Events for Masthope Mountain Community
REFRESH-INTERVAL;VALUE=DURATION:PT1H
X-Robots-Tag:noindex
X-PUBLISHED-TTL:PT1H
BEGIN:VTIMEZONE
TZID:America/New_York
BEGIN:DAYLIGHT
TZOFFSETFROM:-0500
TZOFFSETTO:-0400
TZNAME:EDT
DTSTART:20240310T070000
END:DAYLIGHT
BEGIN:STANDARD
TZOFFSETFROM:-0400
TZOFFSETTO:-0500
TZNAME:EST
DTSTART:20241103T060000
END:STANDARD
BEGIN:DAYLIGHT
TZOFFSETFROM:-0500
TZOFFSETTO:-0400
TZNAME:EDT
DTSTART:20250309T070000
END:DAYLIGHT
BEGIN:STANDARD
TZOFFSETFROM:-0400
TZOFFSETTO:-0500
TZNAME:EST
DTSTART:20251102T060000
END:STANDARD
BEGIN:DAYLIGHT
TZOFFSETFROM:-0500
TZOFFSETTO:-0400
TZNAME:EDT
DTSTART:20260308T070000
END:DAYLIGHT
BEGIN:STANDARD
TZOFFSETFROM:-0400
TZOFFSETTO:-0500
TZNAME:EST
DTSTART:20261101T060000
END:STANDARD
END:VTIMEZONE
BEGIN:VEVENT
DTSTART;TZID=America/New_York:20250706T120000
DTEND;TZID=America/New_York:20250706T163000
DTSTAMP:20260422T165707
CREATED:20250630T184644Z
LAST-MODIFIED:20250630T184644Z
UID:10007769-1751803200-1751819400@masthope.org
SUMMARY:Children’s Activities
DESCRIPTION:Join us for scheduled activities (For ages 6 and up) – Activities are subject to change and some are weather permitting. Meet at the Upper Pool at 12pm. \nActivities are subject to change due to weather
URL:https://masthope.org/event/childrens-activities-4/2025-07-06/
LOCATION:Mountain Top\, 196 Karl Hope Blvd\, Lackawaxen\, PA\, 18435\, United States
CATEGORIES:Activities & Traditions
ATTACH;FMTTYPE=image/jpeg:https://masthope.org/wp-content/uploads/sites/1856/2022/06/200507102104-chalklead.jpg
END:VEVENT
BEGIN:VEVENT
DTSTART;TZID=America/New_York:20250706T190000
DTEND;TZID=America/New_York:20250706T213000
DTSTAMP:20260422T165707
CREATED:20250527T145231Z
LAST-MODIFIED:20250527T145343Z
UID:10007709-1751828400-1751837400@masthope.org
SUMMARY:Bingo
DESCRIPTION:Join us for our traditional Bingo nights! Bingo cards go on sale at 7:00pm.
URL:https://masthope.org/event/bingo-40/2025-07-06/
LOCATION:The Lodge at Masthope\, 196 Karl Hope Blvd\, Lackawaxen\, PA\, 18435\, United States
CATEGORIES:Activities & Traditions
ATTACH;FMTTYPE=image/jpeg:https://masthope.org/wp-content/uploads/sites/1856/2022/04/120-1202522_bingo-free.jpg
END:VEVENT
END:VCALENDAR