BEGIN:VCALENDAR
VERSION:2.0
PRODID:-//Masthope Mountain Community - ECPv6.15.20//NONSGML v1.0//EN
CALSCALE:GREGORIAN
METHOD:PUBLISH
X-WR-CALNAME:Masthope Mountain Community
X-ORIGINAL-URL:https://masthope.org
X-WR-CALDESC:Events for Masthope Mountain Community
REFRESH-INTERVAL;VALUE=DURATION:PT1H
X-Robots-Tag:noindex
X-PUBLISHED-TTL:PT1H
BEGIN:VTIMEZONE
TZID:America/New_York
BEGIN:DAYLIGHT
TZOFFSETFROM:-0500
TZOFFSETTO:-0400
TZNAME:EDT
DTSTART:20240310T070000
END:DAYLIGHT
BEGIN:STANDARD
TZOFFSETFROM:-0400
TZOFFSETTO:-0500
TZNAME:EST
DTSTART:20241103T060000
END:STANDARD
BEGIN:DAYLIGHT
TZOFFSETFROM:-0500
TZOFFSETTO:-0400
TZNAME:EDT
DTSTART:20250309T070000
END:DAYLIGHT
BEGIN:STANDARD
TZOFFSETFROM:-0400
TZOFFSETTO:-0500
TZNAME:EST
DTSTART:20251102T060000
END:STANDARD
BEGIN:DAYLIGHT
TZOFFSETFROM:-0500
TZOFFSETTO:-0400
TZNAME:EDT
DTSTART:20260308T070000
END:DAYLIGHT
BEGIN:STANDARD
TZOFFSETFROM:-0400
TZOFFSETTO:-0500
TZNAME:EST
DTSTART:20261101T060000
END:STANDARD
END:VTIMEZONE
BEGIN:VEVENT
DTSTART;TZID=America/New_York:20251108T120000
DTEND;TZID=America/New_York:20251108T150000
DTSTAMP:20260420T221554
CREATED:20250910T132029Z
LAST-MODIFIED:20250910T140236Z
UID:10008249-1762603200-1762614000@masthope.org
SUMMARY:Annual Chili Cookoff
DESCRIPTION:Doors open to the general public at 1pm. Please bring a non-perishable food item as a donation for our local food pantry. Sign up here to enter the contest. For more information\, see the list of entry rules in the Masthope Weekly.
URL:https://masthope.org/event/annual-chili-cookoff-4/
LOCATION:The Lodge at Masthope\, 196 Karl Hope Blvd\, Lackawaxen\, PA\, 18435\, United States
CATEGORIES:Activities & Traditions,Social
ATTACH;FMTTYPE=image/jpeg:https://masthope.org/wp-content/uploads/sites/1856/2022/09/Presentation1-5.jpg
END:VEVENT
BEGIN:VEVENT
DTSTART;TZID=America/New_York:20251108T170000
DTEND;TZID=America/New_York:20251108T200000
DTSTAMP:20260420T221554
CREATED:20251007T011418Z
LAST-MODIFIED:20251007T011418Z
UID:10008418-1762621200-1762632000@masthope.org
SUMMARY:Sip & Paint
DESCRIPTION:Join us for Sip & Paint! $35 per person includes a 12×16 canvas\, house glass of wine or draft beer\, supplies and instruction. Come paint a seasonal scene! Minimum of 10 people required – Maximum of 30. Sign up here! Your email confirmation from this purchase will be your ticket to the event.
URL:https://masthope.org/event/sip-paint-13/
LOCATION:The Lodge at Masthope\, 196 Karl Hope Blvd\, Lackawaxen\, PA\, 18435\, United States
CATEGORIES:Activities & Traditions
ATTACH;FMTTYPE=image/jpeg:https://masthope.org/wp-content/uploads/sites/1856/2022/05/paint.jpg
END:VEVENT
END:VCALENDAR