BEGIN:VCALENDAR
VERSION:2.0
PRODID:-//Masthope Mountain Community - ECPv6.15.20//NONSGML v1.0//EN
CALSCALE:GREGORIAN
METHOD:PUBLISH
X-ORIGINAL-URL:https://masthope.org
X-WR-CALDESC:Events for Masthope Mountain Community
REFRESH-INTERVAL;VALUE=DURATION:PT1H
X-Robots-Tag:noindex
X-PUBLISHED-TTL:PT1H
BEGIN:VTIMEZONE
TZID:America/New_York
BEGIN:DAYLIGHT
TZOFFSETFROM:-0500
TZOFFSETTO:-0400
TZNAME:EDT
DTSTART:20250309T070000
END:DAYLIGHT
BEGIN:STANDARD
TZOFFSETFROM:-0400
TZOFFSETTO:-0500
TZNAME:EST
DTSTART:20251102T060000
END:STANDARD
BEGIN:DAYLIGHT
TZOFFSETFROM:-0500
TZOFFSETTO:-0400
TZNAME:EDT
DTSTART:20260308T070000
END:DAYLIGHT
BEGIN:STANDARD
TZOFFSETFROM:-0400
TZOFFSETTO:-0500
TZNAME:EST
DTSTART:20261101T060000
END:STANDARD
BEGIN:DAYLIGHT
TZOFFSETFROM:-0500
TZOFFSETTO:-0400
TZNAME:EDT
DTSTART:20270314T070000
END:DAYLIGHT
BEGIN:STANDARD
TZOFFSETFROM:-0400
TZOFFSETTO:-0500
TZNAME:EST
DTSTART:20271107T060000
END:STANDARD
END:VTIMEZONE
BEGIN:VEVENT
DTSTART;TZID=America/New_York:20260103T080000
DTEND;TZID=America/New_York:20260103T100000
DTSTAMP:20260421T125806
CREATED:20250915T175812Z
LAST-MODIFIED:20260406T164811Z
UID:10008546-1767427200-1767434400@masthope.org
SUMMARY:Document Review Committee Meeting
DESCRIPTION:Advance RSVP is required. Please contact the POC Office.
URL:https://masthope.org/event/document-review-committee-meeting-21/2026-01-03/
LOCATION:POC Conference Room\, 196 Karl Hope Boulevard\, Lackawaxen\, PA\, 18435\, United States
CATEGORIES:Meetings
ATTACH;FMTTYPE=image/jpeg:https://masthope.org/wp-content/uploads/sites/1856/2022/03/Picture18.jpg
END:VEVENT
BEGIN:VEVENT
DTSTART;TZID=America/New_York:20260110T083000
DTEND;TZID=America/New_York:20260110T113000
DTSTAMP:20260421T125806
CREATED:20250818T163904Z
LAST-MODIFIED:20250818T163904Z
UID:10008151-1768033800-1768044600@masthope.org
SUMMARY:Budget Townhall Meeting
DESCRIPTION:Meeting information and call in credentials can be found within your Property Owner account under Documents & FAQs > Documents > Board Meetings.
URL:https://masthope.org/event/budget-townhall-meeting-3/
LOCATION:Beach House\, 349 Falling Waters Blvd\, Lackawaxen\, PA\, 18435
CATEGORIES:Meetings
ATTACH;FMTTYPE=image/jpeg:https://masthope.org/wp-content/uploads/sites/1856/2022/03/Picture18.jpg
END:VEVENT
BEGIN:VEVENT
DTSTART;TZID=America/New_York:20260111T110000
DTEND;TZID=America/New_York:20260111T120000
DTSTAMP:20260421T125806
CREATED:20251215T154417Z
LAST-MODIFIED:20260105T170824Z
UID:10008542-1768129200-1768132800@masthope.org
SUMMARY:Westcolang Lake Association Meeting
DESCRIPTION:Representatives from Masthope\, Westcolang Park and Fawn Lake Forest meet to discuss topics regarding the lake.
URL:https://masthope.org/event/westcolang-lake-association-meeting-12/
LOCATION:Fawn Lake Forest Clubhouse\, 112 Bay Center Circle\, Hawley\, PA\, 18428\, United States
CATEGORIES:Meetings
ATTACH;FMTTYPE=image/jpeg:https://masthope.org/wp-content/uploads/sites/1856/2022/04/Slide1.jpg
END:VEVENT
BEGIN:VEVENT
DTSTART;TZID=America/New_York:20260116T150000
DTEND;TZID=America/New_York:20260116T160000
DTSTAMP:20260421T125806
CREATED:20260105T185450Z
LAST-MODIFIED:20260105T185450Z
UID:10008830-1768575600-1768579200@masthope.org
SUMMARY:Public Safety Committee Meeting
DESCRIPTION:Advance RSVP is required. Please contact the POC Office.
URL:https://masthope.org/event/public-safety-committee-meeting-5/
LOCATION:POC Conference Room\, 196 Karl Hope Boulevard\, Lackawaxen\, PA\, 18435\, United States
CATEGORIES:Meetings
ATTACH;FMTTYPE=image/jpeg:https://masthope.org/wp-content/uploads/sites/1856/2022/03/Picture18.jpg
END:VEVENT
BEGIN:VEVENT
DTSTART;TZID=America/New_York:20260117T083000
DTEND;TZID=America/New_York:20260117T113000
DTSTAMP:20260421T125806
CREATED:20250818T163508Z
LAST-MODIFIED:20260316T190722Z
UID:10008143-1768638600-1768649400@masthope.org
SUMMARY:Board of Directors Meeting
DESCRIPTION:Meeting information and call in credentials can be found within your Property Owner account under Documents & FAQs > Documents > Board Meetings.
URL:https://masthope.org/event/board-of-directors-meeting-42/2026-01-17/
LOCATION:Beach House\, 349 Falling Waters Blvd\, Lackawaxen\, PA\, 18435
CATEGORIES:Meetings
ATTACH;FMTTYPE=image/jpeg:https://masthope.org/wp-content/uploads/sites/1856/2022/03/Picture18.jpg
END:VEVENT
BEGIN:VEVENT
DTSTART;TZID=America/New_York:20260121T100000
DTEND;TZID=America/New_York:20260121T110000
DTSTAMP:20260421T125806
CREATED:20250915T175723Z
LAST-MODIFIED:20251103T195730Z
UID:10008523-1768989600-1768993200@masthope.org
SUMMARY:Audit Committee Meeting
DESCRIPTION:Advance RSVP is required. Please contact the POC Office.
URL:https://masthope.org/event/audit-committee-meeting/2026-01-21/
LOCATION:POC Conference Room\, 196 Karl Hope Boulevard\, Lackawaxen\, PA\, 18435\, United States
CATEGORIES:Meetings
ATTACH;FMTTYPE=image/jpeg:https://masthope.org/wp-content/uploads/sites/1856/2022/03/Picture18.jpg
END:VEVENT
BEGIN:VEVENT
DTSTART;TZID=America/New_York:20260123T180000
DTEND;TZID=America/New_York:20260123T190000
DTSTAMP:20260421T125806
CREATED:20260105T185424Z
LAST-MODIFIED:20260105T185424Z
UID:10008829-1769191200-1769194800@masthope.org
SUMMARY:Ski Committee Meeting
DESCRIPTION:Advance RSVP is required. Please contact the POC Office.
URL:https://masthope.org/event/ski-committee-meeting-8/
LOCATION:The Lodge at Masthope\, 196 Karl Hope Blvd\, Lackawaxen\, PA\, 18435\, United States
CATEGORIES:Meetings
ATTACH;FMTTYPE=image/jpeg:https://masthope.org/wp-content/uploads/sites/1856/2022/03/Picture18.jpg
END:VEVENT
BEGIN:VEVENT
DTSTART;TZID=America/New_York:20260124T083000
DTEND;TZID=America/New_York:20260124T113000
DTSTAMP:20260421T125806
CREATED:20250818T163948Z
LAST-MODIFIED:20250818T163948Z
UID:10008152-1769243400-1769254200@masthope.org
SUMMARY:Budget Meeting*
DESCRIPTION:*If necessary / Meeting information and call in credentials can be found within your Property Owner account under Documents & FAQs > Documents.
URL:https://masthope.org/event/budget-meeting-3/
LOCATION:Beach House\, 349 Falling Waters Blvd\, Lackawaxen\, PA\, 18435
CATEGORIES:Meetings
ATTACH;FMTTYPE=image/jpeg:https://masthope.org/wp-content/uploads/sites/1856/2022/03/Picture18.jpg
END:VEVENT
END:VCALENDAR