BEGIN:VCALENDAR
VERSION:2.0
PRODID:-//Masthope Mountain Community - ECPv6.15.20//NONSGML v1.0//EN
CALSCALE:GREGORIAN
METHOD:PUBLISH
X-ORIGINAL-URL:https://masthope.org
X-WR-CALDESC:Events for Masthope Mountain Community
REFRESH-INTERVAL;VALUE=DURATION:PT1H
X-Robots-Tag:noindex
X-PUBLISHED-TTL:PT1H
BEGIN:VTIMEZONE
TZID:America/New_York
BEGIN:DAYLIGHT
TZOFFSETFROM:-0500
TZOFFSETTO:-0400
TZNAME:EDT
DTSTART:20250309T070000
END:DAYLIGHT
BEGIN:STANDARD
TZOFFSETFROM:-0400
TZOFFSETTO:-0500
TZNAME:EST
DTSTART:20251102T060000
END:STANDARD
BEGIN:DAYLIGHT
TZOFFSETFROM:-0500
TZOFFSETTO:-0400
TZNAME:EDT
DTSTART:20260308T070000
END:DAYLIGHT
BEGIN:STANDARD
TZOFFSETFROM:-0400
TZOFFSETTO:-0500
TZNAME:EST
DTSTART:20261101T060000
END:STANDARD
BEGIN:DAYLIGHT
TZOFFSETFROM:-0500
TZOFFSETTO:-0400
TZNAME:EDT
DTSTART:20270314T070000
END:DAYLIGHT
BEGIN:STANDARD
TZOFFSETFROM:-0400
TZOFFSETTO:-0500
TZNAME:EST
DTSTART:20271107T060000
END:STANDARD
END:VTIMEZONE
BEGIN:VEVENT
DTSTART;TZID=America/New_York:20260207T080000
DTEND;TZID=America/New_York:20260207T100000
DTSTAMP:20260420T011737
CREATED:20250915T175812Z
LAST-MODIFIED:20260406T164811Z
UID:10008828-1770451200-1770458400@masthope.org
SUMMARY:Document Review Committee Meeting
DESCRIPTION:Advance RSVP is required. Please contact the POC Office.
URL:https://masthope.org/event/document-review-committee-meeting-21/2026-02-07/
LOCATION:POC Conference Room\, 196 Karl Hope Boulevard\, Lackawaxen\, PA\, 18435\, United States
CATEGORIES:Meetings
ATTACH;FMTTYPE=image/jpeg:https://masthope.org/wp-content/uploads/sites/1856/2022/03/Picture18.jpg
END:VEVENT
BEGIN:VEVENT
DTSTART;TZID=America/New_York:20260214T083000
DTEND;TZID=America/New_York:20260214T113000
DTSTAMP:20260420T011737
CREATED:20250818T163508Z
LAST-MODIFIED:20260316T190722Z
UID:10008144-1771057800-1771068600@masthope.org
SUMMARY:Board of Directors Meeting
DESCRIPTION:Meeting information and call in credentials can be found within your Property Owner account under Documents & FAQs > Documents > Board Meetings.
URL:https://masthope.org/event/board-of-directors-meeting-42/2026-02-14/
LOCATION:Beach House\, 349 Falling Waters Blvd\, Lackawaxen\, PA\, 18435
CATEGORIES:Meetings
ATTACH;FMTTYPE=image/jpeg:https://masthope.org/wp-content/uploads/sites/1856/2022/03/Picture18.jpg
END:VEVENT
BEGIN:VEVENT
DTSTART;TZID=America/New_York:20260219T100000
DTEND;TZID=America/New_York:20260219T110000
DTSTAMP:20260420T011737
CREATED:20260125T224002Z
LAST-MODIFIED:20260125T224002Z
UID:10008843-1771495200-1771498800@masthope.org
SUMMARY:Audit Committee Meeting
DESCRIPTION:Advance RSVP is required. Please contact the POC Office.
URL:https://masthope.org/event/audit-committee-meeting-2/
LOCATION:POC Conference Room\, 196 Karl Hope Boulevard\, Lackawaxen\, PA\, 18435\, United States
CATEGORIES:Meetings
ATTACH;FMTTYPE=image/jpeg:https://masthope.org/wp-content/uploads/sites/1856/2022/03/Picture18.jpg
END:VEVENT
BEGIN:VEVENT
DTSTART;TZID=America/New_York:20260220T150000
DTEND;TZID=America/New_York:20260220T160000
DTSTAMP:20260420T011737
CREATED:20260125T223853Z
LAST-MODIFIED:20260125T223853Z
UID:10008842-1771599600-1771603200@masthope.org
SUMMARY:Public Safety Committee Meeting
DESCRIPTION:Advance RSVP is required. Please contact the POC Office.
URL:https://masthope.org/event/public-safety-committee-meeting-6/
LOCATION:POC Conference Room\, 196 Karl Hope Boulevard\, Lackawaxen\, PA\, 18435\, United States
CATEGORIES:Meetings
ATTACH;FMTTYPE=image/jpeg:https://masthope.org/wp-content/uploads/sites/1856/2022/03/Picture18.jpg
END:VEVENT
BEGIN:VEVENT
DTSTART;TZID=America/New_York:20260220T150000
DTEND;TZID=America/New_York:20260220T160000
DTSTAMP:20260420T011737
CREATED:20260223T150421Z
LAST-MODIFIED:20260223T150421Z
UID:10008874-1771599600-1771603200@masthope.org
SUMMARY:Public Safety Committee Meeting
DESCRIPTION:Advance RSVP is required. Please contact the POC Office.
URL:https://masthope.org/event/public-safety-committee-meeting-7/
LOCATION:POC Conference Room\, 196 Karl Hope Boulevard\, Lackawaxen\, PA\, 18435\, United States
CATEGORIES:Meetings
ATTACH;FMTTYPE=image/jpeg:https://masthope.org/wp-content/uploads/sites/1856/2022/03/Picture18.jpg
END:VEVENT
END:VCALENDAR