BEGIN:VCALENDAR
VERSION:2.0
PRODID:-//Masthope Mountain Community - ECPv6.15.20//NONSGML v1.0//EN
CALSCALE:GREGORIAN
METHOD:PUBLISH
X-WR-CALNAME:Masthope Mountain Community
X-ORIGINAL-URL:https://masthope.org
X-WR-CALDESC:Events for Masthope Mountain Community
REFRESH-INTERVAL;VALUE=DURATION:PT1H
X-Robots-Tag:noindex
X-PUBLISHED-TTL:PT1H
BEGIN:VTIMEZONE
TZID:America/New_York
BEGIN:DAYLIGHT
TZOFFSETFROM:-0500
TZOFFSETTO:-0400
TZNAME:EDT
DTSTART:20210314T070000
END:DAYLIGHT
BEGIN:STANDARD
TZOFFSETFROM:-0400
TZOFFSETTO:-0500
TZNAME:EST
DTSTART:20211107T060000
END:STANDARD
BEGIN:DAYLIGHT
TZOFFSETFROM:-0500
TZOFFSETTO:-0400
TZNAME:EDT
DTSTART:20220313T070000
END:DAYLIGHT
BEGIN:STANDARD
TZOFFSETFROM:-0400
TZOFFSETTO:-0500
TZNAME:EST
DTSTART:20221106T060000
END:STANDARD
BEGIN:DAYLIGHT
TZOFFSETFROM:-0500
TZOFFSETTO:-0400
TZNAME:EDT
DTSTART:20230312T070000
END:DAYLIGHT
BEGIN:STANDARD
TZOFFSETFROM:-0400
TZOFFSETTO:-0500
TZNAME:EST
DTSTART:20231105T060000
END:STANDARD
END:VTIMEZONE
BEGIN:VEVENT
DTSTART;TZID=America/New_York:20221001T190000
DTEND;TZID=America/New_York:20221001T213000
DTSTAMP:20260422T172953
CREATED:20220911T181629Z
LAST-MODIFIED:20220911T181629Z
UID:10000478-1664650800-1664659800@masthope.org
SUMMARY:Bingo
DESCRIPTION:Join us for our traditional Bingo nights! Bingo cards go on sale at 7:00pm.
URL:https://masthope.org/event/bingo-9/
LOCATION:The Lodge at Masthope\, 196 Karl Hope Blvd\, Lackawaxen\, PA\, 18435\, United States
CATEGORIES:Activities & Traditions,Social
ATTACH;FMTTYPE=image/jpeg:https://masthope.org/wp-content/uploads/sites/1856/2022/04/120-1202522_bingo-free.jpg
END:VEVENT
BEGIN:VEVENT
DTSTART;TZID=America/New_York:20221008T150000
DTEND;TZID=America/New_York:20221008T190000
DTSTAMP:20260422T172953
CREATED:20220906T014027Z
LAST-MODIFIED:20220922T201404Z
UID:10000427-1665241200-1665255600@masthope.org
SUMMARY:Designer Pocketbook Bingo
DESCRIPTION:Benefitting C Alley Cats of Lake Wallenpaupack \nJoin us for our annual “Purse Bingo” featuring bags from Coach\, Michael Kors\, Kate Spade and more! Doors open at 3pm. Games start at 4pm. Tickets are $20 in advance and $25 at the door. For tickets and more info\, text June Carrozza at 718-909-4572 or Susan Costomiris at 917-743-5019.
URL:https://masthope.org/event/purse-bingo/
LOCATION:The Lodge at Masthope\, 196 Karl Hope Blvd\, Lackawaxen\, PA\, 18435\, United States
CATEGORIES:Activities & Traditions,Local,Social
ATTACH;FMTTYPE=image/jpeg:https://masthope.org/wp-content/uploads/sites/1856/2022/09/Picture2-scaled.jpg
END:VEVENT
BEGIN:VEVENT
DTSTART;TZID=America/New_York:20221011T180000
DTEND;TZID=America/New_York:20221011T200000
DTSTAMP:20260422T172953
CREATED:20220911T172725Z
LAST-MODIFIED:20220911T172725Z
UID:10000405-1665511200-1665518400@masthope.org
SUMMARY:Pot Luck Dinner
DESCRIPTION:Bring a dish to share with your neighbors.
URL:https://masthope.org/event/pot-luck-dinner-6/
LOCATION:Beach House\, 349 Falling Waters Blvd\, Lackawaxen\, PA\, 18435
CATEGORIES:Social
ATTACH;FMTTYPE=image/jpeg:https://masthope.org/wp-content/uploads/sites/1856/2022/04/Presentation2.jpg
END:VEVENT
BEGIN:VEVENT
DTSTART;TZID=America/New_York:20221016T120000
DTEND;TZID=America/New_York:20221016T140000
DTSTAMP:20260422T172953
CREATED:20220906T015342Z
LAST-MODIFIED:20220926T125201Z
UID:10000430-1665921600-1665928800@masthope.org
SUMMARY:ATV/UTV Halloween Parade
DESCRIPTION:Decorate your ATV/UTV for our annual Halloween Parade! – Meet at the beach parking lot at 11:30am. Parade will travel up towards the top of the mountain. Prizes will be awarded for scariest and most creative group!
URL:https://masthope.org/event/atv-utv-halloween-parade/
LOCATION:Beach House\, 349 Falling Waters Blvd\, Lackawaxen\, PA\, 18435
CATEGORIES:Activities & Traditions,Social
ATTACH;FMTTYPE=image/jpeg:https://masthope.org/wp-content/uploads/sites/1856/2022/09/Presentation1-1.jpg
END:VEVENT
BEGIN:VEVENT
DTSTART;VALUE=DATE:20221021
DTEND;VALUE=DATE:20221022
DTSTAMP:20260422T172953
CREATED:20220906T020050Z
LAST-MODIFIED:20221003T170753Z
UID:10000432-1666310400-1666396799@masthope.org
SUMMARY:Haunted Trail Walk
DESCRIPTION:It’s Spooky Season! Do you have what it takes to join us on our Haunted Walk? – $5 donation per person.
URL:https://masthope.org/event/haunted-trail-walk/
LOCATION:The Lodge at Masthope\, 196 Karl Hope Blvd\, Lackawaxen\, PA\, 18435\, United States
CATEGORIES:Activities & Traditions,Social
ATTACH;FMTTYPE=image/jpeg:https://masthope.org/wp-content/uploads/sites/1856/2022/09/Picture4-scaled.jpg
END:VEVENT
BEGIN:VEVENT
DTSTART;VALUE=DATE:20221022
DTEND;VALUE=DATE:20221023
DTSTAMP:20260422T172953
CREATED:20220906T020132Z
LAST-MODIFIED:20221003T170719Z
UID:10000433-1666396800-1666483199@masthope.org
SUMMARY:Haunted Trail Walk
DESCRIPTION:It’s Spooky Season! Do you have what it takes to join us on our Haunted Walk? – $5 donation per person.
URL:https://masthope.org/event/haunted-trail-walk-2/
LOCATION:The Lodge at Masthope\, 196 Karl Hope Blvd\, Lackawaxen\, PA\, 18435\, United States
CATEGORIES:Activities & Traditions,Social
ATTACH;FMTTYPE=image/jpeg:https://masthope.org/wp-content/uploads/sites/1856/2022/09/Picture4-scaled.jpg
END:VEVENT
BEGIN:VEVENT
DTSTART;TZID=America/New_York:20221022T130000
DTEND;TZID=America/New_York:20221022T150000
DTSTAMP:20260422T172953
CREATED:20220906T020826Z
LAST-MODIFIED:20220926T125451Z
UID:10000435-1666443600-1666450800@masthope.org
SUMMARY:Trunk or Treat
DESCRIPTION:Join us for our annual Trunk or Treat on the mountain. Decorate your vehicle and be sure to bring plenty of candy for our trick or treaters! – Trunk set up at 12pm – Treating begins at 1pm until candy runs out.
URL:https://masthope.org/event/trunk-or-treat/
LOCATION:Mountain Top\, 196 Karl Hope Blvd\, Lackawaxen\, PA\, 18435\, United States
CATEGORIES:Activities & Traditions,Social
ATTACH;FMTTYPE=image/jpeg:https://masthope.org/wp-content/uploads/sites/1856/2022/09/Picture6.jpg
END:VEVENT
BEGIN:VEVENT
DTSTART;TZID=America/New_York:20221022T180000
DTEND;TZID=America/New_York:20221022T235900
DTSTAMP:20260422T172953
CREATED:20220906T021156Z
LAST-MODIFIED:20221003T170636Z
UID:10000436-1666461600-1666483140@masthope.org
SUMMARY:Halloween and Costume Parties
DESCRIPTION:Children’s Halloween Ball: 6pm-9pm / Adult Halloween Ball: 9pm-12am \nFeaturing music from DJ flow\, Halloween treats\, a costume contest\, and more!
URL:https://masthope.org/event/halloween-ball-and-costume-party/
LOCATION:The Lodge at Masthope\, 196 Karl Hope Blvd\, Lackawaxen\, PA\, 18435\, United States
CATEGORIES:Activities & Traditions,Social,Summit Restaurant
ATTACH;FMTTYPE=image/jpeg:https://masthope.org/wp-content/uploads/sites/1856/2022/09/Presentation1-3.jpg
END:VEVENT
END:VCALENDAR