BEGIN:VCALENDAR
VERSION:2.0
PRODID:-//Masthope Mountain Community - ECPv6.15.20//NONSGML v1.0//EN
CALSCALE:GREGORIAN
METHOD:PUBLISH
X-WR-CALNAME:Masthope Mountain Community
X-ORIGINAL-URL:https://masthope.org
X-WR-CALDESC:Events for Masthope Mountain Community
REFRESH-INTERVAL;VALUE=DURATION:PT1H
X-Robots-Tag:noindex
X-PUBLISHED-TTL:PT1H
BEGIN:VTIMEZONE
TZID:America/New_York
BEGIN:DAYLIGHT
TZOFFSETFROM:-0500
TZOFFSETTO:-0400
TZNAME:EDT
DTSTART:20250309T070000
END:DAYLIGHT
BEGIN:STANDARD
TZOFFSETFROM:-0400
TZOFFSETTO:-0500
TZNAME:EST
DTSTART:20251102T060000
END:STANDARD
BEGIN:DAYLIGHT
TZOFFSETFROM:-0500
TZOFFSETTO:-0400
TZNAME:EDT
DTSTART:20260308T070000
END:DAYLIGHT
BEGIN:STANDARD
TZOFFSETFROM:-0400
TZOFFSETTO:-0500
TZNAME:EST
DTSTART:20261101T060000
END:STANDARD
BEGIN:DAYLIGHT
TZOFFSETFROM:-0500
TZOFFSETTO:-0400
TZNAME:EDT
DTSTART:20270314T070000
END:DAYLIGHT
BEGIN:STANDARD
TZOFFSETFROM:-0400
TZOFFSETTO:-0500
TZNAME:EST
DTSTART:20271107T060000
END:STANDARD
END:VTIMEZONE
BEGIN:VEVENT
DTSTART;TZID=America/New_York:20260420T183000
DTEND;TZID=America/New_York:20260420T200000
DTSTAMP:20260419T230919
CREATED:20250915T171257Z
LAST-MODIFIED:20260323T172025Z
UID:10009027-1776709800-1776715200@masthope.org
SUMMARY:Monday Trivia Night!
DESCRIPTION:Join us at the Summit Restaurant on Mondays at 6:30pm for Trivia Night! Form a team and put your knowledge to the test. Prizes awarded to winners.
URL:https://masthope.org/event/monday-trivia-night-5/2026-04-20/
LOCATION:The Summit Restaurant\, 196 Karl Hope Blvd\, Lackawaxen\, PA\, 18435
CATEGORIES:Activities & Traditions,Social,Summit Restaurant
ATTACH;FMTTYPE=image/jpeg:https://masthope.org/wp-content/uploads/sites/1856/2024/03/trivia.jpg
END:VEVENT
BEGIN:VEVENT
DTSTART;TZID=America/New_York:20260424T180000
DTEND;TZID=America/New_York:20260424T200000
DTSTAMP:20260419T230919
CREATED:20260309T183355Z
LAST-MODIFIED:20260415T182046Z
UID:10009024-1777053600-1777060800@masthope.org
SUMMARY:Country Line Dancing with Dawn
DESCRIPTION:Kick up your boots and join us for a fun evening of Country Line Dancing with Dawn! Whether you’re a seasoned dancer or stepping onto the floor for the first time\, Dawn will guide the group through easy-to-follow routines set to great country music. This new event is a great way to learn a few moves\, meet new people\, and enjoy a lively atmosphere in the Lodge. No partner or experience needed — just bring your energy and get ready to dance. \nFree to attend. All are welcome.
URL:https://masthope.org/event/country-line-dancing-with-dawn/2026-04-24/
LOCATION:The Lodge at Masthope\, 196 Karl Hope Blvd\, Lackawaxen\, PA\, 18435\, United States
CATEGORIES:Activities & Traditions,Social,Summit Restaurant
ATTACH;FMTTYPE=image/jpeg:https://masthope.org/wp-content/uploads/sites/1856/2026/03/Featured-Image-COWGIRL-35new.jpg
END:VEVENT
BEGIN:VEVENT
DTSTART;TZID=America/New_York:20260425T090000
DTEND;TZID=America/New_York:20260425T130000
DTSTAMP:20260419T230919
CREATED:20260330T002721Z
LAST-MODIFIED:20260330T002721Z
UID:10009074-1777107600-1777122000@masthope.org
SUMMARY:Annual Community Green-Up Day
DESCRIPTION:Spring has SPRUNG and it’s time for our annual Community Green Up Day! Please join us in helping to keep Masthope roadways free of debris. Volunteers will spread out across the community. Bags will be provided as well as a limited number of vests and gloves. It is important to wear comfortable clothes and sensible shoes. Sign up with Robin in advance at robinhoose@yahoo.com. Refreshments will be provided.
URL:https://masthope.org/event/annual-community-green-up-day-4/
LOCATION:Mailboxes / Four Corners Entrance
CATEGORIES:Activities & Traditions,Local,Social
ATTACH;FMTTYPE=image/png:https://masthope.org/wp-content/uploads/sites/1856/2023/03/Picture1.png
END:VEVENT
BEGIN:VEVENT
DTSTART;TZID=America/New_York:20260427T183000
DTEND;TZID=America/New_York:20260427T200000
DTSTAMP:20260419T230919
CREATED:20250915T171257Z
LAST-MODIFIED:20260323T172025Z
UID:10009028-1777314600-1777320000@masthope.org
SUMMARY:Monday Trivia Night!
DESCRIPTION:Join us at the Summit Restaurant on Mondays at 6:30pm for Trivia Night! Form a team and put your knowledge to the test. Prizes awarded to winners.
URL:https://masthope.org/event/monday-trivia-night-5/2026-04-27/
LOCATION:The Summit Restaurant\, 196 Karl Hope Blvd\, Lackawaxen\, PA\, 18435
CATEGORIES:Activities & Traditions,Social,Summit Restaurant
ATTACH;FMTTYPE=image/jpeg:https://masthope.org/wp-content/uploads/sites/1856/2024/03/trivia.jpg
END:VEVENT
END:VCALENDAR