BEGIN:VCALENDAR
VERSION:2.0
PRODID:-//Masthope Mountain Community - ECPv6.15.20//NONSGML v1.0//EN
CALSCALE:GREGORIAN
METHOD:PUBLISH
X-ORIGINAL-URL:https://masthope.org
X-WR-CALDESC:Events for Masthope Mountain Community
REFRESH-INTERVAL;VALUE=DURATION:PT1H
X-Robots-Tag:noindex
X-PUBLISHED-TTL:PT1H
BEGIN:VTIMEZONE
TZID:America/New_York
BEGIN:DAYLIGHT
TZOFFSETFROM:-0500
TZOFFSETTO:-0400
TZNAME:EDT
DTSTART:20230312T070000
END:DAYLIGHT
BEGIN:STANDARD
TZOFFSETFROM:-0400
TZOFFSETTO:-0500
TZNAME:EST
DTSTART:20231105T060000
END:STANDARD
BEGIN:DAYLIGHT
TZOFFSETFROM:-0500
TZOFFSETTO:-0400
TZNAME:EDT
DTSTART:20240310T070000
END:DAYLIGHT
BEGIN:STANDARD
TZOFFSETFROM:-0400
TZOFFSETTO:-0500
TZNAME:EST
DTSTART:20241103T060000
END:STANDARD
BEGIN:DAYLIGHT
TZOFFSETFROM:-0500
TZOFFSETTO:-0400
TZNAME:EDT
DTSTART:20250309T070000
END:DAYLIGHT
BEGIN:STANDARD
TZOFFSETFROM:-0400
TZOFFSETTO:-0500
TZNAME:EST
DTSTART:20251102T060000
END:STANDARD
END:VTIMEZONE
BEGIN:VEVENT
DTSTART;TZID=America/New_York:20240706T120000
DTEND;TZID=America/New_York:20240706T160000
DTSTAMP:20260420T123853
CREATED:20240416T194653Z
LAST-MODIFIED:20240416T194653Z
UID:10001975-1720267200-1720281600@masthope.org
SUMMARY:DJ Brad Keller
DESCRIPTION:Enjoy music from DJ Brad Keller on the Tiki Bar Patio. If rain\, inside The Summit Restaurant. (Live music performances are subject to change.)
URL:https://masthope.org/event/dj-brad-keller-6/
LOCATION:The Tiki Bar at Masthope\, 196 Karl Hope Boulevard\, Lackawaxen\, PA\, 18435
CATEGORIES:Live Music,Summit Restaurant
ATTACH;FMTTYPE=image/jpeg:https://masthope.org/wp-content/uploads/sites/1856/2022/05/Picture1.jpg
END:VEVENT
BEGIN:VEVENT
DTSTART;TZID=America/New_York:20240713T180000
DTEND;TZID=America/New_York:20240713T220000
DTSTAMP:20260420T123853
CREATED:20240418T162027Z
LAST-MODIFIED:20240418T162027Z
UID:10002020-1720893600-1720908000@masthope.org
SUMMARY:Live Music - Cold Sweat
DESCRIPTION:Enjoy live music on the Tiki Bar Patio. If rain\, inside The Summit Restaurant. (Live music performances are subject to change.)
URL:https://masthope.org/event/live-music-cold-sweat-11/
LOCATION:The Tiki Bar at Masthope\, 196 Karl Hope Boulevard\, Lackawaxen\, PA\, 18435
CATEGORIES:Live Music,Summit Restaurant
ATTACH;FMTTYPE=image/png:https://masthope.org/wp-content/uploads/sites/1856/2022/05/Picture2.png
END:VEVENT
BEGIN:VEVENT
DTSTART;TZID=America/New_York:20240714T140000
DTEND;TZID=America/New_York:20240714T180000
DTSTAMP:20260420T123853
CREATED:20240418T162106Z
LAST-MODIFIED:20240418T162106Z
UID:10002021-1720965600-1720980000@masthope.org
SUMMARY:Live Music - MDK Trio
DESCRIPTION:Enjoy live music on the Tiki Bar Patio. If rain\, inside The Summit Restaurant. (Live music performances are subject to change.)
URL:https://masthope.org/event/live-music-mdk-trio-7/
LOCATION:The Tiki Bar at Masthope\, 196 Karl Hope Boulevard\, Lackawaxen\, PA\, 18435
CATEGORIES:Live Music,Summit Restaurant
ATTACH;FMTTYPE=image/png:https://masthope.org/wp-content/uploads/sites/1856/2022/05/Picture2.png
END:VEVENT
BEGIN:VEVENT
DTSTART;TZID=America/New_York:20240720T180000
DTEND;TZID=America/New_York:20240720T220000
DTSTAMP:20260420T123853
CREATED:20240418T162219Z
LAST-MODIFIED:20240418T162219Z
UID:10002022-1721498400-1721512800@masthope.org
SUMMARY:Live Music - Blue London
DESCRIPTION:Enjoy live music on the Tiki Bar Patio. If rain\, inside The Summit Restaurant. (Live music performances are subject to change.)
URL:https://masthope.org/event/live-music-blue-london-12/
LOCATION:The Tiki Bar at Masthope\, 196 Karl Hope Boulevard\, Lackawaxen\, PA\, 18435
CATEGORIES:Live Music,Summit Restaurant
ATTACH;FMTTYPE=image/png:https://masthope.org/wp-content/uploads/sites/1856/2022/05/Picture2.png
END:VEVENT
BEGIN:VEVENT
DTSTART;TZID=America/New_York:20240721T140000
DTEND;TZID=America/New_York:20240721T180000
DTSTAMP:20260420T123853
CREATED:20240418T162350Z
LAST-MODIFIED:20240418T162350Z
UID:10002023-1721570400-1721584800@masthope.org
SUMMARY:Live Music - Emily Nacchio
DESCRIPTION:Enjoy live music on the Tiki Bar Patio. If rain\, inside The Summit Restaurant. (Live music performances are subject to change.)
URL:https://masthope.org/event/live-music-emily-nacchio-4/
LOCATION:The Tiki Bar at Masthope\, 196 Karl Hope Boulevard\, Lackawaxen\, PA\, 18435
CATEGORIES:Live Music,Summit Restaurant
ATTACH;FMTTYPE=image/png:https://masthope.org/wp-content/uploads/sites/1856/2022/05/Picture2.png
END:VEVENT
BEGIN:VEVENT
DTSTART;TZID=America/New_York:20240727T180000
DTEND;TZID=America/New_York:20240727T220000
DTSTAMP:20260420T123853
CREATED:20240418T162642Z
LAST-MODIFIED:20240418T162642Z
UID:10002024-1722103200-1722117600@masthope.org
SUMMARY:Live Music - The Fringe
DESCRIPTION:Enjoy live music on the Tiki Bar Patio. If rain\, inside The Summit Restaurant. (Live music performances are subject to change.)
URL:https://masthope.org/event/live-music-the-fringe-4/
LOCATION:The Tiki Bar at Masthope\, 196 Karl Hope Boulevard\, Lackawaxen\, PA\, 18435
CATEGORIES:Live Music,Summit Restaurant
ATTACH;FMTTYPE=image/png:https://masthope.org/wp-content/uploads/sites/1856/2022/05/Picture2.png
END:VEVENT
BEGIN:VEVENT
DTSTART;TZID=America/New_York:20240728T140000
DTEND;TZID=America/New_York:20240728T180000
DTSTAMP:20260420T123853
CREATED:20240418T162732Z
LAST-MODIFIED:20240418T162732Z
UID:10002025-1722175200-1722189600@masthope.org
SUMMARY:Live Music - Dan Engvaldsen
DESCRIPTION:Enjoy live music on the Tiki Bar Patio. If rain\, inside The Summit Restaurant. (Live music performances are subject to change.)
URL:https://masthope.org/event/live-music-dan-engvaldsen-17/
LOCATION:The Tiki Bar at Masthope\, 196 Karl Hope Boulevard\, Lackawaxen\, PA\, 18435
CATEGORIES:Live Music,Summit Restaurant
ATTACH;FMTTYPE=image/png:https://masthope.org/wp-content/uploads/sites/1856/2022/05/Picture2.png
END:VEVENT
END:VCALENDAR