BEGIN:VCALENDAR
VERSION:2.0
PRODID:-//Masthope Mountain Community - ECPv6.15.20//NONSGML v1.0//EN
CALSCALE:GREGORIAN
METHOD:PUBLISH
X-ORIGINAL-URL:https://masthope.org
X-WR-CALDESC:Events for Masthope Mountain Community
REFRESH-INTERVAL;VALUE=DURATION:PT1H
X-Robots-Tag:noindex
X-PUBLISHED-TTL:PT1H
BEGIN:VTIMEZONE
TZID:America/New_York
BEGIN:DAYLIGHT
TZOFFSETFROM:-0500
TZOFFSETTO:-0400
TZNAME:EDT
DTSTART:20230312T070000
END:DAYLIGHT
BEGIN:STANDARD
TZOFFSETFROM:-0400
TZOFFSETTO:-0500
TZNAME:EST
DTSTART:20231105T060000
END:STANDARD
BEGIN:DAYLIGHT
TZOFFSETFROM:-0500
TZOFFSETTO:-0400
TZNAME:EDT
DTSTART:20240310T070000
END:DAYLIGHT
BEGIN:STANDARD
TZOFFSETFROM:-0400
TZOFFSETTO:-0500
TZNAME:EST
DTSTART:20241103T060000
END:STANDARD
BEGIN:DAYLIGHT
TZOFFSETFROM:-0500
TZOFFSETTO:-0400
TZNAME:EDT
DTSTART:20250309T070000
END:DAYLIGHT
BEGIN:STANDARD
TZOFFSETFROM:-0400
TZOFFSETTO:-0500
TZNAME:EST
DTSTART:20251102T060000
END:STANDARD
END:VTIMEZONE
BEGIN:VEVENT
DTSTART;TZID=America/New_York:20240901T140000
DTEND;TZID=America/New_York:20240901T180000
DTSTAMP:20260421T222848
CREATED:20240418T163835Z
LAST-MODIFIED:20240418T163835Z
UID:10002034-1725199200-1725213600@masthope.org
SUMMARY:Live Music - Brian Neis
DESCRIPTION:Enjoy live music on the Tiki Bar Patio. If rain\, inside The Summit Restaurant. (Live music performances are subject to change.)
URL:https://masthope.org/event/live-music-brian-neis-8/
LOCATION:The Tiki Bar at Masthope\, 196 Karl Hope Boulevard\, Lackawaxen\, PA\, 18435
CATEGORIES:Live Music,Summit Restaurant
ATTACH;FMTTYPE=image/png:https://masthope.org/wp-content/uploads/sites/1856/2022/05/Picture2.png
END:VEVENT
BEGIN:VEVENT
DTSTART;TZID=America/New_York:20240907T180000
DTEND;TZID=America/New_York:20240907T220000
DTSTAMP:20260421T222848
CREATED:20240418T164541Z
LAST-MODIFIED:20240418T164541Z
UID:10002037-1725732000-1725746400@masthope.org
SUMMARY:Live Music - Sage Clearing
DESCRIPTION:Enjoy live music on the Tiki Bar Patio. If rain\, inside The Summit Restaurant. (Live music performances are subject to change.)
URL:https://masthope.org/event/live-music-sage-clearing-13/
LOCATION:The Tiki Bar at Masthope\, 196 Karl Hope Boulevard\, Lackawaxen\, PA\, 18435
CATEGORIES:Live Music,Summit Restaurant
ATTACH;FMTTYPE=image/png:https://masthope.org/wp-content/uploads/sites/1856/2022/05/Picture2.png
END:VEVENT
BEGIN:VEVENT
DTSTART;TZID=America/New_York:20240908T140000
DTEND;TZID=America/New_York:20240908T180000
DTSTAMP:20260421T222848
CREATED:20240418T164115Z
LAST-MODIFIED:20240418T164419Z
UID:10002036-1725804000-1725818400@masthope.org
SUMMARY:Live Music - Smokin' Buddie Steve
DESCRIPTION:Enjoy live music on the Tiki Bar Patio. If rain\, inside The Summit Restaurant. (Live music performances are subject to change.)
URL:https://masthope.org/event/live-music-smokin-buddie-steve-13/
LOCATION:The Tiki Bar at Masthope\, 196 Karl Hope Boulevard\, Lackawaxen\, PA\, 18435
CATEGORIES:Live Music,Summit Restaurant
ATTACH;FMTTYPE=image/png:https://masthope.org/wp-content/uploads/sites/1856/2022/05/Picture2.png
END:VEVENT
BEGIN:VEVENT
DTSTART;TZID=America/New_York:20240909T160000
DTEND;TZID=America/New_York:20240909T200000
DTSTAMP:20260421T222848
CREATED:20240908T001942Z
LAST-MODIFIED:20240908T001942Z
UID:10002865-1725897600-1725912000@masthope.org
SUMMARY:Mamma Mia Mondays
DESCRIPTION:“Mamma Mia Mondays” Promo! For dine in or take out: 1 large cheese pizza and 1 order of boneless wings for $25 OR 1 large cheese pizza for $16. Not available on holiday periods. On Mondays during the summer when The Summit is closed\, this promotion will be available to order outside at the Tiki Bar at Masthope.
URL:https://masthope.org/event/mamma-mia-mondays-2/2024-09-09/
LOCATION:PA
CATEGORIES:Summit Restaurant
ATTACH;FMTTYPE=image/jpeg:https://masthope.org/wp-content/uploads/sites/1856/2023/05/Presentation1.jpg
END:VEVENT
BEGIN:VEVENT
DTSTART;TZID=America/New_York:20240909T160000
DTEND;TZID=America/New_York:20240909T220000
DTSTAMP:20260421T222848
CREATED:20240907T235619Z
LAST-MODIFIED:20241110T160316Z
UID:10002833-1725897600-1725919200@masthope.org
SUMMARY:Monday Night Football
DESCRIPTION:Join us on Mondays at The Summit Restaurant for Monday Night Football! Dinner menu served from 4pm-8pm / football snack menu served from 8pm through halftime. Weekly prizes\, trivia\, bar games\, and more!
URL:https://masthope.org/event/monday-night-football-2/2024-09-09/
LOCATION:The Summit Restaurant\, 196 Karl Hope Blvd\, Lackawaxen\, PA\, 18435
CATEGORIES:Social,Summit Restaurant
ATTACH;FMTTYPE=image/jpeg:https://masthope.org/wp-content/uploads/sites/1856/2023/09/Presentation1.jpg
END:VEVENT
BEGIN:VEVENT
DTSTART;TZID=America/New_York:20240914T180000
DTEND;TZID=America/New_York:20240914T220000
DTSTAMP:20260421T222848
CREATED:20240418T164708Z
LAST-MODIFIED:20240418T164708Z
UID:10002038-1726336800-1726351200@masthope.org
SUMMARY:Live Music - Cold Sweat
DESCRIPTION:Enjoy live music on the Tiki Bar Patio. If rain\, inside The Summit Restaurant. (Live music performances are subject to change.)
URL:https://masthope.org/event/live-music-cold-sweat-13/
LOCATION:The Tiki Bar at Masthope\, 196 Karl Hope Boulevard\, Lackawaxen\, PA\, 18435
CATEGORIES:Live Music,Summit Restaurant
ATTACH;FMTTYPE=image/png:https://masthope.org/wp-content/uploads/sites/1856/2022/05/Picture2.png
END:VEVENT
BEGIN:VEVENT
DTSTART;TZID=America/New_York:20240915T140000
DTEND;TZID=America/New_York:20240915T180000
DTSTAMP:20260421T222848
CREATED:20240724T031616Z
LAST-MODIFIED:20240724T031616Z
UID:10002780-1726408800-1726423200@masthope.org
SUMMARY:Live Music - Andre Turan
DESCRIPTION:Enjoy live music on the Tiki Bar Patio. If rain\, inside The Summit Restaurant. (Live music performances are subject to change.)
URL:https://masthope.org/event/live-music-andre-turan-5/
LOCATION:The Tiki Bar at Masthope\, 196 Karl Hope Boulevard\, Lackawaxen\, PA\, 18435
CATEGORIES:Live Music,Summit Restaurant
ATTACH;FMTTYPE=image/png:https://masthope.org/wp-content/uploads/sites/1856/2022/05/Picture2.png
END:VEVENT
BEGIN:VEVENT
DTSTART;TZID=America/New_York:20240916T160000
DTEND;TZID=America/New_York:20240916T200000
DTSTAMP:20260421T222848
CREATED:20240908T001942Z
LAST-MODIFIED:20240908T001942Z
UID:10002866-1726502400-1726516800@masthope.org
SUMMARY:Mamma Mia Mondays
DESCRIPTION:“Mamma Mia Mondays” Promo! For dine in or take out: 1 large cheese pizza and 1 order of boneless wings for $25 OR 1 large cheese pizza for $16. Not available on holiday periods. On Mondays during the summer when The Summit is closed\, this promotion will be available to order outside at the Tiki Bar at Masthope.
URL:https://masthope.org/event/mamma-mia-mondays-2/2024-09-16/
LOCATION:PA
CATEGORIES:Summit Restaurant
ATTACH;FMTTYPE=image/jpeg:https://masthope.org/wp-content/uploads/sites/1856/2023/05/Presentation1.jpg
END:VEVENT
BEGIN:VEVENT
DTSTART;TZID=America/New_York:20240916T160000
DTEND;TZID=America/New_York:20240916T220000
DTSTAMP:20260421T222848
CREATED:20240907T235619Z
LAST-MODIFIED:20241110T160316Z
UID:10002834-1726502400-1726524000@masthope.org
SUMMARY:Monday Night Football
DESCRIPTION:Join us on Mondays at The Summit Restaurant for Monday Night Football! Dinner menu served from 4pm-8pm / football snack menu served from 8pm through halftime. Weekly prizes\, trivia\, bar games\, and more!
URL:https://masthope.org/event/monday-night-football-2/2024-09-16/
LOCATION:The Summit Restaurant\, 196 Karl Hope Blvd\, Lackawaxen\, PA\, 18435
CATEGORIES:Social,Summit Restaurant
ATTACH;FMTTYPE=image/jpeg:https://masthope.org/wp-content/uploads/sites/1856/2023/09/Presentation1.jpg
END:VEVENT
BEGIN:VEVENT
DTSTART;TZID=America/New_York:20240922T140000
DTEND;TZID=America/New_York:20240922T180000
DTSTAMP:20260421T222848
CREATED:20240418T164748Z
LAST-MODIFIED:20240418T164748Z
UID:10002039-1727013600-1727028000@masthope.org
SUMMARY:Live Music - Dan Engvaldsen
DESCRIPTION:Enjoy live music on the Tiki Bar Patio. If rain\, inside The Summit Restaurant. (Live music performances are subject to change.)
URL:https://masthope.org/event/live-music-dan-engvaldsen-19/
LOCATION:The Tiki Bar at Masthope\, 196 Karl Hope Boulevard\, Lackawaxen\, PA\, 18435
CATEGORIES:Live Music,Summit Restaurant
ATTACH;FMTTYPE=image/png:https://masthope.org/wp-content/uploads/sites/1856/2022/05/Picture2.png
END:VEVENT
BEGIN:VEVENT
DTSTART;TZID=America/New_York:20240923T160000
DTEND;TZID=America/New_York:20240923T200000
DTSTAMP:20260421T222848
CREATED:20240908T001942Z
LAST-MODIFIED:20240908T001942Z
UID:10002867-1727107200-1727121600@masthope.org
SUMMARY:Mamma Mia Mondays
DESCRIPTION:“Mamma Mia Mondays” Promo! For dine in or take out: 1 large cheese pizza and 1 order of boneless wings for $25 OR 1 large cheese pizza for $16. Not available on holiday periods. On Mondays during the summer when The Summit is closed\, this promotion will be available to order outside at the Tiki Bar at Masthope.
URL:https://masthope.org/event/mamma-mia-mondays-2/2024-09-23/
LOCATION:PA
CATEGORIES:Summit Restaurant
ATTACH;FMTTYPE=image/jpeg:https://masthope.org/wp-content/uploads/sites/1856/2023/05/Presentation1.jpg
END:VEVENT
BEGIN:VEVENT
DTSTART;TZID=America/New_York:20240923T160000
DTEND;TZID=America/New_York:20240923T220000
DTSTAMP:20260421T222848
CREATED:20240907T235619Z
LAST-MODIFIED:20241110T160316Z
UID:10002835-1727107200-1727128800@masthope.org
SUMMARY:Monday Night Football
DESCRIPTION:Join us on Mondays at The Summit Restaurant for Monday Night Football! Dinner menu served from 4pm-8pm / football snack menu served from 8pm through halftime. Weekly prizes\, trivia\, bar games\, and more!
URL:https://masthope.org/event/monday-night-football-2/2024-09-23/
LOCATION:The Summit Restaurant\, 196 Karl Hope Blvd\, Lackawaxen\, PA\, 18435
CATEGORIES:Social,Summit Restaurant
ATTACH;FMTTYPE=image/jpeg:https://masthope.org/wp-content/uploads/sites/1856/2023/09/Presentation1.jpg
END:VEVENT
BEGIN:VEVENT
DTSTART;TZID=America/New_York:20240930T160000
DTEND;TZID=America/New_York:20240930T200000
DTSTAMP:20260421T222848
CREATED:20240908T001942Z
LAST-MODIFIED:20240908T001942Z
UID:10002868-1727712000-1727726400@masthope.org
SUMMARY:Mamma Mia Mondays
DESCRIPTION:“Mamma Mia Mondays” Promo! For dine in or take out: 1 large cheese pizza and 1 order of boneless wings for $25 OR 1 large cheese pizza for $16. Not available on holiday periods. On Mondays during the summer when The Summit is closed\, this promotion will be available to order outside at the Tiki Bar at Masthope.
URL:https://masthope.org/event/mamma-mia-mondays-2/2024-09-30/
LOCATION:PA
CATEGORIES:Summit Restaurant
ATTACH;FMTTYPE=image/jpeg:https://masthope.org/wp-content/uploads/sites/1856/2023/05/Presentation1.jpg
END:VEVENT
BEGIN:VEVENT
DTSTART;TZID=America/New_York:20240930T160000
DTEND;TZID=America/New_York:20240930T220000
DTSTAMP:20260421T222848
CREATED:20240907T235619Z
LAST-MODIFIED:20241110T160316Z
UID:10002836-1727712000-1727733600@masthope.org
SUMMARY:Monday Night Football
DESCRIPTION:Join us on Mondays at The Summit Restaurant for Monday Night Football! Dinner menu served from 4pm-8pm / football snack menu served from 8pm through halftime. Weekly prizes\, trivia\, bar games\, and more!
URL:https://masthope.org/event/monday-night-football-2/2024-09-30/
LOCATION:The Summit Restaurant\, 196 Karl Hope Blvd\, Lackawaxen\, PA\, 18435
CATEGORIES:Social,Summit Restaurant
ATTACH;FMTTYPE=image/jpeg:https://masthope.org/wp-content/uploads/sites/1856/2023/09/Presentation1.jpg
END:VEVENT
END:VCALENDAR