BEGIN:VCALENDAR
VERSION:2.0
PRODID:-//Masthope Mountain Community - ECPv6.15.20//NONSGML v1.0//EN
CALSCALE:GREGORIAN
METHOD:PUBLISH
X-WR-CALNAME:Masthope Mountain Community
X-ORIGINAL-URL:https://masthope.org
X-WR-CALDESC:Events for Masthope Mountain Community
REFRESH-INTERVAL;VALUE=DURATION:PT1H
X-Robots-Tag:noindex
X-PUBLISHED-TTL:PT1H
BEGIN:VTIMEZONE
TZID:America/New_York
BEGIN:DAYLIGHT
TZOFFSETFROM:-0500
TZOFFSETTO:-0400
TZNAME:EDT
DTSTART:20240310T070000
END:DAYLIGHT
BEGIN:STANDARD
TZOFFSETFROM:-0400
TZOFFSETTO:-0500
TZNAME:EST
DTSTART:20241103T060000
END:STANDARD
BEGIN:DAYLIGHT
TZOFFSETFROM:-0500
TZOFFSETTO:-0400
TZNAME:EDT
DTSTART:20250309T070000
END:DAYLIGHT
BEGIN:STANDARD
TZOFFSETFROM:-0400
TZOFFSETTO:-0500
TZNAME:EST
DTSTART:20251102T060000
END:STANDARD
BEGIN:DAYLIGHT
TZOFFSETFROM:-0500
TZOFFSETTO:-0400
TZNAME:EDT
DTSTART:20260308T070000
END:DAYLIGHT
BEGIN:STANDARD
TZOFFSETFROM:-0400
TZOFFSETTO:-0500
TZNAME:EST
DTSTART:20261101T060000
END:STANDARD
END:VTIMEZONE
BEGIN:VEVENT
DTSTART;TZID=America/New_York:20251101T180000
DTEND;TZID=America/New_York:20251101T235900
DTSTAMP:20260420T160008
CREATED:20250910T132320Z
LAST-MODIFIED:20250915T171358Z
UID:10008250-1762020000-1762041540@masthope.org
SUMMARY:Halloween and Costume Parties
DESCRIPTION:Family Halloween Ball: 6pm-9pm / Adult Halloween Ball: 9pm-12am \nFeaturing music from DJ Flow\, Halloween treats\, a costume contest\, and more!
URL:https://masthope.org/event/halloween-and-costume-parties-3/
LOCATION:The Lodge at Masthope\, 196 Karl Hope Blvd\, Lackawaxen\, PA\, 18435\, United States
CATEGORIES:Activities & Traditions,Social,Summit Restaurant
ATTACH;FMTTYPE=image/jpeg:https://masthope.org/wp-content/uploads/sites/1856/2022/09/Presentation1-3.jpg
END:VEVENT
BEGIN:VEVENT
DTSTART;TZID=America/New_York:20251101T180000
DTEND;TZID=America/New_York:20251101T235900
DTSTAMP:20260420T160008
CREATED:20250915T172135Z
LAST-MODIFIED:20250915T172135Z
UID:10008285-1762020000-1762041540@masthope.org
SUMMARY:Live Music - DJ Flow
DESCRIPTION:Enjoy music by DJ Flow for our Halloween parties!
URL:https://masthope.org/event/live-music-dj-flow-3/
LOCATION:The Lodge at Masthope\, 196 Karl Hope Blvd\, Lackawaxen\, PA\, 18435\, United States
CATEGORIES:Live Music,Summit Restaurant
ATTACH;FMTTYPE=image/jpeg:https://masthope.org/wp-content/uploads/sites/1856/2022/05/Picture1.jpg
END:VEVENT
BEGIN:VEVENT
DTSTART;TZID=America/New_York:20251103T160000
DTEND;TZID=America/New_York:20251103T200000
DTSTAMP:20260420T160008
CREATED:20250910T131651Z
LAST-MODIFIED:20260415T192519Z
UID:10008226-1762185600-1762200000@masthope.org
SUMMARY:Mamma Mia Mondays
DESCRIPTION:“Mamma Mia Mondays” Promo! For dine in or take out: 1 large cheese pizza and 1 order of boneless wings for $27 OR 1 large cheese pizza for $18. Not available on holiday periods.
URL:https://masthope.org/event/mamma-mia-mondays-3/2025-11-03/
LOCATION:The Summit Restaurant\, 196 Karl Hope Blvd\, Lackawaxen\, PA\, 18435
CATEGORIES:Summit Restaurant
ATTACH;FMTTYPE=image/jpeg:https://masthope.org/wp-content/uploads/sites/1856/2023/05/Presentation1.jpg
END:VEVENT
BEGIN:VEVENT
DTSTART;TZID=America/New_York:20251103T183000
DTEND;TZID=America/New_York:20251103T200000
DTSTAMP:20260420T160008
CREATED:20250915T171257Z
LAST-MODIFIED:20260323T172025Z
UID:10008271-1762194600-1762200000@masthope.org
SUMMARY:Monday Trivia Night!
DESCRIPTION:Join us at the Summit Restaurant on Mondays at 6:30pm for Trivia Night! Form a team and put your knowledge to the test. Prizes awarded to winners.
URL:https://masthope.org/event/monday-trivia-night-5/2025-11-03/
LOCATION:The Summit Restaurant\, 196 Karl Hope Blvd\, Lackawaxen\, PA\, 18435
CATEGORIES:Activities & Traditions,Social,Summit Restaurant
ATTACH;FMTTYPE=image/jpeg:https://masthope.org/wp-content/uploads/sites/1856/2024/03/trivia.jpg
END:VEVENT
BEGIN:VEVENT
DTSTART;TZID=America/New_York:20251107T180000
DTEND;TZID=America/New_York:20251107T220000
DTSTAMP:20260420T160008
CREATED:20250915T172229Z
LAST-MODIFIED:20250915T172229Z
UID:10008286-1762538400-1762552800@masthope.org
SUMMARY:Live Music - MDK Trio
DESCRIPTION:Enjoy live music in The Summit Restaurant! (Live music performances are subject to change.)
URL:https://masthope.org/event/live-music-mdk-trio-17/
LOCATION:The Summit Restaurant\, 196 Karl Hope Blvd\, Lackawaxen\, PA\, 18435
CATEGORIES:Live Music,Summit Restaurant
ATTACH;FMTTYPE=image/png:https://masthope.org/wp-content/uploads/sites/1856/2022/05/Picture2.png
END:VEVENT
BEGIN:VEVENT
DTSTART;TZID=America/New_York:20251110T160000
DTEND;TZID=America/New_York:20251110T200000
DTSTAMP:20260420T160008
CREATED:20250910T131651Z
LAST-MODIFIED:20260415T192519Z
UID:10008227-1762790400-1762804800@masthope.org
SUMMARY:Mamma Mia Mondays
DESCRIPTION:“Mamma Mia Mondays” Promo! For dine in or take out: 1 large cheese pizza and 1 order of boneless wings for $27 OR 1 large cheese pizza for $18. Not available on holiday periods.
URL:https://masthope.org/event/mamma-mia-mondays-3/2025-11-10/
LOCATION:The Summit Restaurant\, 196 Karl Hope Blvd\, Lackawaxen\, PA\, 18435
CATEGORIES:Summit Restaurant
ATTACH;FMTTYPE=image/jpeg:https://masthope.org/wp-content/uploads/sites/1856/2023/05/Presentation1.jpg
END:VEVENT
BEGIN:VEVENT
DTSTART;TZID=America/New_York:20251110T183000
DTEND;TZID=America/New_York:20251110T200000
DTSTAMP:20260420T160008
CREATED:20250915T171257Z
LAST-MODIFIED:20260323T172025Z
UID:10008272-1762799400-1762804800@masthope.org
SUMMARY:Monday Trivia Night!
DESCRIPTION:Join us at the Summit Restaurant on Mondays at 6:30pm for Trivia Night! Form a team and put your knowledge to the test. Prizes awarded to winners.
URL:https://masthope.org/event/monday-trivia-night-5/2025-11-10/
LOCATION:The Summit Restaurant\, 196 Karl Hope Blvd\, Lackawaxen\, PA\, 18435
CATEGORIES:Activities & Traditions,Social,Summit Restaurant
ATTACH;FMTTYPE=image/jpeg:https://masthope.org/wp-content/uploads/sites/1856/2024/03/trivia.jpg
END:VEVENT
BEGIN:VEVENT
DTSTART;TZID=America/New_York:20251114T180000
DTEND;TZID=America/New_York:20251114T220000
DTSTAMP:20260420T160008
CREATED:20250915T172425Z
LAST-MODIFIED:20250915T172425Z
UID:10008287-1763143200-1763157600@masthope.org
SUMMARY:Live Music - 2 Chicks / 1 Guitar
DESCRIPTION:Enjoy live music in The Summit Restaurant! (Live music performances are subject to change.)
URL:https://masthope.org/event/live-music-2-chicks-1-guitar-16/
LOCATION:The Summit Restaurant\, 196 Karl Hope Blvd\, Lackawaxen\, PA\, 18435
CATEGORIES:Live Music,Summit Restaurant
ATTACH;FMTTYPE=image/png:https://masthope.org/wp-content/uploads/sites/1856/2022/05/Picture2.png
END:VEVENT
BEGIN:VEVENT
DTSTART;TZID=America/New_York:20251117T160000
DTEND;TZID=America/New_York:20251117T200000
DTSTAMP:20260420T160008
CREATED:20250910T131651Z
LAST-MODIFIED:20260415T192519Z
UID:10008228-1763395200-1763409600@masthope.org
SUMMARY:Mamma Mia Mondays
DESCRIPTION:“Mamma Mia Mondays” Promo! For dine in or take out: 1 large cheese pizza and 1 order of boneless wings for $27 OR 1 large cheese pizza for $18. Not available on holiday periods.
URL:https://masthope.org/event/mamma-mia-mondays-3/2025-11-17/
LOCATION:The Summit Restaurant\, 196 Karl Hope Blvd\, Lackawaxen\, PA\, 18435
CATEGORIES:Summit Restaurant
ATTACH;FMTTYPE=image/jpeg:https://masthope.org/wp-content/uploads/sites/1856/2023/05/Presentation1.jpg
END:VEVENT
BEGIN:VEVENT
DTSTART;TZID=America/New_York:20251117T183000
DTEND;TZID=America/New_York:20251117T200000
DTSTAMP:20260420T160008
CREATED:20250915T171257Z
LAST-MODIFIED:20260323T172025Z
UID:10008273-1763404200-1763409600@masthope.org
SUMMARY:Monday Trivia Night!
DESCRIPTION:Join us at the Summit Restaurant on Mondays at 6:30pm for Trivia Night! Form a team and put your knowledge to the test. Prizes awarded to winners.
URL:https://masthope.org/event/monday-trivia-night-5/2025-11-17/
LOCATION:The Summit Restaurant\, 196 Karl Hope Blvd\, Lackawaxen\, PA\, 18435
CATEGORIES:Activities & Traditions,Social,Summit Restaurant
ATTACH;FMTTYPE=image/jpeg:https://masthope.org/wp-content/uploads/sites/1856/2024/03/trivia.jpg
END:VEVENT
BEGIN:VEVENT
DTSTART;TZID=America/New_York:20251121T180000
DTEND;TZID=America/New_York:20251121T220000
DTSTAMP:20260420T160008
CREATED:20251103T200539Z
LAST-MODIFIED:20251103T200539Z
UID:10008527-1763748000-1763762400@masthope.org
SUMMARY:Live Music - Smokin Buddie Steve
DESCRIPTION:Enjoy live music in The Summit Restaurant! (Live music performances are subject to change.)
URL:https://masthope.org/event/live-music-smokin-buddie-steve-16/
LOCATION:The Summit Restaurant\, 196 Karl Hope Blvd\, Lackawaxen\, PA\, 18435
CATEGORIES:Live Music,Summit Restaurant
ATTACH;FMTTYPE=image/png:https://masthope.org/wp-content/uploads/sites/1856/2022/05/Picture2.png
END:VEVENT
BEGIN:VEVENT
DTSTART;TZID=America/New_York:20251122T190000
DTEND;TZID=America/New_York:20251122T230000
DTSTAMP:20260420T160008
CREATED:20251103T200608Z
LAST-MODIFIED:20251103T200608Z
UID:10008528-1763838000-1763852400@masthope.org
SUMMARY:Live Music - Cold Sweat
DESCRIPTION:Enjoy live music in The Summit Restaurant! (Live music performances are subject to change.)
URL:https://masthope.org/event/live-music-cold-sweat-23/
LOCATION:The Summit Restaurant\, 196 Karl Hope Blvd\, Lackawaxen\, PA\, 18435
CATEGORIES:Live Music,Summit Restaurant
ATTACH;FMTTYPE=image/png:https://masthope.org/wp-content/uploads/sites/1856/2022/05/Picture2.png
END:VEVENT
BEGIN:VEVENT
DTSTART;TZID=America/New_York:20251124T160000
DTEND;TZID=America/New_York:20251124T200000
DTSTAMP:20260420T160008
CREATED:20250910T131651Z
LAST-MODIFIED:20260415T192519Z
UID:10008229-1764000000-1764014400@masthope.org
SUMMARY:Mamma Mia Mondays
DESCRIPTION:“Mamma Mia Mondays” Promo! For dine in or take out: 1 large cheese pizza and 1 order of boneless wings for $27 OR 1 large cheese pizza for $18. Not available on holiday periods.
URL:https://masthope.org/event/mamma-mia-mondays-3/2025-11-24/
LOCATION:The Summit Restaurant\, 196 Karl Hope Blvd\, Lackawaxen\, PA\, 18435
CATEGORIES:Summit Restaurant
ATTACH;FMTTYPE=image/jpeg:https://masthope.org/wp-content/uploads/sites/1856/2023/05/Presentation1.jpg
END:VEVENT
BEGIN:VEVENT
DTSTART;TZID=America/New_York:20251124T183000
DTEND;TZID=America/New_York:20251124T200000
DTSTAMP:20260420T160008
CREATED:20250915T171257Z
LAST-MODIFIED:20260323T172025Z
UID:10008274-1764009000-1764014400@masthope.org
SUMMARY:Monday Trivia Night!
DESCRIPTION:Join us at the Summit Restaurant on Mondays at 6:30pm for Trivia Night! Form a team and put your knowledge to the test. Prizes awarded to winners.
URL:https://masthope.org/event/monday-trivia-night-5/2025-11-24/
LOCATION:The Summit Restaurant\, 196 Karl Hope Blvd\, Lackawaxen\, PA\, 18435
CATEGORIES:Activities & Traditions,Social,Summit Restaurant
ATTACH;FMTTYPE=image/jpeg:https://masthope.org/wp-content/uploads/sites/1856/2024/03/trivia.jpg
END:VEVENT
BEGIN:VEVENT
DTSTART;TZID=America/New_York:20251129T180000
DTEND;TZID=America/New_York:20251129T220000
DTSTAMP:20260420T160008
CREATED:20251110T160430Z
LAST-MODIFIED:20251110T160430Z
UID:10008535-1764439200-1764453600@masthope.org
SUMMARY:Live Music - Dan Reynolds Trio
DESCRIPTION:Enjoy live music in The Summit Restaurant! (Live music performances are subject to change.)
URL:https://masthope.org/event/live-music-dan-reynolds-trio/
LOCATION:The Summit Restaurant\, 196 Karl Hope Blvd\, Lackawaxen\, PA\, 18435
CATEGORIES:Live Music,Summit Restaurant
ATTACH;FMTTYPE=image/png:https://masthope.org/wp-content/uploads/sites/1856/2022/05/Picture2.png
END:VEVENT
END:VCALENDAR