BEGIN:VCALENDAR
VERSION:2.0
PRODID:-//Masthope Mountain Community - ECPv6.15.20//NONSGML v1.0//EN
CALSCALE:GREGORIAN
METHOD:PUBLISH
X-ORIGINAL-URL:https://masthope.org
X-WR-CALDESC:Events for Masthope Mountain Community
REFRESH-INTERVAL;VALUE=DURATION:PT1H
X-Robots-Tag:noindex
X-PUBLISHED-TTL:PT1H
BEGIN:VTIMEZONE
TZID:America/New_York
BEGIN:DAYLIGHT
TZOFFSETFROM:-0500
TZOFFSETTO:-0400
TZNAME:EDT
DTSTART:20240310T070000
END:DAYLIGHT
BEGIN:STANDARD
TZOFFSETFROM:-0400
TZOFFSETTO:-0500
TZNAME:EST
DTSTART:20241103T060000
END:STANDARD
BEGIN:DAYLIGHT
TZOFFSETFROM:-0500
TZOFFSETTO:-0400
TZNAME:EDT
DTSTART:20250309T070000
END:DAYLIGHT
BEGIN:STANDARD
TZOFFSETFROM:-0400
TZOFFSETTO:-0500
TZNAME:EST
DTSTART:20251102T060000
END:STANDARD
BEGIN:DAYLIGHT
TZOFFSETFROM:-0500
TZOFFSETTO:-0400
TZNAME:EDT
DTSTART:20260308T070000
END:DAYLIGHT
BEGIN:STANDARD
TZOFFSETFROM:-0400
TZOFFSETTO:-0500
TZNAME:EST
DTSTART:20261101T060000
END:STANDARD
END:VTIMEZONE
BEGIN:VEVENT
DTSTART;TZID=America/New_York:20250412T090000
DTEND;TZID=America/New_York:20250412T110000
DTSTAMP:20260422T183233
CREATED:20250407T172052Z
LAST-MODIFIED:20250407T172125Z
UID:10007576-1744448400-1744455600@masthope.org
SUMMARY:Early Easter Breakfast
DESCRIPTION:Join us for an early Easter Breakfast on April 12\, 2025! Breakfast begins at 9am. Children 12 and under: $12 / Adults: $15. Menu: Applewood Smoked Bacon | Breakfast Sausage | Scrambled Eggs | Shredded Hashbrowns | Pancakes | Orange Juice | Apple Juice | Coffee | Hot Tea \nClick here to buy tickets \nYour email confirmation will be your ticket to the event.
URL:https://masthope.org/event/breakfast-with-the-easter-bunny-2/
LOCATION:The Summit Restaurant\, 196 Karl Hope Blvd\, Lackawaxen\, PA\, 18435
CATEGORIES:Activities & Traditions,Social,Summit Restaurant
ATTACH;FMTTYPE=image/jpeg:https://masthope.org/wp-content/uploads/sites/1856/2023/02/Presentation1-1.jpg
END:VEVENT
BEGIN:VEVENT
DTSTART;TZID=America/New_York:20250412T110000
DTEND;TZID=America/New_York:20250412T130000
DTSTAMP:20260422T183233
CREATED:20250310T145438Z
LAST-MODIFIED:20250310T145438Z
UID:10007170-1744455600-1744462800@masthope.org
SUMMARY:Breakfast with the Easter Bunny
DESCRIPTION:Join us for breakfast with the bunny on April 12\, 2025! Breakfast begins at 11am; egg hunt begins at 12pm. Children 12 and under: $12 / Adults: $15. Menu: Applewood Smoked Bacon | Breakfast Sausage | Scrambled Eggs | Shredded Hashbrowns | Waffles | Orange Juice | Apple Juice | Coffee | Hot Tea \nClick here to buy tickets \nYour email confirmation will be your ticket to the event.
URL:https://masthope.org/event/breakfast-with-the-easter-bunny/
LOCATION:The Summit Restaurant\, 196 Karl Hope Blvd\, Lackawaxen\, PA\, 18435
CATEGORIES:Activities & Traditions,Social,Summit Restaurant
ATTACH;FMTTYPE=image/jpeg:https://masthope.org/wp-content/uploads/sites/1856/2023/02/Presentation1-1.jpg
END:VEVENT
BEGIN:VEVENT
DTSTART;TZID=America/New_York:20250412T130000
DTEND;TZID=America/New_York:20250412T160000
DTSTAMP:20260422T183233
CREATED:20250310T155145Z
LAST-MODIFIED:20250310T155145Z
UID:10007171-1744462800-1744473600@masthope.org
SUMMARY:Spring Fling
DESCRIPTION:Join us as we celebrate the start of warmer weather and longer days with family activities in the lodge! \n1pm – Family Scavenger Hunt / 2pm – Family Bingo / 3pm – Masthope Family Trivia
URL:https://masthope.org/event/spring-fling/
LOCATION:The Lodge at Masthope\, 196 Karl Hope Blvd\, Lackawaxen\, PA\, 18435\, United States
CATEGORIES:Activities & Traditions,Social,Summit Restaurant
ATTACH;FMTTYPE=image/jpeg:https://masthope.org/wp-content/uploads/sites/1856/2024/03/Slide1.jpg
END:VEVENT
BEGIN:VEVENT
DTSTART;TZID=America/New_York:20250412T190000
DTEND;TZID=America/New_York:20250412T220000
DTSTAMP:20260422T183233
CREATED:20250310T155235Z
LAST-MODIFIED:20250310T155235Z
UID:10007172-1744484400-1744495200@masthope.org
SUMMARY:Decades Dance
DESCRIPTION:Join us at the Summit Restaurant as we dance through the decades! Come dressed in your favorite attire from the Roaring 20s\, Warring 40s\, and Swinging 60s. Prizes will be awarded for best couple and group costume.
URL:https://masthope.org/event/decades-dance-2/
LOCATION:The Summit Restaurant\, 196 Karl Hope Blvd\, Lackawaxen\, PA\, 18435
CATEGORIES:Activities & Traditions,Summit Restaurant
ATTACH;FMTTYPE=image/jpeg:https://masthope.org/wp-content/uploads/sites/1856/2024/04/Slide2.jpg
END:VEVENT
END:VCALENDAR